BEGIN:VCALENDAR
VERSION:2.0
PRODID:-//uwnu.org//NONSGML kigkonsult.se iCalcreator 2.30.10//
CALSCALE:GREGORIAN
METHOD:PUBLISH
UID:091e234d-de6d-42a2-baa1-662054f3154d
X-WR-CALDESC:
X-WR-RELCALID:e733776455a338a6000429138b9fdbf3
X-WR-TIMEZONE:America/Denver
BEGIN:VTIMEZONE
TZID:America/Denver
BEGIN:STANDARD
TZNAME:MST
DTSTART:20231105T020000
TZOFFSETFROM:-0600
TZOFFSETTO:-0700
RDATE:20241103T020000
RDATE:20251102T020000
END:STANDARD
BEGIN:DAYLIGHT
TZNAME:MDT
DTSTART:20240310T020000
TZOFFSETFROM:-0700
TZOFFSETTO:-0600
RDATE:20250309T020000
RDATE:20260308T020000
END:DAYLIGHT
END:VTIMEZONE
BEGIN:VEVENT
UID:1e10dd62-3c9a-436f-b9a5-56ee84ddfa59
DTSTAMP:20260426T010846Z
DESCRIPTION:
DTSTART;TZID=America/Denver:20240920T180000
DTEND;TZID=America/Denver:20240920T210000
LOCATION:455 25th Street\, Ogden\, UT 84401 US
SUMMARY:Youth Impact Gatsby Casino Night
END:VEVENT
END:VCALENDAR
