BEGIN:VCALENDAR
VERSION:2.0
PRODID:-//uwnu.org//NONSGML kigkonsult.se iCalcreator 2.30.10//
CALSCALE:GREGORIAN
METHOD:PUBLISH
UID:e26e2213-c7bc-42a3-a46b-99d10bfef1d1
X-WR-CALDESC:All ages - $7/members\, $10/non-members (bring extra $ for foo
 d trucks)\n\nJoin us for a non-spooky Halloween adventure. The night is pa
 cked with trailside adventures including games\, campfire stories\, live o
 wl and snake presentations\, crafts\, a spider web crawl and a crepuscular
  creep where you’ll meet our naturalists educators dressed up as Creatures
  of the Night — each with a tale to tell. Pay at entry.\n\n***Please Note:
  The railroad crossing on 12th Street will be closed from 9 pm Friday thro
 ugh Monday morning. For those attending Creatures of the Night on Saturday
 \, please plan an alternate route. You can travel to I-15 and take the 12t
 h Street exit to get to the Nature Center from the West.***
X-WR-RELCALID:ef473a698415ef62c6519c8e24753f60
X-WR-TIMEZONE:America/Denver
BEGIN:VTIMEZONE
TZID:America/Denver
BEGIN:STANDARD
TZNAME:MST
DTSTART:20231105T020000
TZOFFSETFROM:-0600
TZOFFSETTO:-0700
RDATE:20241103T020000
RDATE:20251102T020000
END:STANDARD
BEGIN:DAYLIGHT
TZNAME:MDT
DTSTART:20240310T020000
TZOFFSETFROM:-0700
TZOFFSETTO:-0600
RDATE:20250309T020000
RDATE:20260308T020000
END:DAYLIGHT
END:VTIMEZONE
BEGIN:VEVENT
UID:1f933d9f-f7b6-469f-9e35-6c068f91ad12
DTSTAMP:20260420T044038Z
DESCRIPTION:All ages - $7/members\, $10/non-members (bring extra $ for food
  trucks)\n\nJoin us for a non-spooky Halloween adventure. The night is pac
 ked with trailside adventures including games\, campfire stories\, live ow
 l and snake presentations\, crafts\, a spider web crawl and a crepuscular 
 creep where you’ll meet our naturalists educators dressed up as Creatures 
 of the Night — each with a tale to tell. Pay at entry.\n\n***Please Note: 
 The railroad crossing on 12th Street will be closed from 9 pm Friday throu
 gh Monday morning. For those attending Creatures of the Night on Saturday\
 , please plan an alternate route. You can travel to I-15 and take the 12th
  Street exit to get to the Nature Center from the West.***
DTSTART;TZID=America/Denver:20241019T170000
DTEND;TZID=America/Denver:20241019T203000
LOCATION:Ogden Nature Center\,  966 W 12th St\, Ogden\, UT 84404 US
SUMMARY:Ogden Nature Center Creatures of the Night - Saturday
END:VEVENT
END:VCALENDAR
