BEGIN:VCALENDAR
VERSION:2.0
PRODID:-//uwnu.org//NONSGML kigkonsult.se iCalcreator 2.30.10//
CALSCALE:GREGORIAN
METHOD:PUBLISH
UID:095c248b-da81-41c5-9f71-7c8f37f18131
X-WR-CALDESC:A suite of evidence-based relationship enhancement workshops. 
 This second workshop covers rebuilding friendships\, managing insecurities
 \, and maintaining relationship growth. Please join even if you weren't ab
 le to join the first workshop!
X-WR-RELCALID:d6f2ebaf918e9fdd08231838d817a50c
X-WR-TIMEZONE:America/Denver
BEGIN:VTIMEZONE
TZID:America/Denver
BEGIN:STANDARD
TZNAME:MST
DTSTART:20241103T020000
TZOFFSETFROM:-0600
TZOFFSETTO:-0700
RDATE:20251102T020000
END:STANDARD
BEGIN:DAYLIGHT
TZNAME:MDT
DTSTART:20240310T020000
TZOFFSETFROM:-0700
TZOFFSETTO:-0600
RDATE:20250309T020000
RDATE:20260308T020000
END:DAYLIGHT
END:VTIMEZONE
BEGIN:VEVENT
UID:f4698dcb-d88a-4d4b-8ad9-7ed1b4b2405c
DTSTAMP:20260421T042522Z
DESCRIPTION:A suite of evidence-based relationship enhancement workshops. T
 his second workshop covers rebuilding friendships\, managing insecurities\
 , and maintaining relationship growth. Please join even if you weren't abl
 e to join the first workshop!
DTSTART;TZID=America/Denver:20241123T090000
DTEND;TZID=America/Denver:20241123T120000
LOCATION:Aspire Counseling Network - Draper Lone Peak\, 121 W Election Rd S
 te 110\, Draper\, UT 84020 US
SUMMARY:Doing The Work (DTW) Couples Workshops
END:VEVENT
END:VCALENDAR
