BEGIN:VCALENDAR
VERSION:2.0
PRODID:-//uwnu.org//NONSGML kigkonsult.se iCalcreator 2.30.10//
CALSCALE:GREGORIAN
METHOD:PUBLISH
UID:4edcb003-73e8-4a49-a40d-13289e6806a5
X-WR-CALDESC:Wait\, what??? Yep! A Drop in Jewelry Bar. Stop by and pick ou
 t parts for a unique custom made ring OR vintage silver spoon ring.\nWhat:
 \nRene will be offering his drop in ring bar. Stop by and pick out parts f
 or a unique custom made ring. First pick out a stone\, size of ring\, then
  the bezel (metal that holds the stone)\, and then pick your silver band s
 tyle. OR  choose from a wide variety of spoon handles for a custom spoon r
 ing.\nAfter all are chosen\, 16th generation silversmith\, Rene\, will cre
 ate your ring while you shop. Ring will be ready in less than 30 minutes a
 nd customers will be given a ring box to keep this keepsake in.\n\nCost:\n
 Prices start at about $60+  and will vary depending on what options you ch
 oose.\n\nAges:\nOpen to anyone that wants a ring.\n\nWhen:\nDuring Art Str
 oll\, Friday\, November 7 from 6:00pm–9pm\n\nHow To Register:\nNo need for
  reservations\, just drop in while shopping during art stroll.\n\nAbout Th
 e Jeweler:\nThe ring will be made by Rene Venegas\, a 16th generation silv
 ersmith. His family was one of the first to arrive from Spain to the Ameri
 cas. His ancestor\, Felipe Venegas\, was the silversmith for the early cat
 hedrals in the Dominican Republic and stamped the first European coins in 
 the New World.  He has been making jewelry since he was a child in his fat
 her’s silver shop in Bogota\, Colombia and has been teaching jewelry and s
 ilversmithing classes at Weber State for 15 years. In addition\, he has be
 en featured in The Standard Examiner\, The Signpost\, KUTV Inside the Stor
 y\,  FOX13 Good Morning Utah\, The Salt Project and KTVX Good Things Utah.
 \n\nVenue:   The Local Artisan Collective\n\nVenue Phone: (801) 399-2787\n
 \nVenue Website: https://localartisancollective.com/event-calendar/\n\nAdd
 ress:\n2371 Kiesel Ave.\, Ogden\, Utah\, 84404\, United States\n\nDescript
 ion:\n\nThe Local Artisan Collective in Ogden\, Utah\, is a hub for local 
 artisans to showcase and sell their handmade goods\, including jewelry\, a
 rt\, and home decor. It promotes community engagement through workshops an
 d classes\, making it a key destination for supporting local creativity an
 d finding unique items.
X-WR-RELCALID:a7b6891d0aa8a9bfcd8450b9f5b39561
X-WR-TIMEZONE:America/Denver
BEGIN:VTIMEZONE
TZID:America/Denver
BEGIN:STANDARD
TZNAME:MST
DTSTART:20251102T020000
TZOFFSETFROM:-0600
TZOFFSETTO:-0700
RDATE:20261101T020000
END:STANDARD
BEGIN:DAYLIGHT
TZNAME:MDT
DTSTART:20250309T020000
TZOFFSETFROM:-0700
TZOFFSETTO:-0600
RDATE:20260308T020000
RDATE:20270314T020000
END:DAYLIGHT
END:VTIMEZONE
BEGIN:VEVENT
UID:959ab99f-1875-4c5d-83dc-bdd8b8cc99fb
DTSTAMP:20260422T140444Z
DESCRIPTION:Wait\, what??? Yep! A Drop in Jewelry Bar. Stop by and pick out
  parts for a unique custom made ring OR vintage silver spoon ring.\nWhat:
 \nRene will be offering his drop in ring bar. Stop by and pick out parts f
 or a unique custom made ring. First pick out a stone\, size of ring\, then
  the bezel (metal that holds the stone)\, and then pick your silver band s
 tyle. OR  choose from a wide variety of spoon handles for a custom spoon r
 ing.\nAfter all are chosen\, 16th generation silversmith\, Rene\, will cre
 ate your ring while you shop. Ring will be ready in less than 30 minutes a
 nd customers will be given a ring box to keep this keepsake in.\n\nCost:\n
 Prices start at about $60+  and will vary depending on what options you ch
 oose.\n\nAges:\nOpen to anyone that wants a ring.\n\nWhen:\nDuring Art Str
 oll\, Friday\, November 7 from 6:00pm–9pm\n\nHow To Register:\nNo need for
  reservations\, just drop in while shopping during art stroll.\n\nAbout Th
 e Jeweler:\nThe ring will be made by Rene Venegas\, a 16th generation silv
 ersmith. His family was one of the first to arrive from Spain to the Ameri
 cas. His ancestor\, Felipe Venegas\, was the silversmith for the early cat
 hedrals in the Dominican Republic and stamped the first European coins in 
 the New World.  He has been making jewelry since he was a child in his fat
 her’s silver shop in Bogota\, Colombia and has been teaching jewelry and s
 ilversmithing classes at Weber State for 15 years. In addition\, he has be
 en featured in The Standard Examiner\, The Signpost\, KUTV Inside the Stor
 y\,  FOX13 Good Morning Utah\, The Salt Project and KTVX Good Things Utah.
 \n\nVenue:   The Local Artisan Collective\n\nVenue Phone: (801) 399-2787\n
 \nVenue Website: https://localartisancollective.com/event-calendar/\n\nAdd
 ress:\n2371 Kiesel Ave.\, Ogden\, Utah\, 84404\, United States\n\nDescript
 ion:\n\nThe Local Artisan Collective in Ogden\, Utah\, is a hub for local 
 artisans to showcase and sell their handmade goods\, including jewelry\, a
 rt\, and home decor. It promotes community engagement through workshops an
 d classes\, making it a key destination for supporting local creativity an
 d finding unique items.
DTSTART;TZID=America/Denver:20251107T180000
DTEND;TZID=America/Denver:20251107T210000
LOCATION:The Local Artisan Collective\, 2371 Kiesel Ave.\, Ogden\, UT 84403
  US
SUMMARY:Drop In Ring Bar & Design Your Own Sterling Silver ring OR Silver S
 poon ring\, Fri Nov 7\, 6:00pm — 9pm (With Rene Venegas in Classroom A\, p
 rices vary)
END:VEVENT
END:VCALENDAR
