BEGIN:VCALENDAR
VERSION:2.0
PRODID:-//uwnu.org//NONSGML kigkonsult.se iCalcreator 2.30.10//
CALSCALE:GREGORIAN
METHOD:PUBLISH
UID:54cfcc22-1d08-4429-991a-1acf0efb6aa7
X-WR-CALDESC:Calling all jewelry lovers! Our most popular class\, Silver Ba
 nd/Ring Making\, is back and better than ever!  And perfect for summer mem
 ories!! \n\nWhat:\nLearn the basics of silver jewelry making\, including s
 haping\, and polishing. In this class\, you’ll learn how to make your own 
 unique silver ring from scratch. You’ll start by finding your ring size. W
 e will cut a piece of silver that will become your ring. Then\, you’ll use
  a variety of tools to shape\, add texture. Finally\, you’ll polish your r
 ing to a beautiful shine.  We will provide a jewelry box to treasure your 
 ring in.  And while we work\, we will provide some treats.  If desired\, o
 ne can add a small cabochon stone at the end for extra money.\n\nHave fun 
 and make lasting memories with friends.\n\nNo experience is necessary\, so
  everyone is welcome. Our experienced instructor will guide you every step
  of the way.\n\nA private class is also available. Please inquire.\n\nCost
 :\n$45 per person\n\nAges:\n16+. Younger kids can attend if accompanied by
  an adult.\n\nWhen:\nSaturday\, November 8 at 10am\n\nWhere:\nClasses are 
 taught at The Local Artisan Collective\, located at 2371 Kiesel Ave in dow
 n town Ogden\, just a little south of the Megaplex.\n\nHow to Register and
  Cancelation Policy:\nThis class usually sells out\, so we highly recommen
 d signing up ASAP.  You can register for the class at our shop or online a
 t www.localartisancollective.com/event-calendar (below). No refunds for ca
 nceling less than 7 days before the class begins\n\nCall/text 801-686-5351
  for more information.\n\nAbout the Instructor:\nThis class will be taught
  by Rene Venegas\, a 16th generation silversmith. His family was one of th
 e first to arrive from Spain to the Americas. His ancestor\, Felipe Venega
 s\, was the silversmith for the early cathedrals in the Dominican Republic
  and stamped the first European coins in the New World.  He has been teach
 ing jewelry and silversmithing classes at Weber State for 15 years. In add
 ition\, he has been featured in The Standard Examiner\, The Signpost\, KUT
 V Inside the Story\,  FOX13 Good Morning Utah\, The Salt Project and KTVX 
 Good Things Utah.\n\n \n\nVenue:   The Local Artisan Collective\n\nVenue P
 hone: (801) 399-2787\n\nVenue Website: https://localartisancollective.com/
 event-calendar/\n\nAddress:\n2371 Kiesel Ave.\, Ogden\, Utah\, 84404\, Uni
 ted States\n\nDescription:\n\nThe Local Artisan Collective in Ogden\, Utah
 \, is a hub for local artisans to showcase and sell their handmade goods\,
  including jewelry\, art\, and home decor. It promotes community engagemen
 t through workshops and classes\, making it a key destination for supporti
 ng local creativity and finding unique items.
X-WR-RELCALID:449e1afd2772341a206a794fe98e074a
X-WR-TIMEZONE:America/Denver
BEGIN:VTIMEZONE
TZID:America/Denver
BEGIN:STANDARD
TZNAME:MST
DTSTART:20251102T020000
TZOFFSETFROM:-0600
TZOFFSETTO:-0700
RDATE:20261101T020000
END:STANDARD
BEGIN:DAYLIGHT
TZNAME:MDT
DTSTART:20250309T020000
TZOFFSETFROM:-0700
TZOFFSETTO:-0600
RDATE:20260308T020000
RDATE:20270314T020000
END:DAYLIGHT
END:VTIMEZONE
BEGIN:VEVENT
UID:3febca75-981a-4eb6-975f-591a6c566e9b
DTSTAMP:20260422T134730Z
DESCRIPTION:Calling all jewelry lovers! Our most popular class\, Silver Ban
 d/Ring Making\, is back and better than ever!  And perfect for summer memo
 ries!! \n\nWhat:\nLearn the basics of silver jewelry making\, including sh
 aping\, and polishing. In this class\, you’ll learn how to make your own u
 nique silver ring from scratch. You’ll start by finding your ring size. We
  will cut a piece of silver that will become your ring. Then\, you’ll use 
 a variety of tools to shape\, add texture. Finally\, you’ll polish your ri
 ng to a beautiful shine.  We will provide a jewelry box to treasure your r
 ing in.  And while we work\, we will provide some treats.  If desired\, on
 e can add a small cabochon stone at the end for extra money.\n\nHave fun a
 nd make lasting memories with friends.\n\nNo experience is necessary\, so 
 everyone is welcome. Our experienced instructor will guide you every step 
 of the way.\n\nA private class is also available. Please inquire.\n\nCost:
 \n$45 per person\n\nAges:\n16+. Younger kids can attend if accompanied by 
 an adult.\n\nWhen:\nSaturday\, November 8 at 10am\n\nWhere:\nClasses are t
 aught at The Local Artisan Collective\, located at 2371 Kiesel Ave in down
  town Ogden\, just a little south of the Megaplex.\n\nHow to Register and 
 Cancelation Policy:\nThis class usually sells out\, so we highly recommend
  signing up ASAP.  You can register for the class at our shop or online at
  www.localartisancollective.com/event-calendar (below). No refunds for can
 celing less than 7 days before the class begins\n\nCall/text 801-686-5351 
 for more information.\n\nAbout the Instructor:\nThis class will be taught 
 by Rene Venegas\, a 16th generation silversmith. His family was one of the
  first to arrive from Spain to the Americas. His ancestor\, Felipe Venegas
 \, was the silversmith for the early cathedrals in the Dominican Republic 
 and stamped the first European coins in the New World.  He has been teachi
 ng jewelry and silversmithing classes at Weber State for 15 years. In addi
 tion\, he has been featured in The Standard Examiner\, The Signpost\, KUTV
  Inside the Story\,  FOX13 Good Morning Utah\, The Salt Project and KTVX G
 ood Things Utah.\n\n \n\nVenue:   The Local Artisan Collective\n\nVenue Ph
 one: (801) 399-2787\n\nVenue Website: https://localartisancollective.com/e
 vent-calendar/\n\nAddress:\n2371 Kiesel Ave.\, Ogden\, Utah\, 84404\, Unit
 ed States\n\nDescription:\n\nThe Local Artisan Collective in Ogden\, Utah\
 , is a hub for local artisans to showcase and sell their handmade goods\, 
 including jewelry\, art\, and home decor. It promotes community engagement
  through workshops and classes\, making it a key destination for supportin
 g local creativity and finding unique items.
DTSTART;TZID=America/Denver:20251108T100000
DTEND;TZID=America/Denver:20251108T120000
LOCATION:The Local Artisan Collective\, 2371 Kiesel Ave.\, Ogden\, UT 84403
  US
SUMMARY:Silver Band Ring Class\, Sat Nov 8 at 10am (Taught by Rene in class
 room A & B\, $45)
END:VEVENT
END:VCALENDAR
