BEGIN:VCALENDAR
VERSION:2.0
PRODID:-//uwnu.org//NONSGML kigkonsult.se iCalcreator 2.30.10//
CALSCALE:GREGORIAN
METHOD:PUBLISH
UID:f5dd495b-d8c0-411b-9e9e-2c6e38dab9f2
X-WR-CALDESC:Don’t throw out broken jewelry and clothes with holes!  We got
  you.\n\nWhat:\nStop by our shop and meet with our jeweler for the followi
 ng repairs:\n1. Lose a stone in your favorite ring\, earring\, necklace or
  bracelet? Bring in your silver\, gold\, brass or copper jewelry or home d
 écor items to be repaired for you by Rene.\n2. Beaded necklace break\, no 
 problem we can restring your beads and pearls.\n3. Resize rings\n4. Tighte
 n prongs\n5. He can possibly make a replica of an earring so you have a fu
 ll pair again\n6. And other jewelry repairs\n\nRene’s wife\, Jenny\, will 
 also be in to mend clothing. She can help you with the following:\n1. Darn
  holes in socks\n2. patch holes in pants and jeans\n3. put a button back o
 n and other basic mending needs\n\nTalk to our artists in person and learn
  how we\, or other artists\, can help you.\n\nCost:\nPrices will vary depe
 nding on what repairs are needed to be done.\n\nWhen:\nEvery Wednesday 12-
 7pm\n2nd Saturdays 12-2:30pm\n1st and 3rd Fridays of each month 5–7pm.\nIn
  addition\, they is also by appointment on other days and times.  For appo
 intments\, please call/text 801-686-5351.\nYou can also drop of the item(s
 ) that need to be fixed and our jeweler will get back to you on pricing an
 d options.\nWhere:\nFix-It Days are at The Local Artisan Collective\, loca
 ted at 2371 Kiesel Ave in down town Ogden\, just a little south of the Meg
 aplex.\n\nHow To Register:\nNo need to register a head of time\, just stop
  by anytime between 12noon–2pm.  Some repairs can be made while you wait w
 hile others may take a few days.\n\nAbout The Jeweler:\nRepairs will be ma
 de by Rene Venegas\, a 16th generation silversmith. His family was one of 
 the first to arrive from Spain to the Americas. His ancestor\, Felipe Vene
 gas\, was the silversmith for the early cathedrals in the Dominican Republ
 ic and stamped the first European coins in the New World.  He has been mak
 ing jewelry since he was a child in his father’s silver shop in Bogota\, C
 olombia and has been teaching jewelry and silversmithing classes at Weber 
 State for 15 years. In addition\, he has been featured in The Standard Exa
 miner\, The Signpost\, KUTV Inside the Story\,  FOX13 Good Morning Utah\, 
 The Salt Project and KTVX Good Things Utah.\n\nAbout The Seamstress:\nJenn
 y Venegas has always found joy in learning and creating through what many 
 refer to as “domestic arts” — sewing\, quilting\, canning\, and embroidery
 \, to name a few. After taking a break from her creative endeavors for man
 y years\, she’s gradually returned to her roots with her brand\, Aunt GG’s
  which is inspired by her Great-Aunts Grace and Glady.  Jenny creates comf
 orting handmade goods for the kitchen\, home and patio.\n\nVenue:   The Lo
 cal Artisan Collective\n\nVenue Phone: (801) 399-2787\n\nVenue Website: ht
 tps://localartisancollective.com/event-calendar/\n\nAddress:\n2371 Kiesel 
 Ave.\, Ogden\, Utah\, 84404\, United States\n\nDescription:\n\nThe Local A
 rtisan Collective in Ogden\, Utah\, is a hub for local artisans to showcas
 e and sell their handmade goods\, including jewelry\, art\, and home decor
 . It promotes community engagement through workshops and classes\, making 
 it a key destination for supporting local creativity and finding unique it
 ems.
X-WR-RELCALID:4acd36f9b0372782f524cb91c957bbfc
X-WR-TIMEZONE:America/Denver
BEGIN:VTIMEZONE
TZID:America/Denver
BEGIN:STANDARD
TZNAME:MST
DTSTART:20251102T020000
TZOFFSETFROM:-0600
TZOFFSETTO:-0700
RDATE:20261101T020000
END:STANDARD
BEGIN:DAYLIGHT
TZNAME:MDT
DTSTART:20250309T020000
TZOFFSETFROM:-0700
TZOFFSETTO:-0600
RDATE:20260308T020000
RDATE:20270314T020000
END:DAYLIGHT
END:VTIMEZONE
BEGIN:VEVENT
UID:a3ff258b-0786-4cfc-8ea0-50cbd36fae80
DTSTAMP:20260422T140644Z
DESCRIPTION:Don’t throw out broken jewelry and clothes with holes!  We got 
 you.\n\nWhat:\nStop by our shop and meet with our jeweler for the followin
 g repairs:\n1. Lose a stone in your favorite ring\, earring\, necklace or 
 bracelet? Bring in your silver\, gold\, brass or copper jewelry or home dé
 cor items to be repaired for you by Rene.\n2. Beaded necklace break\, no p
 roblem we can restring your beads and pearls.\n3. Resize rings\n4. Tighten
  prongs\n5. He can possibly make a replica of an earring so you have a ful
 l pair again\n6. And other jewelry repairs\n\nRene’s wife\, Jenny\, will a
 lso be in to mend clothing. She can help you with the following:\n1. Darn 
 holes in socks\n2. patch holes in pants and jeans\n3. put a button back on
  and other basic mending needs\n\nTalk to our artists in person and learn 
 how we\, or other artists\, can help you.\n\nCost:\nPrices will vary depen
 ding on what repairs are needed to be done.\n\nWhen:\nEvery Wednesday 12-7
 pm\n2nd Saturdays 12-2:30pm\n1st and 3rd Fridays of each month 5–7pm.\nIn 
 addition\, they is also by appointment on other days and times.  For appoi
 ntments\, please call/text 801-686-5351.\nYou can also drop of the item(s)
  that need to be fixed and our jeweler will get back to you on pricing and
  options.\nWhere:\nFix-It Days are at The Local Artisan Collective\, locat
 ed at 2371 Kiesel Ave in down town Ogden\, just a little south of the Mega
 plex.\n\nHow To Register:\nNo need to register a head of time\, just stop 
 by anytime between 12noon–2pm.  Some repairs can be made while you wait wh
 ile others may take a few days.\n\nAbout The Jeweler:\nRepairs will be mad
 e by Rene Venegas\, a 16th generation silversmith. His family was one of t
 he first to arrive from Spain to the Americas. His ancestor\, Felipe Veneg
 as\, was the silversmith for the early cathedrals in the Dominican Republi
 c and stamped the first European coins in the New World.  He has been maki
 ng jewelry since he was a child in his father’s silver shop in Bogota\, Co
 lombia and has been teaching jewelry and silversmithing classes at Weber S
 tate for 15 years. In addition\, he has been featured in The Standard Exam
 iner\, The Signpost\, KUTV Inside the Story\,  FOX13 Good Morning Utah\, T
 he Salt Project and KTVX Good Things Utah.\n\nAbout The Seamstress:\nJenny
  Venegas has always found joy in learning and creating through what many r
 efer to as “domestic arts” — sewing\, quilting\, canning\, and embroidery\
 , to name a few. After taking a break from her creative endeavors for many
  years\, she’s gradually returned to her roots with her brand\, Aunt GG’s 
 which is inspired by her Great-Aunts Grace and Glady.  Jenny creates comfo
 rting handmade goods for the kitchen\, home and patio.\n\nVenue:   The Loc
 al Artisan Collective\n\nVenue Phone: (801) 399-2787\n\nVenue Website: htt
 ps://localartisancollective.com/event-calendar/\n\nAddress:\n2371 Kiesel A
 ve.\, Ogden\, Utah\, 84404\, United States\n\nDescription:\n\nThe Local Ar
 tisan Collective in Ogden\, Utah\, is a hub for local artisans to showcase
  and sell their handmade goods\, including jewelry\, art\, and home decor.
  It promotes community engagement through workshops and classes\, making i
 t a key destination for supporting local creativity and finding unique ite
 ms.
DTSTART;TZID=America/Denver:20251112T120000
DTEND;TZID=America/Denver:20251112T190000
LOCATION:2371 Kiesel Ave.\, Ogden\, UT 84403 US
SUMMARY:Fix It Day Jewelry and Clothing Mending Repairs Done By 16th Genera
 tion Silversmith Rene and his wife Jenny\, Every Wednesday 12:00pm To 7:00
 pm (with Rene and Jenny in Classroom A\, Prices Vary
END:VEVENT
END:VCALENDAR
