BEGIN:VCALENDAR
VERSION:2.0
PRODID:-//uwnu.org//NONSGML kigkonsult.se iCalcreator 2.30.10//
CALSCALE:GREGORIAN
METHOD:PUBLISH
UID:95451535-ef5b-4164-bc3e-3c6d544b14b2
X-WR-CALDESC:🍕Meet the Neighbors: Taboo Pizza + The Local Artisan Collectiv
 e 🍷nJoin us for a night of creativity\, laughter\, and deliciousness! The 
 Local Artisan Collective and Taboo Pizza are teaming up for a special “Mee
 t the Neighbors” event where art meets appetite.\n🎨You’ll get to create yo
 ur own etched glass — choose from a beer mug\, cup\, or wine glass and per
 sonalize it. We’ll have plenty of sassy (and maybe a little naughty!) sayi
 ng options to make it extra fun.\n🍕Then\, take your art skills next door a
 nd your appetite to Taboo Pizza with a $30 gift card included in your clas
 s! Use it after class (or save it for another day) to enjoy their incredib
 le pizza\, sandwiches\, salads\, and more.\nThe whole experience is a $50 
 value for only $30!\n📍aboo Pizza:\n317 Washington Blvd.\, Ogden\n📍The Loca
 l Artisan Collective:\n2371 Kiesel Ave.\, Ogden\nCome hungry for creativit
 y\, good food\, and great company!\nThere are 5 dates to choose from:\nFri
 day\, November 14th from 8:00pm to 9:30 pm\n\nFriday\, November 21st from 
 2:30pm  to 4:00pm OR 4:30pm to 6:00pm\n\nFriday\, November 28th from 10:00
 am to 11:30am OR 12:00pm to 1:30pm\n\nAges:\nAdults\n\nTaught by:\nStephan
 ie Howerton from Our Children’s Earth
X-WR-RELCALID:53e8ec6c8a5d8f6ae0ad7ae0167b8821
X-WR-TIMEZONE:America/Denver
BEGIN:VTIMEZONE
TZID:America/Denver
BEGIN:STANDARD
TZNAME:MST
DTSTART:20251102T020000
TZOFFSETFROM:-0600
TZOFFSETTO:-0700
RDATE:20261101T020000
END:STANDARD
BEGIN:DAYLIGHT
TZNAME:MDT
DTSTART:20250309T020000
TZOFFSETFROM:-0700
TZOFFSETTO:-0600
RDATE:20260308T020000
RDATE:20270314T020000
END:DAYLIGHT
END:VTIMEZONE
BEGIN:VEVENT
UID:bfd11842-e606-4129-8b87-389792c3f79b
DTSTAMP:20260422T140909Z
DESCRIPTION:🍕Meet the Neighbors: Taboo Pizza + The Local Artisan Collective
  🍷nJoin us for a night of creativity\, laughter\, and deliciousness! The L
 ocal Artisan Collective and Taboo Pizza are teaming up for a special “Meet
  the Neighbors” event where art meets appetite.\n🎨You’ll get to create you
 r own etched glass — choose from a beer mug\, cup\, or wine glass and pers
 onalize it. We’ll have plenty of sassy (and maybe a little naughty!) sayin
 g options to make it extra fun.\n🍕Then\, take your art skills next door an
 d your appetite to Taboo Pizza with a $30 gift card included in your class
 ! Use it after class (or save it for another day) to enjoy their incredibl
 e pizza\, sandwiches\, salads\, and more.\nThe whole experience is a $50 v
 alue for only $30!\n📍aboo Pizza:\n317 Washington Blvd.\, Ogden\n📍The Local
  Artisan Collective:\n2371 Kiesel Ave.\, Ogden\nCome hungry for creativity
 \, good food\, and great company!\nThere are 5 dates to choose from:\nFrid
 ay\, November 14th from 8:00pm to 9:30 pm\n\nFriday\, November 21st from 2
 :30pm  to 4:00pm OR 4:30pm to 6:00pm\n\nFriday\, November 28th from 10:00a
 m to 11:30am OR 12:00pm to 1:30pm\n\nAges:\nAdults\n\nTaught by:\nStephani
 e Howerton from Our Children’s Earth
DTSTART;TZID=America/Denver:20251114T200000
DTEND;TZID=America/Denver:20251114T213000
LOCATION:Local Artisan Collective + Taboo Pizza\, 2371 Kiesel Ave.\, Ogden\
 , UT 84403 US
SUMMARY:Meet the Neighbors: Taboo Pizza + The Local Artisan Collective on F
 riday\, November 14th 8:00 to 9:30 (Taught by Stephanie\, Classroom A and 
 B\, $30)
END:VEVENT
END:VCALENDAR
