BEGIN:VCALENDAR
VERSION:2.0
PRODID:-//uwnu.org//NONSGML kigkonsult.se iCalcreator 2.30.10//
CALSCALE:GREGORIAN
METHOD:PUBLISH
UID:3bc4f720-b64d-4dd1-a7dc-83e5104d7a5f
X-WR-CALDESC:Sleep in\, it’s Black Friday.  Or run to the big box stores ea
 rly.  Either way\, when the afternoon rolls around\, saunter on down becua
 se you’re invited to join with our annual tradition of making copper ornam
 ents.\nWhat\nWe’ll be using simple tools and techniques to create beautifu
 l and unique ornaments that you can cherish throughout your life. This cla
 ss is family friendly for all ages.\nNo experience is necessary\, and all 
 materials will be provided. Just bring your imagination and your willingne
 ss to have some fun!\nHere are some ideas for the kinds of ornaments we’ll
  be making\nStars\nHearts\nAngels\nBells\nTrees\nAnd more!\nExtra ornament
 s can be made during class for $9/each.\nWhen\nSaturday\, November 15 from
  12noon — 7pm\nAges\nOpen to all family members. Children under 10 will ne
 ed help from an adult.\n\nHow to Sign Up and Cancelation:\nNo need to sign
  up. Just drop in and create with us.\n\nWhere\nClass will be held at The 
 Local Artisan Collective located in downtown Ogden at 2371 Kiesel Ave\, Og
 den.\nAbout the instructor:\nRene Venegas is a 16th generation silversmith
 . His family was one of the first to arrive from Spain to the Americas. Hi
 s ancestor\, Felipe Venegas\, was the silversmith for the early cathedrals
  in the Dominican Republic and stamped the first European coins in the New
  World. He has been teaching jewelry and silversmithing classes at Weber S
 tate for 15 years. In addition\, he has been featured in The Standard Exam
 iner\, The Signpost\, KUTV Inside the Story\, FOX13 Good Morning Utah\, Th
 e Salt Project and KTVX Good Things Utah.\nCall/text 801-686-5351 for more
  information. You can register for the class at our shop or online below. 
 You can also drop in during Art Stroll though we highly recommend pre-regi
 stering.\nVenue:   The Local Artisan Collective\n\nVenue Phone: (801) 399-
 2787\n\nVenue Website: https://localartisancollective.com/event-calendar/
 \n\nAddress:\n2371 Kiesel Ave.\, Ogden\, Utah\, 84404\, United States\n\nD
 escription:\n\nThe Local Artisan Collective in Ogden\, Utah\, is a hub for
  local artisans to showcase and sell their handmade goods\, including jewe
 lry\, art\, and home decor. It promotes community engagement through works
 hops and classes\, making it a key destination for supporting local creati
 vity and finding unique items.
X-WR-RELCALID:9726cef8f958c5b9bfe544720d294225
X-WR-TIMEZONE:America/Denver
BEGIN:VTIMEZONE
TZID:America/Denver
BEGIN:STANDARD
TZNAME:MST
DTSTART:20251102T020000
TZOFFSETFROM:-0600
TZOFFSETTO:-0700
RDATE:20261101T020000
END:STANDARD
BEGIN:DAYLIGHT
TZNAME:MDT
DTSTART:20250309T020000
TZOFFSETFROM:-0700
TZOFFSETTO:-0600
RDATE:20260308T020000
RDATE:20270314T020000
END:DAYLIGHT
END:VTIMEZONE
BEGIN:VEVENT
UID:fa562477-fc51-4cdf-b7da-fec1beebc20b
DTSTAMP:20260422T135433Z
DESCRIPTION:Sleep in\, it’s Black Friday.  Or run to the big box stores ear
 ly.  Either way\, when the afternoon rolls around\, saunter on down becuas
 e you’re invited to join with our annual tradition of making copper orname
 nts.\nWhat\nWe’ll be using simple tools and techniques to create beautiful
  and unique ornaments that you can cherish throughout your life. This clas
 s is family friendly for all ages.\nNo experience is necessary\, and all m
 aterials will be provided. Just bring your imagination and your willingnes
 s to have some fun!\nHere are some ideas for the kinds of ornaments we’ll 
 be making\nStars\nHearts\nAngels\nBells\nTrees\nAnd more!\nExtra ornaments
  can be made during class for $9/each.\nWhen\nSaturday\, November 15 from 
 12noon — 7pm\nAges\nOpen to all family members. Children under 10 will nee
 d help from an adult.\n\nHow to Sign Up and Cancelation:\nNo need to sign 
 up. Just drop in and create with us.\n\nWhere\nClass will be held at The L
 ocal Artisan Collective located in downtown Ogden at 2371 Kiesel Ave\, Ogd
 en.\nAbout the instructor:\nRene Venegas is a 16th generation silversmith.
  His family was one of the first to arrive from Spain to the Americas. His
  ancestor\, Felipe Venegas\, was the silversmith for the early cathedrals 
 in the Dominican Republic and stamped the first European coins in the New 
 World. He has been teaching jewelry and silversmithing classes at Weber St
 ate for 15 years. In addition\, he has been featured in The Standard Exami
 ner\, The Signpost\, KUTV Inside the Story\, FOX13 Good Morning Utah\, The
  Salt Project and KTVX Good Things Utah.\nCall/text 801-686-5351 for more 
 information. You can register for the class at our shop or online below. Y
 ou can also drop in during Art Stroll though we highly recommend pre-regis
 tering.\nVenue:   The Local Artisan Collective\n\nVenue Phone: (801) 399-2
 787\n\nVenue Website: https://localartisancollective.com/event-calendar/\n
 \nAddress:\n2371 Kiesel Ave.\, Ogden\, Utah\, 84404\, United States\n\nDes
 cription:\n\nThe Local Artisan Collective in Ogden\, Utah\, is a hub for l
 ocal artisans to showcase and sell their handmade goods\, including jewelr
 y\, art\, and home decor. It promotes community engagement through worksho
 ps and classes\, making it a key destination for supporting local creativi
 ty and finding unique items.
DTSTART;TZID=America/Denver:20251115T120000
DTEND;TZID=America/Denver:20251115T190000
LOCATION:The Local Artisan Collective\, 2371 Kiesel Ave.\, Ogden\, UT 84403
  US
SUMMARY:Copper Ornament Class\, Sat Nov 15\, 12pm–7pm (taught by Rene Veneg
 as in Classroom A\, $14)
END:VEVENT
END:VCALENDAR
