BEGIN:VCALENDAR
VERSION:2.0
PRODID:-//uwnu.org//NONSGML kigkonsult.se iCalcreator 2.30.10//
CALSCALE:GREGORIAN
METHOD:PUBLISH
UID:28403cf6-179f-4281-b94c-d34385836501
X-WR-CALDESC:Marbling Fun!\n\nWhat:\nMarbling art is a fun and unique way t
 o explore your creativity and create beautiful\, one-of-a-kind designs. Wh
 ether you’re a beginner or an experienced artist\, a marbling art class is
  a great way to learn new skills\, and have fun. So why not give it a try 
 and see where your creativity takes you?\n\nWhen:\nThis class will be Satu
 rday\, November 15th from 12pm to 7pm. You can drop in anytime between 12 
 and 7 to create a marbling piece of art.\n\nCost:\nAll supplies are includ
 ed for one $4.99 project (tons of ornaments to choose from). Additional pr
 ojects will be available for an additional $4.99.\n\nHow to Sign Up and Ca
 ncelation Policy:\nSign up online:  https://localartisancollective.com/eve
 nts/marbling-ornaments-drop-in-class-on-nov-15/\n\nor call Stephanie at 80
 1-940-6972\n\nor email us at our_childrens_earth@yahoo.com and they can do
  a payment over the phone for you or send you an invoice to your email for
  payment.\n\nCancellation for the class is accepted up until 7 days before
  the party starts.\n\nAges:\nAny age but small children will want to have 
 an adult with them to help.\n\nWho:\nThis class is taught by Stephanie How
 erton from Our Children’s Earth. She has always had a passion for creating
  things. She loves marbling\, hand dyeing\, felting and creating clothes\,
  jewelry and household items.\n\nShe says “My heart delights in creating s
 omething new so I tend to explore a variety of arts. I hope that you feel 
 that same joy while using your new purchase or taking a class.”\n\nWe have
  been featured in the Huffington Post\, VEIN Magazine\, Indie Ogden\, Stan
 dard Examiner\, Good Things Utah\, Fox 13 News and a variety of national a
 nd international blogs and more.\n\nStephanie also teaches a wide variety 
 of classes at The Local Artisan Collective.
X-WR-RELCALID:c3ee42bb33f608e812a3c5dfc9ca24bb
X-WR-TIMEZONE:America/Denver
BEGIN:VTIMEZONE
TZID:America/Denver
BEGIN:STANDARD
TZNAME:MST
DTSTART:20251102T020000
TZOFFSETFROM:-0600
TZOFFSETTO:-0700
RDATE:20261101T020000
END:STANDARD
BEGIN:DAYLIGHT
TZNAME:MDT
DTSTART:20250309T020000
TZOFFSETFROM:-0700
TZOFFSETTO:-0600
RDATE:20260308T020000
RDATE:20270314T020000
END:DAYLIGHT
END:VTIMEZONE
BEGIN:VEVENT
UID:ee61dd8f-6bc3-4818-a905-c76be040d6af
DTSTAMP:20260422T135232Z
DESCRIPTION:Marbling Fun!\n\nWhat:\nMarbling art is a fun and unique way to
  explore your creativity and create beautiful\, one-of-a-kind designs. Whe
 ther you’re a beginner or an experienced artist\, a marbling art class is 
 a great way to learn new skills\, and have fun. So why not give it a try a
 nd see where your creativity takes you?\n\nWhen:\nThis class will be Satur
 day\, November 15th from 12pm to 7pm. You can drop in anytime between 12 a
 nd 7 to create a marbling piece of art.\n\nCost:\nAll supplies are include
 d for one $4.99 project (tons of ornaments to choose from). Additional pro
 jects will be available for an additional $4.99.\n\nHow to Sign Up and Can
 celation Policy:\nSign up online:  https://localartisancollective.com/even
 ts/marbling-ornaments-drop-in-class-on-nov-15/\n\nor call Stephanie at 801
 -940-6972\n\nor email us at our_childrens_earth@yahoo.com and they can do 
 a payment over the phone for you or send you an invoice to your email for 
 payment.\n\nCancellation for the class is accepted up until 7 days before 
 the party starts.\n\nAges:\nAny age but small children will want to have a
 n adult with them to help.\n\nWho:\nThis class is taught by Stephanie Howe
 rton from Our Children’s Earth. She has always had a passion for creating 
 things. She loves marbling\, hand dyeing\, felting and creating clothes\, 
 jewelry and household items.\n\nShe says “My heart delights in creating so
 mething new so I tend to explore a variety of arts. I hope that you feel t
 hat same joy while using your new purchase or taking a class.”\n\nWe have 
 been featured in the Huffington Post\, VEIN Magazine\, Indie Ogden\, Stand
 ard Examiner\, Good Things Utah\, Fox 13 News and a variety of national an
 d international blogs and more.\n\nStephanie also teaches a wide variety o
 f classes at The Local Artisan Collective.
DTSTART;TZID=America/Denver:20251115T120000
DTEND;TZID=America/Denver:20251115T190000
LOCATION:The Local Artisan Collective \, 2371 Kiesel Ave\, Ogden\, UT 84401
  US
SUMMARY:Marbling Ornaments Drop In Class
END:VEVENT
END:VCALENDAR
