BEGIN:VCALENDAR
VERSION:2.0
PRODID:-//uwnu.org//NONSGML kigkonsult.se iCalcreator 2.30.10//
CALSCALE:GREGORIAN
METHOD:PUBLISH
UID:956297dd-32f8-4773-95e2-be02dba09335
X-WR-CALDESC:šØ Handmade Ornament Extravaganza! āØšnOur artists have been wor
 king all year to create the most magical\, one-of-a-kind ornamentsājust in
  time for the holidays!\nšJoin us November 15th from 12ā7 PM for an incred
 ible show featuring local handmade ornaments crafted from:\nšMarbled paper
 \nšnšBlown glass\nšŖµLeather\nš§µMacramĆ©\nšØPainted designs\nš Clay\, metal\, 3D-p
 rinted pieces & more!\nTHIS IS THE PREMIIER DAY FOR GETTING FIRST PICK ON 
 YOUR NEW ORNAMENTS! So stop by to get first choice. Ornaments will continu
 e to be available through Christmas.\nEach ornament is lovingly handmade b
 y our amazing artists\, including:\nš«Charis Derry ā Charis Art\nš«Gail Mose
 s ā Nite-n-Gail\nš«Heather Green ā Mamawās Macrame\nš«Shere-Khan TC Walls ā 
 Anubis Inc\nš«Jenny Venegas ā Aunt GGās\nš«KC Peek ā Seeds of Imagination\nš«
 Rene Venegas ā Galleonās Gold Jewelry\nš«Mike Hurst ā Hurstās Handblown Gla
 ss\nš«Emery Young ā Sociallies\nš«Stephanie & Lance Howerton ā Our Childrenā
 s Earth\nš«Roxanne Vigos ā Star and Branch\nš«Devon Lewis ā Shoemaker Pyogra
 pher\nš«Gaye Hurst ā Bloomin Beadz Stitchery\nš«Jackie Archibald ā Journey B
 ound Journals\nšPLUS: Donāt miss our Festive Ornament Workshop happening t
 he same day!\nMake or design your own marbled\, macramĆ©\, copper\, glassbl
 own\, or leather ornamentācustom to you!\nšThese treasures go fast\, so ar
 rive early for the best selection!\nš2371 Kiesel Ave\, Ogden (South end of
  The Junction\, near the Megaplex)\nVenue:   The Local Artisan Collective
 \n\nVenue Phone: (801) 399-2787\n\nVenue Website: https://localartisancoll
 ective.com/event-calendar/\n\nAddress:\n2371 Kiesel Ave.\, Ogden\, Utah\, 
 84404\, United States\n\nDescription:\n\nThe Local Artisan Collective in O
 gden\, Utah\, is a hub for local artisans to showcase and sell their handm
 ade goods\, including jewelry\, art\, and home decor. It promotes communit
 y engagement through workshops and classes\, making it a key destination f
 or supporting local creativity and finding unique items.
X-WR-RELCALID:0917c1e5de19f08499636e06ede88e47
X-WR-TIMEZONE:America/Denver
BEGIN:VTIMEZONE
TZID:America/Denver
BEGIN:STANDARD
TZNAME:MST
DTSTART:20251102T020000
TZOFFSETFROM:-0600
TZOFFSETTO:-0700
RDATE:20261101T020000
END:STANDARD
BEGIN:DAYLIGHT
TZNAME:MDT
DTSTART:20250309T020000
TZOFFSETFROM:-0700
TZOFFSETTO:-0600
RDATE:20260308T020000
RDATE:20270314T020000
END:DAYLIGHT
END:VTIMEZONE
BEGIN:VEVENT
UID:d2fa8b78-c7f2-4613-b899-5a2ed1df8efc
DTSTAMP:20260422T140837Z
DESCRIPTION:šØ Handmade Ornament Extravaganza! āØšnOur artists have been work
 ing all year to create the most magical\, one-of-a-kind ornamentsājust in 
 time for the holidays!\nšJoin us November 15th from 12ā7 PM for an incredi
 ble show featuring local handmade ornaments crafted from:\nšMarbled paper
 \nšnšBlown glass\nšŖµLeather\nš§µMacramĆ©\nšØPainted designs\nš Clay\, metal\, 3D-p
 rinted pieces & more!\nTHIS IS THE PREMIIER DAY FOR GETTING FIRST PICK ON 
 YOUR NEW ORNAMENTS! So stop by to get first choice. Ornaments will continu
 e to be available through Christmas.\nEach ornament is lovingly handmade b
 y our amazing artists\, including:\nš«Charis Derry ā Charis Art\nš«Gail Mose
 s ā Nite-n-Gail\nš«Heather Green ā Mamawās Macrame\nš«Shere-Khan TC Walls ā 
 Anubis Inc\nš«Jenny Venegas ā Aunt GGās\nš«KC Peek ā Seeds of Imagination\nš«
 Rene Venegas ā Galleonās Gold Jewelry\nš«Mike Hurst ā Hurstās Handblown Gla
 ss\nš«Emery Young ā Sociallies\nš«Stephanie & Lance Howerton ā Our Childrenā
 s Earth\nš«Roxanne Vigos ā Star and Branch\nš«Devon Lewis ā Shoemaker Pyogra
 pher\nš«Gaye Hurst ā Bloomin Beadz Stitchery\nš«Jackie Archibald ā Journey B
 ound Journals\nšPLUS: Donāt miss our Festive Ornament Workshop happening t
 he same day!\nMake or design your own marbled\, macramĆ©\, copper\, glassbl
 own\, or leather ornamentācustom to you!\nšThese treasures go fast\, so ar
 rive early for the best selection!\nš2371 Kiesel Ave\, Ogden (South end of
  The Junction\, near the Megaplex)\nVenue:   The Local Artisan Collective
 \n\nVenue Phone: (801) 399-2787\n\nVenue Website: https://localartisancoll
 ective.com/event-calendar/\n\nAddress:\n2371 Kiesel Ave.\, Ogden\, Utah\, 
 84404\, United States\n\nDescription:\n\nThe Local Artisan Collective in O
 gden\, Utah\, is a hub for local artisans to showcase and sell their handm
 ade goods\, including jewelry\, art\, and home decor. It promotes communit
 y engagement through workshops and classes\, making it a key destination f
 or supporting local creativity and finding unique items.
DTSTART;TZID=America/Denver:20251115T120000
DTEND;TZID=America/Denver:20251115T190000
LOCATION:The Local Artisan Collective \, 2371 Kiesel Ave\, Ogden\, UT 84401
  US
SUMMARY:Ornament Showcase 2025 on November 15th 12:00 to 7:00 (Ornaments fr
 om a Variety of Artists\, Throughout the Store\, FREE)
END:VEVENT
END:VCALENDAR
