BEGIN:VCALENDAR
VERSION:2.0
PRODID:-//uwnu.org//NONSGML kigkonsult.se iCalcreator 2.30.10//
CALSCALE:GREGORIAN
METHOD:PUBLISH
UID:2a895ce0-f0e1-4c52-a47a-7c03d0aa2ce2
X-WR-CALDESC:Sleep in\, it’s Black Friday.  Or run to the big box stores ea
 rly.  Either way\, when the afternoon rolls around\, saunter on down becua
 se you’re invited to join with our annual tradition of making copper ornam
 ents.\nWhat\nWe’ll be using simple tools and techniques to create beautifu
 l and unique ornaments that you can cherish throughout your life. This cla
 ss is family friendly for all ages.\nNo experience is necessary\, and all 
 materials will be provided. Just bring your imagination and your willingne
 ss to have some fun!\nHere are some ideas for the kinds of ornaments we’ll
  be making\nStars\nHearts\nAngels\nBells\nTrees\nAnd more!\nExtra ornament
 s can be made during class for $9/each.\nDrop ins welcome\, though we high
 ly recommend signing up before hand to secure your spot.\nWhen\nFriday\, N
 ovember 28 from 3-6pm\nAges\nOpen to all family members. Children under 10
  will need help from an adult.\n\nHow to Sign Up and Cancelation:\nSign up
  online here https://localartisancollective.com/events/blackfridayornament
 s\n\nin person: at our shop at 2371 Kiesel Ave\n\nor text at 801-686-5351 
 and we can send an invoice to your email for payment\n\nCancellation for t
 he class is accepted up until 7 days before the class begins.\n\nWhere\nCl
 ass will be held at The Local Artisan Collective located in downtown Ogden
  at 2371 Kiesel Ave\, Ogden.\nAbout the instructor:\nRene Venegas is a 16t
 h generation silversmith. His family was one of the first to arrive from S
 pain to the Americas. His ancestor\, Felipe Venegas\, was the silversmith 
 for the early cathedrals in the Dominican Republic and stamped the first E
 uropean coins in the New World. He has been teaching jewelry and silversmi
 thing classes at Weber State for 15 years. In addition\, he has been featu
 red in The Standard Examiner\, The Signpost\, KUTV Inside the Story\, FOX1
 3 Good Morning Utah\, The Salt Project and KTVX Good Things Utah.\nCall/te
 xt 801-686-5351 for more information. You can register for the class at ou
 r shop or online below. You can also drop in during Art Stroll though we h
 ighly recommend pre-registering.\nVenue:   The Local Artisan Collective\n
 \nVenue Phone: (801) 399-2787\n\nVenue Website: https://localartisancollec
 tive.com/event-calendar/\n\nAddress:\n2371 Kiesel Ave.\, Ogden\, Utah\, 84
 404\, United States\n\nDescription:\n\nThe Local Artisan Collective in Ogd
 en\, Utah\, is a hub for local artisans to showcase and sell their handmad
 e goods\, including jewelry\, art\, and home decor. It promotes community 
 engagement through workshops and classes\, making it a key destination for
  supporting local creativity and finding unique items.
X-WR-RELCALID:aef19dea4f0411b255a8ccc7cbc41509
X-WR-TIMEZONE:America/Denver
BEGIN:VTIMEZONE
TZID:America/Denver
BEGIN:STANDARD
TZNAME:MST
DTSTART:20251102T020000
TZOFFSETFROM:-0600
TZOFFSETTO:-0700
RDATE:20261101T020000
END:STANDARD
BEGIN:DAYLIGHT
TZNAME:MDT
DTSTART:20250309T020000
TZOFFSETFROM:-0700
TZOFFSETTO:-0600
RDATE:20260308T020000
RDATE:20270314T020000
END:DAYLIGHT
END:VTIMEZONE
BEGIN:VEVENT
UID:cb508524-f7a6-427b-b296-eebd8b954046
DTSTAMP:20260422T140444Z
DESCRIPTION:Sleep in\, it’s Black Friday.  Or run to the big box stores ear
 ly.  Either way\, when the afternoon rolls around\, saunter on down becuas
 e you’re invited to join with our annual tradition of making copper orname
 nts.\nWhat\nWe’ll be using simple tools and techniques to create beautiful
  and unique ornaments that you can cherish throughout your life. This clas
 s is family friendly for all ages.\nNo experience is necessary\, and all m
 aterials will be provided. Just bring your imagination and your willingnes
 s to have some fun!\nHere are some ideas for the kinds of ornaments we’ll 
 be making\nStars\nHearts\nAngels\nBells\nTrees\nAnd more!\nExtra ornaments
  can be made during class for $9/each.\nDrop ins welcome\, though we highl
 y recommend signing up before hand to secure your spot.\nWhen\nFriday\, No
 vember 28 from 3-6pm\nAges\nOpen to all family members. Children under 10 
 will need help from an adult.\n\nHow to Sign Up and Cancelation:\nSign up 
 online here https://localartisancollective.com/events/blackfridayornaments
 \n\nin person: at our shop at 2371 Kiesel Ave\n\nor text at 801-686-5351 a
 nd we can send an invoice to your email for payment\n\nCancellation for th
 e class is accepted up until 7 days before the class begins.\n\nWhere\nCla
 ss will be held at The Local Artisan Collective located in downtown Ogden 
 at 2371 Kiesel Ave\, Ogden.\nAbout the instructor:\nRene Venegas is a 16th
  generation silversmith. His family was one of the first to arrive from Sp
 ain to the Americas. His ancestor\, Felipe Venegas\, was the silversmith f
 or the early cathedrals in the Dominican Republic and stamped the first Eu
 ropean coins in the New World. He has been teaching jewelry and silversmit
 hing classes at Weber State for 15 years. In addition\, he has been featur
 ed in The Standard Examiner\, The Signpost\, KUTV Inside the Story\, FOX13
  Good Morning Utah\, The Salt Project and KTVX Good Things Utah.\nCall/tex
 t 801-686-5351 for more information. You can register for the class at our
  shop or online below. You can also drop in during Art Stroll though we hi
 ghly recommend pre-registering.\nVenue:   The Local Artisan Collective\n\n
 Venue Phone: (801) 399-2787\n\nVenue Website: https://localartisancollecti
 ve.com/event-calendar/\n\nAddress:\n2371 Kiesel Ave.\, Ogden\, Utah\, 8440
 4\, United States\n\nDescription:\n\nThe Local Artisan Collective in Ogden
 \, Utah\, is a hub for local artisans to showcase and sell their handmade 
 goods\, including jewelry\, art\, and home decor. It promotes community en
 gagement through workshops and classes\, making it a key destination for s
 upporting local creativity and finding unique items.
DTSTART;TZID=America/Denver:20251128T150000
DTEND;TZID=America/Denver:20251128T180000
LOCATION:The Local Artisan Collective\, 2371 Kiesel Ave.\, Ogden\, UT 84403
  US
SUMMARY:Copper Ornament Class\, Fri Nov 28\, 3:00pm–6pm (taught by Rene Ven
 egas in Classroom A\, $14
END:VEVENT
END:VCALENDAR
