BEGIN:VCALENDAR
VERSION:2.0
PRODID:-//uwnu.org//NONSGML kigkonsult.se iCalcreator 2.30.10//
CALSCALE:GREGORIAN
METHOD:PUBLISH
UID:a64dc8fc-0534-4dcd-a73e-8477a5123aae
X-WR-CALDESC:WELCOME to Keep Us in the Black Friday and Buy Local Saturday 
 with The Local Artisan Collective. The fun doesn’t begin until noon\, so s
 leep in or go to the big box stores. Then stop by our place to shop for un
 ique\, handcrafted art and gifts made by your favorite local artists.\nOur
  store will be open from 12:00pm to 7:00pm on Friday\, November 28th and o
 n Saturday\, November 29th with sales\, demonstrations and classes. Sleep 
 in and enjoy your time off with us!\nLooking for something unique to give 
 those tough-to-shop-for friends and family members on your list? Or even a
  gift for yourself…..you know where to come!\nWe can even do FREE gift wra
 pping!\nThere will be jaw-dropping deals from a HUGE variety of artists gi
 ven out both days! Plus if you buy $50 worth of Gift Certificates you will
  receive a FREE $25 Gift Certificate. See below for details on each day!\n
 Black Friday: November 28th Open 12:00pm to 7:00pm:\n-10:00 and 12:00:\nMe
 et The Neighbors: Taboo Pizza + The Local Artisan Collective Amazing Deal!
  The Whole Experience Is A $50 Value For Only $30!\n\nJoin us for a night 
 of creativity\, laughter\, and deliciousness! The Local Artisan Collective
  and Taboo Pizza are teaming up for a special “Meet the Neighbors” event w
 here art meets appetite.\n-You’ll get to create your own etched glass — ch
 oose from a beer mug\, cup\, or wine glass and personalize it. We’ll have 
 plenty of sassy (and maybe a little naughty!) saying options to make it ex
 tra fun.\n-Then\, take your art skills next door and your appetite to Tabo
 o Pizza with a $30 gift card included in your class! Use it after class (o
 r save it for another day) to enjoy their incredible pizza\, sandwiches\, 
 salads\, and more.\nCome hungry for creativity\, good food\, and great com
 pany! Sign up at: https://localartisancollective.com/…/meet-the…/\n-12:00 
 to 4:00:\nShelley from Wood-N-Things will be painting and creating beautif
 ul ornaments. Stop by to see her beautiful art come alive!\n\n-12:00 to 7:
 00:\nTC from Anubis Inc will have his amazing 3D printer working on fantas
 tic projects. Stop by to see it all happen!!\n\n-3:00 to 6:00:\nWe’ll be u
 sing simple tools and techniques to create beautiful and unique ornaments 
 that you can cherish throughout your life. This class is family friendly f
 or all ages.\nNo experience is necessary\, and all materials will be provi
 ded. Just bring your imagination and your willingness to have some fun!\n
 \nHere are some ideas for the kinds of ornaments we’ll be making\nStars\nH
 earts\nAngels\nBells\nTrees\nAnd more!\nExtra ornaments can be made during
  class for $9/each.\nDrop ins welcome\, though we highly recommend signing
  up before hand to secure your spot. Sign up here: https://localartisancol
 lective.com/…/blackfridayornament/\n-3:30 to 7:00:\nMike will be creating 
 glass treasures and doing demos!\n\nShop Local Saturday: November 30th Ope
 n 12:00pm to 7:00pm:\n-12:00 to 7:00:\nTC from Anubis Inc will have his am
 azing 3D printer working on fantastic projects. Stop by to see it all happ
 en!!\n\n-12:00 to 7:00:\nStop by to see Mike creating with Glass Blowing. 
 Will he be making an ornament? Will he be making a glass pen? Will he be m
 aking a pendant? So many options you better stop by to see what he does!\n
 \n-5:00 to 7:00:\nWe are excited to announce our Yearly Winter Little Arti
 san’s Market!!\n\nCome and support our community youth entrepreneurs. This
  is a Market set up for Little Artisan’s from Kindergarten to 12th Grade. 
 They will be selling their amazing items that they make to the public on S
 hop Local Saturday\, November 29th from 5:00pm to 7:00pm.\nPLUS\, come tak
 e a FREE photo with Santa!\nWe are located at 2371 Kiesel Ave in Ogden.
X-WR-RELCALID:8d81e423b351873ced5951519ec487ce
X-WR-TIMEZONE:America/Denver
BEGIN:VTIMEZONE
TZID:America/Denver
BEGIN:STANDARD
TZNAME:MST
DTSTART:20251102T020000
TZOFFSETFROM:-0600
TZOFFSETTO:-0700
RDATE:20261101T020000
END:STANDARD
BEGIN:DAYLIGHT
TZNAME:MDT
DTSTART:20250309T020000
TZOFFSETFROM:-0700
TZOFFSETTO:-0600
RDATE:20260308T020000
RDATE:20270314T020000
END:DAYLIGHT
END:VTIMEZONE
BEGIN:VEVENT
UID:6c8cfd0b-978e-43f7-aff2-b2717e03be47
DTSTAMP:20260422T141031Z
DESCRIPTION:WELCOME to Keep Us in the Black Friday and Buy Local Saturday w
 ith The Local Artisan Collective. The fun doesn’t begin until noon\, so sl
 eep in or go to the big box stores. Then stop by our place to shop for uni
 que\, handcrafted art and gifts made by your favorite local artists.\nOur 
 store will be open from 12:00pm to 7:00pm on Friday\, November 28th and on
  Saturday\, November 29th with sales\, demonstrations and classes. Sleep i
 n and enjoy your time off with us!\nLooking for something unique to give t
 hose tough-to-shop-for friends and family members on your list? Or even a 
 gift for yourself…..you know where to come!\nWe can even do FREE gift wrap
 ping!\nThere will be jaw-dropping deals from a HUGE variety of artists giv
 en out both days! Plus if you buy $50 worth of Gift Certificates you will 
 receive a FREE $25 Gift Certificate. See below for details on each day!\nB
 lack Friday: November 28th Open 12:00pm to 7:00pm:\n-10:00 and 12:00:\nMee
 t The Neighbors: Taboo Pizza + The Local Artisan Collective Amazing Deal! 
 The Whole Experience Is A $50 Value For Only $30!\n\nJoin us for a night o
 f creativity\, laughter\, and deliciousness! The Local Artisan Collective 
 and Taboo Pizza are teaming up for a special “Meet the Neighbors” event wh
 ere art meets appetite.\n-You’ll get to create your own etched glass — cho
 ose from a beer mug\, cup\, or wine glass and personalize it. We’ll have p
 lenty of sassy (and maybe a little naughty!) saying options to make it ext
 ra fun.\n-Then\, take your art skills next door and your appetite to Taboo
  Pizza with a $30 gift card included in your class! Use it after class (or
  save it for another day) to enjoy their incredible pizza\, sandwiches\, s
 alads\, and more.\nCome hungry for creativity\, good food\, and great comp
 any! Sign up at: https://localartisancollective.com/…/meet-the…/\n-12:00 t
 o 4:00:\nShelley from Wood-N-Things will be painting and creating beautifu
 l ornaments. Stop by to see her beautiful art come alive!\n\n-12:00 to 7:0
 0:\nTC from Anubis Inc will have his amazing 3D printer working on fantast
 ic projects. Stop by to see it all happen!!\n\n-3:00 to 6:00:\nWe’ll be us
 ing simple tools and techniques to create beautiful and unique ornaments t
 hat you can cherish throughout your life. This class is family friendly fo
 r all ages.\nNo experience is necessary\, and all materials will be provid
 ed. Just bring your imagination and your willingness to have some fun!\n\n
 Here are some ideas for the kinds of ornaments we’ll be making\nStars\nHea
 rts\nAngels\nBells\nTrees\nAnd more!\nExtra ornaments can be made during c
 lass for $9/each.\nDrop ins welcome\, though we highly recommend signing u
 p before hand to secure your spot. Sign up here: https://localartisancolle
 ctive.com/…/blackfridayornament/\n-3:30 to 7:00:\nMike will be creating gl
 ass treasures and doing demos!\n\nShop Local Saturday: November 30th Open 
 12:00pm to 7:00pm:\n-12:00 to 7:00:\nTC from Anubis Inc will have his amaz
 ing 3D printer working on fantastic projects. Stop by to see it all happen
 !!\n\n-12:00 to 7:00:\nStop by to see Mike creating with Glass Blowing. Wi
 ll he be making an ornament? Will he be making a glass pen? Will he be mak
 ing a pendant? So many options you better stop by to see what he does!\n\n
 -5:00 to 7:00:\nWe are excited to announce our Yearly Winter Little Artisa
 n’s Market!!\n\nCome and support our community youth entrepreneurs. This i
 s a Market set up for Little Artisan’s from Kindergarten to 12th Grade. Th
 ey will be selling their amazing items that they make to the public on Sho
 p Local Saturday\, November 29th from 5:00pm to 7:00pm.\nPLUS\, come take 
 a FREE photo with Santa!\nWe are located at 2371 Kiesel Ave in Ogden.
DTSTART;TZID=America/Denver:20251128T120000
DTEND;TZID=America/Denver:20251128T190000
LOCATION:The Local Artisan Collective\, 2371 Kiesel Ave.\, Ogden\, UT 84403
  US
SUMMARY:Keep Us in the Black and Buy Local Saturday on November 28th and 29
 th (Throughout the Store\, With Lots of Amazing Artists)
END:VEVENT
END:VCALENDAR
