BEGIN:VCALENDAR
VERSION:2.0
PRODID:-//uwnu.org//NONSGML kigkonsult.se iCalcreator 2.30.10//
CALSCALE:GREGORIAN
METHOD:PUBLISH
UID:4b1c3f82-09e5-479f-8613-1b5ec331316d
X-WR-CALDESC:Get into the holiday spirit at the December’s Art Stroll at Th
 e Local Artisan Collective!\nThis festive month\, we’re excited to feature
  many of our artists and their artisan ornaments. —perfect for holiday gif
 ting or treating yourself. Enjoy live demos\,  make an ornament or two\, w
 arm up and explore a wonderland of unique\, local creations. It’s a magica
 l way to start the season and support local artists!\n\nArt Stroll is on F
 riday\, December 5th\, 2025! The store will be open later than usual for A
 rt Stroll from 6:00 pm to 9:00 pm\; with then even later until 10pm for sh
 opping.\nOur Featured Artists include: Jackie\, Devon\, Mike\, Stephanie\,
  Lance\, Rene\, Jana\, KC\, Heather\, Gail and Charis who will be showcasi
 ng their handcrafted ornaments all night long.\nClasses and Events happeni
 ng during the Art Stroll:\n6:00 to 9:00: Mike will be blowing glass and cr
 eating amazing lampwork pieces. Stop by to watch him make ornaments….fanta
 stic to see in person! Find him in the glassblowing studio.\n6:00 to 9:00:
  Devon will offer custom engraved leather ornaments with a name or message
  engraved on 4 different leather ornament styles while your make other orn
 aments or shop. $10 each.\n\n6:00-9:00:  Stephanie and Lance will guide yo
 u as you explore the mesmerizing world of marbling—where paint floats on t
 he surface of a special liquid and transforms into stunning\, one-of-a-kin
 d designs. Once your pattern is ready\, you’ll dip your ornament in and wa
 tch the magic happen! Choose from a variety of ornament shapes and styles—
 perfect for gifts\, holiday décor\, or just a little colorful fun. Come pl
 ay with color and take home something truly one-of-a-kind! Just $4.99 per 
 ornament.\n\n6:00-9:00:  16th generation silversmith\, Rene\, will be teac
 hing a copper ornament class. These will be made with metalsmith tools and
  techniques to create beautiful and unique copper ornaments that you can c
 herish throughout your life. All materials will be provided. Participant c
 an choose from: stars\, hearts\, angels\, bells\, trees and more. This cla
 ss is family friendly for all ages. $14 for the first one and then $9 per 
 ornament.  Drop in or sign up online at: https://localartisancollective.co
 m/events/dec5ornament/\n\n6:00-9:00:  Jana will be offering an Elf Gourd O
 rnament Class. Customers will be able to pick a small gourd\, paint a cute
  face and then add some beads for extra cuteness. $5 each.\n\n6:00-9:00:  
 KC will be teaching a glass (or plastic) ornament decorating class using r
 ibbons\, beads\, trinkets and other fun things! $4 for plastic and $6 for 
 glass.\n\n6:00-9:00: Heather is once again offering her fun macrame orname
 nt class.  They are easy and no experience necessary make\; these are simp
 ly elegant ornaments\; a perfect addition to your Christmas tree. All supp
 lies are included. This drop in class is for ages 10 and up. Snowflake or 
 Christmas tree-$5. Reindeer-$10.\n\n6:00-9:00:  Charis will be teaching a 
 fun mermaid and seashells themed ornament class. Both adults and kids welc
 ome\, best for ages 9 & up. All supplies included at $6 each.\n\n6:00-9:00
 :  Gail is super excited to offer an ornament class. More details will be 
 forth coming.\n\n******************************************\nIn addition t
 o all the ornaments\, we will be graced with live music from Music @ the C
 ollective featuring Adam Kozlewski 6:00 to 8:00: \n***********************
 *******************\nFind our handcrafted ornaments in our store located a
 t 2371 Kiesel Ave\, Ogden\, Utah 84401 in the Heart of Downtown Ogden on t
 he South End of the Junction in the Creative Nine Rails District and onlin
 e at localartisancollective.com/shop\nWe are also open Monday through Satu
 rday from 12:00 to 7:00. We will also be open late until 10:00pm on the fi
 rst Friday of the month with Art Stroll
X-WR-RELCALID:a59a59f8d098e566450e396f4b5dd596
X-WR-TIMEZONE:America/Denver
BEGIN:VTIMEZONE
TZID:America/Denver
BEGIN:STANDARD
TZNAME:MST
DTSTART:20251102T020000
TZOFFSETFROM:-0600
TZOFFSETTO:-0700
RDATE:20261101T020000
END:STANDARD
BEGIN:DAYLIGHT
TZNAME:MDT
DTSTART:20250309T020000
TZOFFSETFROM:-0700
TZOFFSETTO:-0600
RDATE:20260308T020000
RDATE:20270314T020000
END:DAYLIGHT
END:VTIMEZONE
BEGIN:VEVENT
UID:d593a773-d495-404d-9f60-b55c3c2aea87
DTSTAMP:20260422T123924Z
DESCRIPTION:Get into the holiday spirit at the December’s Art Stroll at The
  Local Artisan Collective!\nThis festive month\, we’re excited to feature 
 many of our artists and their artisan ornaments. —perfect for holiday gift
 ing or treating yourself. Enjoy live demos\,  make an ornament or two\, wa
 rm up and explore a wonderland of unique\, local creations. It’s a magical
  way to start the season and support local artists!\n\nArt Stroll is on Fr
 iday\, December 5th\, 2025! The store will be open later than usual for Ar
 t Stroll from 6:00 pm to 9:00 pm\; with then even later until 10pm for sho
 pping.\nOur Featured Artists include: Jackie\, Devon\, Mike\, Stephanie\, 
 Lance\, Rene\, Jana\, KC\, Heather\, Gail and Charis who will be showcasin
 g their handcrafted ornaments all night long.\nClasses and Events happenin
 g during the Art Stroll:\n6:00 to 9:00: Mike will be blowing glass and cre
 ating amazing lampwork pieces. Stop by to watch him make ornaments….fantas
 tic to see in person! Find him in the glassblowing studio.\n6:00 to 9:00: 
 Devon will offer custom engraved leather ornaments with a name or message 
 engraved on 4 different leather ornament styles while your make other orna
 ments or shop. $10 each.\n\n6:00-9:00:  Stephanie and Lance will guide you
  as you explore the mesmerizing world of marbling—where paint floats on th
 e surface of a special liquid and transforms into stunning\, one-of-a-kind
  designs. Once your pattern is ready\, you’ll dip your ornament in and wat
 ch the magic happen! Choose from a variety of ornament shapes and styles—p
 erfect for gifts\, holiday décor\, or just a little colorful fun. Come pla
 y with color and take home something truly one-of-a-kind! Just $4.99 per o
 rnament.\n\n6:00-9:00:  16th generation silversmith\, Rene\, will be teach
 ing a copper ornament class. These will be made with metalsmith tools and 
 techniques to create beautiful and unique copper ornaments that you can ch
 erish throughout your life. All materials will be provided. Participant ca
 n choose from: stars\, hearts\, angels\, bells\, trees and more. This clas
 s is family friendly for all ages. $14 for the first one and then $9 per o
 rnament.  Drop in or sign up online at: https://localartisancollective.com
 /events/dec5ornament/\n\n6:00-9:00:  Jana will be offering an Elf Gourd Or
 nament Class. Customers will be able to pick a small gourd\, paint a cute 
 face and then add some beads for extra cuteness. $5 each.\n\n6:00-9:00:  K
 C will be teaching a glass (or plastic) ornament decorating class using ri
 bbons\, beads\, trinkets and other fun things! $4 for plastic and $6 for g
 lass.\n\n6:00-9:00: Heather is once again offering her fun macrame ornamen
 t class.  They are easy and no experience necessary make\; these are simpl
 y elegant ornaments\; a perfect addition to your Christmas tree. All suppl
 ies are included. This drop in class is for ages 10 and up. Snowflake or C
 hristmas tree-$5. Reindeer-$10.\n\n6:00-9:00:  Charis will be teaching a f
 un mermaid and seashells themed ornament class. Both adults and kids welco
 me\, best for ages 9 & up. All supplies included at $6 each.\n\n6:00-9:00:
   Gail is super excited to offer an ornament class. More details will be f
 orth coming.\n\n******************************************\nIn addition to
  all the ornaments\, we will be graced with live music from Music @ the Co
 llective featuring Adam Kozlewski 6:00 to 8:00: \n************************
 ******************\nFind our handcrafted ornaments in our store located at
  2371 Kiesel Ave\, Ogden\, Utah 84401 in the Heart of Downtown Ogden on th
 e South End of the Junction in the Creative Nine Rails District and online
  at localartisancollective.com/shop\nWe are also open Monday through Satur
 day from 12:00 to 7:00. We will also be open late until 10:00pm on the fir
 st Friday of the month with Art Stroll
DTSTART;TZID=America/Denver:20251205T180000
DTEND;TZID=America/Denver:20251205T210000
LOCATION:The Local Artisan Collective\, 2371 Kiesel Ave.\, Ogden\, UT 84403
  US
SUMMARY:December Art Stroll featuring so many fabulous artists on December 
 5th\, 2025 6:00 to 9:00 (Amazing Artists throughout the Entire Store\, Fre
 e and $)
END:VEVENT
END:VCALENDAR
