BEGIN:VCALENDAR
VERSION:2.0
PRODID:-//uwnu.org//NONSGML kigkonsult.se iCalcreator 2.30.10//
CALSCALE:GREGORIAN
METHOD:PUBLISH
UID:609ed860-caa9-4c9d-8b89-0b6dff0df9ec
X-WR-CALDESC:What:\nMarbling art is a fun and unique way to explore your cr
 eativity and create beautiful\, one-of-a-kind designs. Whether you’re a be
 ginner or an experienced artist\, a marbling art class is a great way to l
 earn new skills\, and have fun. So why not give it a try and see where you
 r creativity takes you?\n\nWhen:\nThis class will be Saturday\, November 1
 5th from 12pm to 7pm. You can drop in anytime between 12 and 7 to create a
  marbling piece of art.\n\nCost:\nAll supplies are included for one $4.99 
 project (tons of ornaments to choose from). Additional projects will be av
 ailable for an additional $4.99.\n\nHow to Sign Up and Cancelation Policy:
 \nSign up online:  https://localartisancollective.com/events/marbling-orna
 ments-drop-in-dec-5th/\n\nor call Stephanie at 801-940-6972\n\nor email us
  at our_childrens_earth@yahoo.com and they can do a payment over the phone
  for you or send you an invoice to your email for payment.\n\nCancellation
  for the class is accepted up until 7 days before the party starts.\n\nAge
 s:\nAny age but small children will want to have an adult with them to hel
 p.\n\nWho:\nThis class is taught by Stephanie Howerton from Our Children’s
  Earth. She has always had a passion for creating things. She loves marbli
 ng\, hand dyeing\, felting and creating clothes\, jewelry and household it
 ems.\n\nShe says “My heart delights in creating something new so I tend to
  explore a variety of arts. I hope that you feel that same joy while using
  your new purchase or taking a class.”\n\nWe have been featured in the Huf
 fington Post\, VEIN Magazine\, Indie Ogden\, Standard Examiner\, Good Thin
 gs Utah\, Fox 13 News and a variety of national and international blogs an
 d more.\n\nStephanie also teaches a wide variety of classes at The Local A
 rtisan Collective.
X-WR-RELCALID:a6877ca4ac11d7eaee1c7d76c2a9587d
X-WR-TIMEZONE:America/Denver
BEGIN:VTIMEZONE
TZID:America/Denver
BEGIN:STANDARD
TZNAME:MST
DTSTART:20251102T020000
TZOFFSETFROM:-0600
TZOFFSETTO:-0700
RDATE:20261101T020000
END:STANDARD
BEGIN:DAYLIGHT
TZNAME:MDT
DTSTART:20250309T020000
TZOFFSETFROM:-0700
TZOFFSETTO:-0600
RDATE:20260308T020000
RDATE:20270314T020000
END:DAYLIGHT
END:VTIMEZONE
BEGIN:VEVENT
UID:9f3b31e5-7ae9-47cd-a53a-41131f366d2c
DTSTAMP:20260422T123642Z
DESCRIPTION:What:\nMarbling art is a fun and unique way to explore your cre
 ativity and create beautiful\, one-of-a-kind designs. Whether you’re a beg
 inner or an experienced artist\, a marbling art class is a great way to le
 arn new skills\, and have fun. So why not give it a try and see where your
  creativity takes you?\n\nWhen:\nThis class will be Saturday\, November 15
 th from 12pm to 7pm. You can drop in anytime between 12 and 7 to create a 
 marbling piece of art.\n\nCost:\nAll supplies are included for one $4.99 p
 roject (tons of ornaments to choose from). Additional projects will be ava
 ilable for an additional $4.99.\n\nHow to Sign Up and Cancelation Policy:
 \nSign up online:  https://localartisancollective.com/events/marbling-orna
 ments-drop-in-dec-5th/\n\nor call Stephanie at 801-940-6972\n\nor email us
  at our_childrens_earth@yahoo.com and they can do a payment over the phone
  for you or send you an invoice to your email for payment.\n\nCancellation
  for the class is accepted up until 7 days before the party starts.\n\nAge
 s:\nAny age but small children will want to have an adult with them to hel
 p.\n\nWho:\nThis class is taught by Stephanie Howerton from Our Children’s
  Earth. She has always had a passion for creating things. She loves marbli
 ng\, hand dyeing\, felting and creating clothes\, jewelry and household it
 ems.\n\nShe says “My heart delights in creating something new so I tend to
  explore a variety of arts. I hope that you feel that same joy while using
  your new purchase or taking a class.”\n\nWe have been featured in the Huf
 fington Post\, VEIN Magazine\, Indie Ogden\, Standard Examiner\, Good Thin
 gs Utah\, Fox 13 News and a variety of national and international blogs an
 d more.\n\nStephanie also teaches a wide variety of classes at The Local A
 rtisan Collective.
DTSTART;TZID=America/Denver:20251205T180000
DTEND;TZID=America/Denver:20251205T210000
LOCATION:The Local Artisan Collective\, 2371 Kiesel Ave.\, Ogden\, UT 84403
  US
SUMMARY:Marbling Ornaments Drop In Class on December 5th from 6:00 to 9:00 
 (Taught by Stephanie\, In Classroom\, $4.99)
END:VEVENT
END:VCALENDAR
