BEGIN:VCALENDAR
VERSION:2.0
PRODID:-//uwnu.org//NONSGML kigkonsult.se iCalcreator 2.30.10//
CALSCALE:GREGORIAN
METHOD:PUBLISH
UID:38c21546-375b-4df1-bc55-c62984f9b6fb
X-WR-CALDESC:Pressed Flowers in Beautiful Hanging Glass Class\n\nWhat and C
 ost:\n\nFlowers are one of the most beautiful things on earth.  So why not
  decorate your tree or house with stunning pressed flowers on ornaments.  
 In this class you will get to choose the flowers you want to decorate with
 \, from a variety of ornaments and design your own phenomenal ornaments. M
 ake 3 unique pressed flower ornaments.\n\nCost:\n\nThis class is $39 and i
 ncludes all supplies for 3 ornaments.\n\nWhen:\n\nSaturday\, December 6th 
 from 12:00pm to 2:00pm\n\nWhere:\n\nThe Local Artisan Collective located a
 t 2371 Kiesel Ave\, Ogden.\n\nHow to Register and Cancelation Policy:\n\nR
 egister for this class online:\n\nhttps://localartisancollective.com/event
 s/pressed-flower-ornament/\n\nor go into The Local Artisan Collective at 2
 371 Kiesel Ave\, Ogden\n\nor call the store at 801-399-2787 (ARTS) or Step
 hanie at 801-940-6972\n\nor email Stephanie at our_childrens_earth@yahoo.c
 om\n\nClass registration can be canceled up to 7 days before the class dat
 e.\n\nAges:\n\nThis class is for adults and teens\n\nWho:\n\nThis class is
  taught by Stephanie Howerton from Our Children’s Earth. She has always ha
 d a passion for creating things. She loves marbling\, hand dyeing and crea
 ting clothes\, jewelry and household items.\n\nShe says “My heart delights
  in creating something new so I tend to explore a variety of arts.  I hope
  that you feel that same joy while using your new purchase.”\n\nWe have be
 en featured in the Huffington Post\, Fresh Living KUTV 2 News\, VEIN Magaz
 ine\, Indie Ogden\, Standard Examiner\, Good Things Utah\, Fox 13 News and
  a variety of blogs and more.\n\nStephanie also teaches a wide variety of 
 classes at The Local Artisan Collective.
X-WR-RELCALID:9e08133b7dd28e9c8986329319ce6c22
X-WR-TIMEZONE:America/Denver
BEGIN:VTIMEZONE
TZID:America/Denver
BEGIN:STANDARD
TZNAME:MST
DTSTART:20251102T020000
TZOFFSETFROM:-0600
TZOFFSETTO:-0700
RDATE:20261101T020000
END:STANDARD
BEGIN:DAYLIGHT
TZNAME:MDT
DTSTART:20250309T020000
TZOFFSETFROM:-0700
TZOFFSETTO:-0600
RDATE:20260308T020000
RDATE:20270314T020000
END:DAYLIGHT
END:VTIMEZONE
BEGIN:VEVENT
UID:db743b4e-2786-4037-83bb-b81736fbeeb0
DTSTAMP:20260422T123518Z
DESCRIPTION:Pressed Flowers in Beautiful Hanging Glass Class\n\nWhat and Co
 st:\n\nFlowers are one of the most beautiful things on earth.  So why not 
 decorate your tree or house with stunning pressed flowers on ornaments.  I
 n this class you will get to choose the flowers you want to decorate with\
 , from a variety of ornaments and design your own phenomenal ornaments. Ma
 ke 3 unique pressed flower ornaments.\n\nCost:\n\nThis class is $39 and in
 cludes all supplies for 3 ornaments.\n\nWhen:\n\nSaturday\, December 6th f
 rom 12:00pm to 2:00pm\n\nWhere:\n\nThe Local Artisan Collective located at
  2371 Kiesel Ave\, Ogden.\n\nHow to Register and Cancelation Policy:\n\nRe
 gister for this class online:\n\nhttps://localartisancollective.com/events
 /pressed-flower-ornament/\n\nor go into The Local Artisan Collective at 23
 71 Kiesel Ave\, Ogden\n\nor call the store at 801-399-2787 (ARTS) or Steph
 anie at 801-940-6972\n\nor email Stephanie at our_childrens_earth@yahoo.co
 m\n\nClass registration can be canceled up to 7 days before the class date
 .\n\nAges:\n\nThis class is for adults and teens\n\nWho:\n\nThis class is 
 taught by Stephanie Howerton from Our Children’s Earth. She has always had
  a passion for creating things. She loves marbling\, hand dyeing and creat
 ing clothes\, jewelry and household items.\n\nShe says “My heart delights 
 in creating something new so I tend to explore a variety of arts.  I hope 
 that you feel that same joy while using your new purchase.”\n\nWe have bee
 n featured in the Huffington Post\, Fresh Living KUTV 2 News\, VEIN Magazi
 ne\, Indie Ogden\, Standard Examiner\, Good Things Utah\, Fox 13 News and 
 a variety of blogs and more.\n\nStephanie also teaches a wide variety of c
 lasses at The Local Artisan Collective.
DTSTART;TZID=America/Denver:20251206T120000
DTEND;TZID=America/Denver:20251206T140000
LOCATION:The Local Artisan Collective\, 2371 Kiesel Ave.\, Ogden\, UT 84403
  US
SUMMARY:Pressed Flower Ornaments Class on December 6th from 12:00 to 2:00 (
 Taught by Stephanie\, Classroom A and B\, $39)
END:VEVENT
END:VCALENDAR
