BEGIN:VCALENDAR
VERSION:2.0
PRODID:-//uwnu.org//NONSGML kigkonsult.se iCalcreator 2.30.10//
CALSCALE:GREGORIAN
METHOD:PUBLISH
UID:e7fc7fcc-e87b-4444-bb87-6935dec38373
X-WR-CALDESC:Soft & Stylish: Make Your Own Felted Scarf\nWhat:\nDiscover th
 e magic of wet felting in this hands-on class! You’ll learn the unique tec
 hnique of nuno felting to design your very own scarf using soft Merino woo
 l and flowing silk. The result? A cozy\, one-of-a-kind piece of wearable a
 rt.\nNo experience needed—our tools are easy to use\, and you’ll be guided
  step by step.\nAll supplies are included\, with a wide variety of wool co
 lors to choose from so you can make your scarf uniquely yours.\n\nCome rea
 dy to have fun\, and walk away with something beautiful you created yourse
 lf!\n\nCost:\nThe cost is $59 and includes all supplies\nWhen:\nSaturday\,
  December 6th 3:00 to 5:00\nWhere:\nThe Local Artisan Collective located a
 t 2371 Kiesel Ave\, Ogden\, Utah 84403\nHow to sign up and cancellation po
 licy: \nSign up online at https://localartisancollective.com/events/wet-fe
 lted-scarf/\nOR In the store located at 2371 Kiesel Ave in Ogden.\nOR emai
 l us at our_childrens_earth@yahoo.com and we can send you an invoice for p
 ayment.\nCancellation for the class is accepted up until 7 days before the
  party starts.\nAges:\nAll Ages\nWho:\nThis class is taught by Stephanie H
 owerton from Our Children’s Earth. She has always had a passion for creati
 ng things. She loves marbling\, hand dyeing and creating clothes\, jewelry
  and household items.  She says “My heart delights in creating something n
 ew so I tend to explore a variety of arts. I hope that you feel that same 
 joy while using your new purchase.”\nWe have been featured in the Huffingt
 on Post\, Fresh Living KUTV 2 News\, VEIN Magazine\, Indie Ogden\, Standar
 d Examiner\, Good Things Utah\, Fox 13 News and a variety of blogs and mor
 e.\nStephanie also teaches a wide variety of classes at The Local Artisan 
 Collective.
X-WR-RELCALID:dd3ce9a2aa860452d67daa1be623fa74
X-WR-TIMEZONE:America/Denver
BEGIN:VTIMEZONE
TZID:America/Denver
BEGIN:STANDARD
TZNAME:MST
DTSTART:20251102T020000
TZOFFSETFROM:-0600
TZOFFSETTO:-0700
RDATE:20261101T020000
END:STANDARD
BEGIN:DAYLIGHT
TZNAME:MDT
DTSTART:20250309T020000
TZOFFSETFROM:-0700
TZOFFSETTO:-0600
RDATE:20260308T020000
RDATE:20270314T020000
END:DAYLIGHT
END:VTIMEZONE
BEGIN:VEVENT
UID:f6b28f9c-8883-4a80-ad93-072e41211246
DTSTAMP:20260422T123826Z
DESCRIPTION:Soft & Stylish: Make Your Own Felted Scarf\nWhat:\nDiscover the
  magic of wet felting in this hands-on class! You’ll learn the unique tech
 nique of nuno felting to design your very own scarf using soft Merino wool
  and flowing silk. The result? A cozy\, one-of-a-kind piece of wearable ar
 t.\nNo experience needed—our tools are easy to use\, and you’ll be guided 
 step by step.\nAll supplies are included\, with a wide variety of wool col
 ors to choose from so you can make your scarf uniquely yours.\n\nCome read
 y to have fun\, and walk away with something beautiful you created yoursel
 f!\n\nCost:\nThe cost is $59 and includes all supplies\nWhen:\nSaturday\, 
 December 6th 3:00 to 5:00\nWhere:\nThe Local Artisan Collective located at
  2371 Kiesel Ave\, Ogden\, Utah 84403\nHow to sign up and cancellation pol
 icy: \nSign up online at https://localartisancollective.com/events/wet-fel
 ted-scarf/\nOR In the store located at 2371 Kiesel Ave in Ogden.\nOR email
  us at our_childrens_earth@yahoo.com and we can send you an invoice for pa
 yment.\nCancellation for the class is accepted up until 7 days before the 
 party starts.\nAges:\nAll Ages\nWho:\nThis class is taught by Stephanie Ho
 werton from Our Children’s Earth. She has always had a passion for creatin
 g things. She loves marbling\, hand dyeing and creating clothes\, jewelry 
 and household items.  She says “My heart delights in creating something ne
 w so I tend to explore a variety of arts. I hope that you feel that same j
 oy while using your new purchase.”\nWe have been featured in the Huffingto
 n Post\, Fresh Living KUTV 2 News\, VEIN Magazine\, Indie Ogden\, Standard
  Examiner\, Good Things Utah\, Fox 13 News and a variety of blogs and more
 .\nStephanie also teaches a wide variety of classes at The Local Artisan C
 ollective.
DTSTART;TZID=America/Denver:20251206T150000
DTEND;TZID=America/Denver:20251206T170000
LOCATION:The Local Artisan Collective\, 2371 Kiesel Ave.\, Ogden\, UT 84403
  US
SUMMARY:Soft & Stylish: Make Your Own Felted Scarf on December 6th from 3:0
 0pm to 5:00pm (Taught by Stephanie\, Classroom A and B\, $59)
END:VEVENT
END:VCALENDAR
