BEGIN:VCALENDAR
VERSION:2.0
PRODID:-//uwnu.org//NONSGML kigkonsult.se iCalcreator 2.30.10//
CALSCALE:GREGORIAN
METHOD:PUBLISH
UID:5e623eb0-6464-445b-a8de-8d6c3e0790b2
X-WR-CALDESC:Are YOU ready to do something different and fun? Join us for a
  fun and exciting copper Santa making workshop\; just in time for the holi
 days.\n\nWhat:\nIn this workshop\, you’ll learn the basics of copper bowl 
 making\, from shaping the metal to hammering and polishing it to a shine. 
 You’ll also have the opportunity to get creative and design your own uniqu
 e Santa bowl.\n\nWe will provide all the necessary supplies\, including co
 pper sheets\, tools\, and instructions. No experience is necessary\, so ev
 eryone is welcome.\n\nHere’s what to expect:\n\nWe’ll start using hammers 
 and shaping tools to create your bowl/trivet.\nOnce your bowl is shaped\, 
 we’ll use sandpaper to smooth out any rough edges.\nFinally\, we’ll polish
  your bowl to a beautiful shine.\nBy the end of the workshop\, you’ll have
  a beautiful and functional copper bowl/trivet that you can use hold jewle
 ry\, keys\, or simply display as a work of art.\n\nCost:\n$55 per person\n
 \nAges:\n16+. Younger kids can attend if accompanied by an adult.  Please 
 note that there is a lot of hammering involved in this class and younger k
 ids may tire easily.\n\nWhen:\nSaturday\, December 14th at 10am\n\nWhere:
 \nClass is  taught at The Local Artisan Collective\, located at 2371 Kiese
 l Ave in down town Ogden\, just a little south of the Megaplex.\n\nHow To 
 Register And Cancelation Policy:\nThis class usually sells out and with sp
 ace being limited\, we highly recommend signing up ASAP.  You can register
  for the class at our shop or online at localartisancollective.com.  No re
 funds for canceling less than 7 days before the class begins\n\nCall/text 
 801-686-5351 for more information.\n\nAbout The Instructor:\nThis class wi
 ll be taught by Rene Venegas\, a 16th generation silversmith. His family w
 as one of the first to arrive from Spain to the Americas. His ancestor\, F
 elipe Venegas\, was the silversmith for the early cathedrals in the Domini
 can Republic and stamped the first European coins in the New World.  He ha
 s been teaching jewelry and silversmithing classes at Weber State for 15 y
 ears. In addition\, he has been featured in The Standard Examiner\, The Si
 gnpost\, KUTV Inside the Story\,  FOX13 Good Morning Utah\, The Salt Proje
 ct and KTVX Good Things Utah.\n\nVenue:   The Local Artisan Collective\n\n
 Venue Phone: (801) 399-2787\n\nVenue Website: https://localartisancollecti
 ve.com/event-calendar/\n\nAddress:\n2371 Kiesel Ave.\, Ogden\, Utah\, 8440
 4\, United States\n\nDescription:\n\nThe Local Artisan Collective in Ogden
 \, Utah\, is a hub for local artisans to showcase and sell their handmade 
 goods\, including jewelry\, art\, and home decor. It promotes community en
 gagement through workshops and classes\, making it a key destination for s
 upporting local creativity and finding unique items.
X-WR-RELCALID:2a6e8a7b0bfeaf8ba9aa316706d96f6f
X-WR-TIMEZONE:America/Denver
BEGIN:VTIMEZONE
TZID:America/Denver
BEGIN:STANDARD
TZNAME:MST
DTSTART:20251102T020000
TZOFFSETFROM:-0600
TZOFFSETTO:-0700
RDATE:20261101T020000
END:STANDARD
BEGIN:DAYLIGHT
TZNAME:MDT
DTSTART:20250309T020000
TZOFFSETFROM:-0700
TZOFFSETTO:-0600
RDATE:20260308T020000
RDATE:20270314T020000
END:DAYLIGHT
END:VTIMEZONE
BEGIN:VEVENT
UID:96f13da7-4f00-485d-b1eb-5c3fe093b5bb
DTSTAMP:20260421T084317Z
DESCRIPTION:Are YOU ready to do something different and fun? Join us for a 
 fun and exciting copper Santa making workshop\; just in time for the holid
 ays.\n\nWhat:\nIn this workshop\, you’ll learn the basics of copper bowl m
 aking\, from shaping the metal to hammering and polishing it to a shine. Y
 ou’ll also have the opportunity to get creative and design your own unique
  Santa bowl.\n\nWe will provide all the necessary supplies\, including cop
 per sheets\, tools\, and instructions. No experience is necessary\, so eve
 ryone is welcome.\n\nHere’s what to expect:\n\nWe’ll start using hammers a
 nd shaping tools to create your bowl/trivet.\nOnce your bowl is shaped\, w
 e’ll use sandpaper to smooth out any rough edges.\nFinally\, we’ll polish 
 your bowl to a beautiful shine.\nBy the end of the workshop\, you’ll have 
 a beautiful and functional copper bowl/trivet that you can use hold jewler
 y\, keys\, or simply display as a work of art.\n\nCost:\n$55 per person\n
 \nAges:\n16+. Younger kids can attend if accompanied by an adult.  Please 
 note that there is a lot of hammering involved in this class and younger k
 ids may tire easily.\n\nWhen:\nSaturday\, December 14th at 10am\n\nWhere:
 \nClass is  taught at The Local Artisan Collective\, located at 2371 Kiese
 l Ave in down town Ogden\, just a little south of the Megaplex.\n\nHow To 
 Register And Cancelation Policy:\nThis class usually sells out and with sp
 ace being limited\, we highly recommend signing up ASAP.  You can register
  for the class at our shop or online at localartisancollective.com.  No re
 funds for canceling less than 7 days before the class begins\n\nCall/text 
 801-686-5351 for more information.\n\nAbout The Instructor:\nThis class wi
 ll be taught by Rene Venegas\, a 16th generation silversmith. His family w
 as one of the first to arrive from Spain to the Americas. His ancestor\, F
 elipe Venegas\, was the silversmith for the early cathedrals in the Domini
 can Republic and stamped the first European coins in the New World.  He ha
 s been teaching jewelry and silversmithing classes at Weber State for 15 y
 ears. In addition\, he has been featured in The Standard Examiner\, The Si
 gnpost\, KUTV Inside the Story\,  FOX13 Good Morning Utah\, The Salt Proje
 ct and KTVX Good Things Utah.\n\nVenue:   The Local Artisan Collective\n\n
 Venue Phone: (801) 399-2787\n\nVenue Website: https://localartisancollecti
 ve.com/event-calendar/\n\nAddress:\n2371 Kiesel Ave.\, Ogden\, Utah\, 8440
 4\, United States\n\nDescription:\n\nThe Local Artisan Collective in Ogden
 \, Utah\, is a hub for local artisans to showcase and sell their handmade 
 goods\, including jewelry\, art\, and home decor. It promotes community en
 gagement through workshops and classes\, making it a key destination for s
 upporting local creativity and finding unique items.
DTSTART;TZID=America/Denver:20251213T100000
DTEND;TZID=America/Denver:20251213T120000
LOCATION:The Local Artisan Collective\, 2371 Kiesel Ave.\, Ogden\, UT 84403
  US
SUMMARY:Copper Santa Metalsmithing Class\, Sat Dec 13 At 10am (Taught By Re
 ne In Classroom A & B $55)
END:VEVENT
END:VCALENDAR
