BEGIN:VCALENDAR
VERSION:2.0
PRODID:-//uwnu.org//NONSGML kigkonsult.se iCalcreator 2.30.10//
CALSCALE:GREGORIAN
METHOD:PUBLISH
UID:0f228402-33c1-4fd5-a143-3c6aea70afb7
X-WR-CALDESC:Friendly Reminder: This is the last day to use the Light the W
 orld Giving Machines in Ogden. Thank you to all that has already donated a
 nd given resources to community members throughout northern Utah.
X-WR-RELCALID:f85a509c29326e8016c7e76e0412e8aa
X-WR-TIMEZONE:America/Denver
BEGIN:VTIMEZONE
TZID:America/Denver
BEGIN:STANDARD
TZNAME:MST
DTSTART:20251102T020000
TZOFFSETFROM:-0600
TZOFFSETTO:-0700
RDATE:20261101T020000
END:STANDARD
BEGIN:DAYLIGHT
TZNAME:MDT
DTSTART:20250309T020000
TZOFFSETFROM:-0700
TZOFFSETTO:-0600
RDATE:20260308T020000
RDATE:20270314T020000
END:DAYLIGHT
END:VTIMEZONE
BEGIN:VEVENT
UID:de3d1921-45ae-4bf7-a13e-99200b4cdac2
DTSTAMP:20260422T123217Z
DESCRIPTION:Friendly Reminder: This is the last day to use the Light the Wo
 rld Giving Machines in Ogden. Thank you to all that has already donated an
 d given resources to community members throughout northern Utah.
DTSTART;TZID=America/Denver:20251214T040000
DTEND;TZID=America/Denver:20251214T040001
LOCATION:Ogden Amphitheater\, 343 E 25th St\,\, Ogden\, UT 84401 US
SUMMARY:Last Day of Ogden Giving Machine
END:VEVENT
END:VCALENDAR
