BEGIN:VCALENDAR
VERSION:2.0
PRODID:-//uwnu.org//NONSGML kigkonsult.se iCalcreator 2.30.10//
CALSCALE:GREGORIAN
METHOD:PUBLISH
UID:85be5473-2d97-417a-885d-534fddbd2daf
X-WR-CALDESC:Come out of the dark and cold and make a beautiful silver spoo
 n ring with us. Perfect for the a Holiday Gift of an experience. !\n\nWhat
 :\nJoin us for a fun and creative jewelry class where you’ll transform an 
 upcycled silver spoon into a stunning ring! Unleash your inner artisan as 
 you explore the option to add a personal touch with stamped words or dates
 . With all materials and tools provided\, you’ll have everything you need 
 to craft your masterpiece! No experience necessary.  Come craft some memor
 ies with us!\n\nCost:\n$55/person\n\nAges:\n14+. Younger kids can attend i
 f accompanied by an adult.\n\nWhen:\nFriday\, December 19 at 7pm\n\nWhere:
 \nClass will be held at The Local Artisan Collective located in downtown O
 gden at 2371 Kiesel Ave\, Ogden.\nHow To Register And Cancelation Policy:
 \nSign up online here https://localartisancollective.com/events/decsilvers
 poon\n\nin person: at our shop at 2371 Kiesel Ave\n\nor text at 801-686-53
 51 and we can send an invoice to your email for payment\n\nCancellation fo
 r the class is accepted up until 7 days before the class begins.\n\nAbout 
 The Instructor:\nThis class will be taught by Rene Venegas\, a 16th genera
 tion silversmith. His family was one of the first to arrive from Spain to 
 the Americas. His ancestor\, Felipe Venegas\, was the silversmith for the 
 early cathedrals in the Dominican Republic and stamped the first European 
 coins in the New World.  He has been teaching jewelry and silversmithing c
 lasses at Weber State for 15 years. In addition\, he has been featured in 
 The Standard Examiner\, The Signpost\, KUTV Inside the Story\,  FOX13 Good
  Morning Utah\, The Salt Project and KTVX Good Things Utah.
X-WR-RELCALID:6d9c11c7dd2f2d47c41ff180c5518ffe
X-WR-TIMEZONE:America/Denver
BEGIN:VTIMEZONE
TZID:America/Denver
BEGIN:STANDARD
TZNAME:MST
DTSTART:20251102T020000
TZOFFSETFROM:-0600
TZOFFSETTO:-0700
RDATE:20261101T020000
END:STANDARD
BEGIN:DAYLIGHT
TZNAME:MDT
DTSTART:20250309T020000
TZOFFSETFROM:-0700
TZOFFSETTO:-0600
RDATE:20260308T020000
RDATE:20270314T020000
END:DAYLIGHT
END:VTIMEZONE
BEGIN:VEVENT
UID:1993e09b-d1fb-4ee2-923b-1ecf0fe04a3e
DTSTAMP:20260422T123832Z
DESCRIPTION:Come out of the dark and cold and make a beautiful silver spoon
  ring with us. Perfect for the a Holiday Gift of an experience. !\n\nWhat:
 \nJoin us for a fun and creative jewelry class where you’ll transform an u
 pcycled silver spoon into a stunning ring! Unleash your inner artisan as y
 ou explore the option to add a personal touch with stamped words or dates.
  With all materials and tools provided\, you’ll have everything you need t
 o craft your masterpiece! No experience necessary.  Come craft some memori
 es with us!\n\nCost:\n$55/person\n\nAges:\n14+. Younger kids can attend if
  accompanied by an adult.\n\nWhen:\nFriday\, December 19 at 7pm\n\nWhere:
 \nClass will be held at The Local Artisan Collective located in downtown O
 gden at 2371 Kiesel Ave\, Ogden.\nHow To Register And Cancelation Policy:
 \nSign up online here https://localartisancollective.com/events/decsilvers
 poon\n\nin person: at our shop at 2371 Kiesel Ave\n\nor text at 801-686-53
 51 and we can send an invoice to your email for payment\n\nCancellation fo
 r the class is accepted up until 7 days before the class begins.\n\nAbout 
 The Instructor:\nThis class will be taught by Rene Venegas\, a 16th genera
 tion silversmith. His family was one of the first to arrive from Spain to 
 the Americas. His ancestor\, Felipe Venegas\, was the silversmith for the 
 early cathedrals in the Dominican Republic and stamped the first European 
 coins in the New World.  He has been teaching jewelry and silversmithing c
 lasses at Weber State for 15 years. In addition\, he has been featured in 
 The Standard Examiner\, The Signpost\, KUTV Inside the Story\,  FOX13 Good
  Morning Utah\, The Salt Project and KTVX Good Things Utah.
DTSTART;TZID=America/Denver:20251219T190000
DTEND;TZID=America/Denver:20251219T210000
LOCATION:The Local Artisan Collective\, 2371 Kiesel Ave.\, Ogden\, UT 84403
  US
SUMMARY:Upcycled Vintage Silver Spoon Ring\, Fri\, Dec 19 at 7pm (Taught By
  Rene in Classrooms A & B\, $55)
END:VEVENT
END:VCALENDAR
