BEGIN:VCALENDAR
VERSION:2.0
PRODID:-//uwnu.org//NONSGML kigkonsult.se iCalcreator 2.30.10//
CALSCALE:GREGORIAN
METHOD:PUBLISH
UID:a2ccf151-648b-4200-a630-b43bde26310e
X-WR-CALDESC:Cats and Dogs Children’s Winter Art Camp!\nWhat:\nDo you love 
 cats and dogs?  Then this is the art camp for you!  Paint and decorate you
 r own cat mask\, make a dog painting and a dog and cat out of clay.  Now t
 his is going to be an awesome art camp!\nCost:\nThe cost is $29 and includ
 es all supplies.\nWhen:\nDecember 29th\, Monday\, 10:00am to 12:00pm\nAges
 :\nThis is for ages 5+\nWhere:\nThe Local Artisan Collective at 2371 Kiese
 l Ave\, Ogden\, Utah 84403\nHow to Sign Up and Cancelation Policy:\nSign u
 p here  https://localartisancollective.com/events/cats-and-dogs-art-camp/
 \nOR register in person at the store located at 2371 Kiesel Ave\nOR regist
 er over the phone by calling 801-399-ARTS (2787)\nNo refunds for cancellin
 g within 30 days of the class starting.\nFind lots of amazing camps this w
 inter.   Find these here: https://localartisancollective.com/event\nWho is
  the Teacher:\nThis class is taught by Stephanie Howerton from Our Childre
 n’s Earth. She has always had a passion for creating things. She loves mar
 bling\, hand dyeing and creating clothes\, jewelry and household items.\nS
 he says “My heart delights in creating something new so I tend to explore 
 a variety of arts. I hope that you feel that same joy while using your new
  purchase.”\nWe have been featured in the Huffington Post\, VEIN Magazine\
 , Indie Ogden\, Standard Examiner\, Good Things Utah\, Fox 13 News and a v
 ariety of blogs and more.\nStephanie also teaches a wide variety of classe
 s at The Local Artisan Collective.
X-WR-RELCALID:3f22aad6862c5f1e224e49b3472fe582
X-WR-TIMEZONE:America/Denver
BEGIN:VTIMEZONE
TZID:America/Denver
BEGIN:STANDARD
TZNAME:MST
DTSTART:20251102T020000
TZOFFSETFROM:-0600
TZOFFSETTO:-0700
RDATE:20261101T020000
END:STANDARD
BEGIN:DAYLIGHT
TZNAME:MDT
DTSTART:20250309T020000
TZOFFSETFROM:-0700
TZOFFSETTO:-0600
RDATE:20260308T020000
RDATE:20270314T020000
END:DAYLIGHT
END:VTIMEZONE
BEGIN:VEVENT
UID:67e91e4a-9665-4175-9344-f2cfe9ce8b0b
DTSTAMP:20260422T123719Z
DESCRIPTION:Cats and Dogs Children’s Winter Art Camp!\nWhat:\nDo you love c
 ats and dogs?  Then this is the art camp for you!  Paint and decorate your
  own cat mask\, make a dog painting and a dog and cat out of clay.  Now th
 is is going to be an awesome art camp!\nCost:\nThe cost is $29 and include
 s all supplies.\nWhen:\nDecember 29th\, Monday\, 10:00am to 12:00pm\nAges:
 \nThis is for ages 5+\nWhere:\nThe Local Artisan Collective at 2371 Kiesel
  Ave\, Ogden\, Utah 84403\nHow to Sign Up and Cancelation Policy:\nSign up
  here  https://localartisancollective.com/events/cats-and-dogs-art-camp/\n
 OR register in person at the store located at 2371 Kiesel Ave\nOR register
  over the phone by calling 801-399-ARTS (2787)\nNo refunds for cancelling 
 within 30 days of the class starting.\nFind lots of amazing camps this win
 ter.   Find these here: https://localartisancollective.com/event\nWho is t
 he Teacher:\nThis class is taught by Stephanie Howerton from Our Children’
 s Earth. She has always had a passion for creating things. She loves marbl
 ing\, hand dyeing and creating clothes\, jewelry and household items.\nShe
  says “My heart delights in creating something new so I tend to explore a 
 variety of arts. I hope that you feel that same joy while using your new p
 urchase.”\nWe have been featured in the Huffington Post\, VEIN Magazine\, 
 Indie Ogden\, Standard Examiner\, Good Things Utah\, Fox 13 News and a var
 iety of blogs and more.\nStephanie also teaches a wide variety of classes 
 at The Local Artisan Collective.
DTSTART;TZID=America/Denver:20251229T100000
DTEND;TZID=America/Denver:20251229T120000
LOCATION:2371 Kiesel Ave.\, Ogden\, UT 84403 US
SUMMARY:Cats and Dogs Art Camp on December 29th from 10:00am to 12:00pm
END:VEVENT
END:VCALENDAR
