BEGIN:VCALENDAR
VERSION:2.0
PRODID:-//uwnu.org//NONSGML kigkonsult.se iCalcreator 2.30.10//
CALSCALE:GREGORIAN
METHOD:PUBLISH
UID:b51e8f08-62b9-4ece-b70c-49dd2d4806d3
X-WR-CALDESC:Pirate Winter Art Camp!\nWhat:\nArgghhhhhh\,  it is Pirate tim
 e!  Join in this class to paint your own pirate map\, make and design your
  own clay coins and pirate bag then build your own pirate diorama.\nCost:
 \nThe cost is $29 and includes all supplies.\nWhen:\nDecember 29th\, Monda
 y\, 1:00pm to 3:00pm\nAges:\nThis is for ages 5+\nWhere:\nThe Local Artisa
 n Collective at 2371 Kiesel Ave\, Ogden\, Utah 84403\nHow to Sign Up and C
 ancelation Policy:\nSign up here  https://localartisancollective.com/event
 s/pirates-art-camp/\nOR register in person at the store located at 2371 Ki
 esel Ave\nOR register over the phone by calling 801-399-ARTS (2787)\nNo re
 funds for cancelling within 30 days of the class starting.\nFind lots of a
 mazing camps this winter.   Find these here: https://localartisancollectiv
 e.com/event\nWho is the Teacher:\nThis class is taught by Stephanie Howert
 on from Our Children’s Earth. She has always had a passion for creating th
 ings. She loves marbling\, hand dyeing and creating clothes\, jewelry and 
 household items.\nShe says “My heart delights in creating something new so
  I tend to explore a variety of arts. I hope that you feel that same joy w
 hile using your new purchase.”\nWe have been featured in the Huffington Po
 st\, VEIN Magazine\, Indie Ogden\, Standard Examiner\, Good Things Utah\, 
 Fox 13 News and a variety of blogs and more.\nStephanie also teaches a wid
 e variety of classes at The Local Artisan Collective.
X-WR-RELCALID:ad3a75b90ba2461b26d7232e66418954
X-WR-TIMEZONE:America/Denver
BEGIN:VTIMEZONE
TZID:America/Denver
BEGIN:STANDARD
TZNAME:MST
DTSTART:20251102T020000
TZOFFSETFROM:-0600
TZOFFSETTO:-0700
RDATE:20261101T020000
END:STANDARD
BEGIN:DAYLIGHT
TZNAME:MDT
DTSTART:20250309T020000
TZOFFSETFROM:-0700
TZOFFSETTO:-0600
RDATE:20260308T020000
RDATE:20270314T020000
END:DAYLIGHT
END:VTIMEZONE
BEGIN:VEVENT
UID:0a082409-4943-4e25-a5c2-2df0415fba5d
DTSTAMP:20260422T123151Z
DESCRIPTION:Pirate Winter Art Camp!\nWhat:\nArgghhhhhh\,  it is Pirate time
 !  Join in this class to paint your own pirate map\, make and design your 
 own clay coins and pirate bag then build your own pirate diorama.\nCost:\n
 The cost is $29 and includes all supplies.\nWhen:\nDecember 29th\, Monday\
 , 1:00pm to 3:00pm\nAges:\nThis is for ages 5+\nWhere:\nThe Local Artisan 
 Collective at 2371 Kiesel Ave\, Ogden\, Utah 84403\nHow to Sign Up and Can
 celation Policy:\nSign up here  https://localartisancollective.com/events/
 pirates-art-camp/\nOR register in person at the store located at 2371 Kies
 el Ave\nOR register over the phone by calling 801-399-ARTS (2787)\nNo refu
 nds for cancelling within 30 days of the class starting.\nFind lots of ama
 zing camps this winter.   Find these here: https://localartisancollective.
 com/event\nWho is the Teacher:\nThis class is taught by Stephanie Howerton
  from Our Children’s Earth. She has always had a passion for creating thin
 gs. She loves marbling\, hand dyeing and creating clothes\, jewelry and ho
 usehold items.\nShe says “My heart delights in creating something new so I
  tend to explore a variety of arts. I hope that you feel that same joy whi
 le using your new purchase.”\nWe have been featured in the Huffington Post
 \, VEIN Magazine\, Indie Ogden\, Standard Examiner\, Good Things Utah\, Fo
 x 13 News and a variety of blogs and more.\nStephanie also teaches a wide 
 variety of classes at The Local Artisan Collective.
DTSTART;TZID=America/Denver:20251229T130000
DTEND;TZID=America/Denver:20251229T150000
LOCATION:2371 Kiesel Ave.\, Ogden\, UT 84403 US
SUMMARY:Pirate Art Camp
END:VEVENT
END:VCALENDAR
