BEGIN:VCALENDAR
VERSION:2.0
PRODID:-//uwnu.org//NONSGML kigkonsult.se iCalcreator 2.30.10//
CALSCALE:GREGORIAN
METHOD:PUBLISH
UID:5a855fe0-64ad-41a3-b457-ee7096f5a485
X-WR-CALDESC:Join us for a tour of the Jump the Moon Art Studio & Gallery! 
 Come learn about a nonprofit that is making art accessible to everyone wit
 h diverse abilities. \n\nPhoto: Jump the Moon Art Studio and Gallery websi
 te
X-WR-RELCALID:5c4410297aa09e07edc5054e21360bb7
X-WR-TIMEZONE:America/Denver
BEGIN:VTIMEZONE
TZID:America/Denver
BEGIN:STANDARD
TZNAME:MST
DTSTART:20251102T020000
TZOFFSETFROM:-0600
TZOFFSETTO:-0700
RDATE:20261101T020000
END:STANDARD
BEGIN:DAYLIGHT
TZNAME:MDT
DTSTART:20250309T020000
TZOFFSETFROM:-0700
TZOFFSETTO:-0600
RDATE:20260308T020000
RDATE:20270314T020000
END:DAYLIGHT
END:VTIMEZONE
BEGIN:VEVENT
UID:dfc7c583-cecd-4602-814b-32978885f84c
DTSTAMP:20260422T123233Z
DESCRIPTION:Join us for a tour of the Jump the Moon Art Studio & Gallery! C
 ome learn about a nonprofit that is making art accessible to everyone with
  diverse abilities. \n\nPhoto: Jump the Moon Art Studio and Gallery websit
 e
DTSTART;TZID=America/Denver:20260107T100000
DTEND;TZID=America/Denver:20260107T110000
LOCATION:Jump the Moon Art Studio and Gallery\, 48 N 100 W\,\, Logan\, UT 8
 4321 US
SUMMARY:Jump the Moon Art Studio and Gallery Tour
END:VEVENT
END:VCALENDAR
