BEGIN:VCALENDAR
VERSION:2.0
PRODID:-//uwnu.org//NONSGML kigkonsult.se iCalcreator 2.30.10//
CALSCALE:GREGORIAN
METHOD:PUBLISH
UID:3cdddbd3-0932-4b93-aa7c-7399b41d8507
X-WR-CALDESC:Join in the fun learning how to create a Marbled Table Runner\
 , Scarf or Tie!!\nWhat and Cost:\n-Relax and learn why marbling is so fun!
 ! Enjoy this class in creating a marbled pattern by floating paint and dip
 ping a cotton or silk scarf\, table runner or a silk tie. The tools are ea
 sy to use and you will create a one of a kind piece of wearable and usable
  art.\n-All supplies are included and everyone will get an 11 x 60 Cotton 
 Scarf / Table Runner $29. Or you can upgrade to an 11 x 60 Silk Scarf / Ta
 ble Runner or a Silk Tie to Marble for $39. You can pay the extra when you
  come to class if you would like to do silk.\n\nWhen:\nThis class will be 
 Saturday\, January 17th 3:00 to 5:00\nHow to Register and Cancelation Poli
 cy:\nSign up online:  https://localartisancollective.com/events/marbling-a
 -table-cloth-scarf-or-tie-on-january-17/\nor call Stephanie at 801-940-697
 2\n\nor email us at our_childrens_earth@yahoo.com and they can do a paymen
 t over the phone for you or send you an invoice to your email for payment.
 \n\nCancellation for the class is accepted up until 7 days before the part
 y starts.\n\nWhere is this held at:\nThe Local Artisan Collective located 
 at 2371 Kiesel Ave in Ogden.\nAges:\nAll ages but children must be accompa
 nied by an adult to help.\nWho teaches this class:\nThis class is taught b
 y Stephanie Howerton from Our Children’s Earth. She has always had a passi
 on for creating things. She loves marbling\, hand dyeing and creating clot
 hes\, jewelry and household items.\nShe says “My heart delights in creatin
 g something new so I tend to explore a variety of arts. I hope that you fe
 el that same joy while using your new purchase.”\n\nWe have been featured 
 in the Huffington Post\, VEIN Magazine\, Indie Ogden\, Standard Examiner\,
  Good Things Utah\, Fox 13 News and a variety of blogs and more.\n\nStepha
 nie also teaches a wide variety of classes at The Local Artisan Collective
 .
X-WR-RELCALID:e52675beda1200fb3ee307dcdd84a1f9
X-WR-TIMEZONE:America/Denver
BEGIN:VTIMEZONE
TZID:America/Denver
BEGIN:STANDARD
TZNAME:MST
DTSTART:20251102T020000
TZOFFSETFROM:-0600
TZOFFSETTO:-0700
RDATE:20261101T020000
END:STANDARD
BEGIN:DAYLIGHT
TZNAME:MDT
DTSTART:20250309T020000
TZOFFSETFROM:-0700
TZOFFSETTO:-0600
RDATE:20260308T020000
RDATE:20270314T020000
END:DAYLIGHT
END:VTIMEZONE
BEGIN:VEVENT
UID:ff47e4b6-1be0-459b-93b5-668536944597
DTSTAMP:20260422T111212Z
DESCRIPTION:Join in the fun learning how to create a Marbled Table Runner\,
  Scarf or Tie!!\nWhat and Cost:\n-Relax and learn why marbling is so fun!!
  Enjoy this class in creating a marbled pattern by floating paint and dipp
 ing a cotton or silk scarf\, table runner or a silk tie. The tools are eas
 y to use and you will create a one of a kind piece of wearable and usable 
 art.\n-All supplies are included and everyone will get an 11 x 60 Cotton S
 carf / Table Runner $29. Or you can upgrade to an 11 x 60 Silk Scarf / Tab
 le Runner or a Silk Tie to Marble for $39. You can pay the extra when you 
 come to class if you would like to do silk.\n\nWhen:\nThis class will be S
 aturday\, January 17th 3:00 to 5:00\nHow to Register and Cancelation Polic
 y:\nSign up online:  https://localartisancollective.com/events/marbling-a-
 table-cloth-scarf-or-tie-on-january-17/\nor call Stephanie at 801-940-6972
 \n\nor email us at our_childrens_earth@yahoo.com and they can do a payment
  over the phone for you or send you an invoice to your email for payment.
 \n\nCancellation for the class is accepted up until 7 days before the part
 y starts.\n\nWhere is this held at:\nThe Local Artisan Collective located 
 at 2371 Kiesel Ave in Ogden.\nAges:\nAll ages but children must be accompa
 nied by an adult to help.\nWho teaches this class:\nThis class is taught b
 y Stephanie Howerton from Our Children’s Earth. She has always had a passi
 on for creating things. She loves marbling\, hand dyeing and creating clot
 hes\, jewelry and household items.\nShe says “My heart delights in creatin
 g something new so I tend to explore a variety of arts. I hope that you fe
 el that same joy while using your new purchase.”\n\nWe have been featured 
 in the Huffington Post\, VEIN Magazine\, Indie Ogden\, Standard Examiner\,
  Good Things Utah\, Fox 13 News and a variety of blogs and more.\n\nStepha
 nie also teaches a wide variety of classes at The Local Artisan Collective
 .
DTSTART;TZID=America/Denver:20260117T150000
DTEND;TZID=America/Denver:20260117T170000
LOCATION:2371 Kiesel Ave.\, Ogden\, UT 84403 US
SUMMARY:Marbling a Table Cloth\, Scarf or Tie on January 17th from 3:00- to
  5:00 (Taught by Stephanie\, Classroom A and B\, $29)
END:VEVENT
END:VCALENDAR
