BEGIN:VCALENDAR
VERSION:2.0
PRODID:-//uwnu.org//NONSGML kigkonsult.se iCalcreator 2.30.10//
CALSCALE:GREGORIAN
METHOD:PUBLISH
UID:a523a5eb-6545-4d42-bfab-e48c3253f538
X-WR-CALDESC:Pressed Flowers in Beautiful Hanging Glass Class\n\nWhat and C
 ost:\n\nFlowers are one of the most beautiful things on earth.  So why not
  decorate your house with stunning pressed flowers in a hanging glass hold
 er.  There will be a variety of hanging glass pieces and flowers to choose
  from. In this class you will get to make 1\; choose the flowers you want 
 to decorate with\, and design your own phenomenal piece.  I will also have
  dictionary and book papers you can choose from as an additional backgroun
 d. This class is $39 and includes all supplies.\n\nWhen:\n\nSaturday\, Jan
 uary 17th from 12:00pm to 2:00pm\n\nWhere:\n\nThe Local Artisan Collective
  located at 2371 Kiesel Ave\, Ogden.\n\nHow to Register and Cancelation Po
 licy:\n\nRegister for this class online:\n\nhttps://localartisancollective
 .com/events/pressed-flower-in-hanging-glass-january-17/\n\nor go into The 
 Local Artisan Collective at 2371 Kiesel Ave\, Ogden\n\nor call the store a
 t 801-399-2787 (ARTS) or Stephanie at 801-940-6972\n\nor email Stephanie a
 t our_childrens_earth@yahoo.com\n\nClass registration can be canceled up t
 o 7 days before the class date.\n\nAges:\n\nThis class is for adults and t
 eens\n\nWho:\n\nThis class is taught by Stephanie Howerton from Our Childr
 en’s Earth. She has always had a passion for creating things. She loves ma
 rbling\, hand dyeing and creating clothes\, jewelry and household items.\n
 \nShe says “My heart delights in creating something new so I tend to explo
 re a variety of arts.  I hope that you feel that same joy while using your
  new purchase.”\n\nWe have been featured in the Huffington Post\, Fresh Li
 ving KUTV 2 News\, VEIN Magazine\, Indie Ogden\, Standard Examiner\, Good 
 Things Utah\, Fox 13 News and a variety of blogs and more.\n\nStephanie al
 so teaches a wide variety of classes at The Local Artisan Collective.
X-WR-RELCALID:a99e7d2422cc21ce29f14ea29f42ddeb
X-WR-TIMEZONE:America/Denver
BEGIN:VTIMEZONE
TZID:America/Denver
BEGIN:STANDARD
TZNAME:MST
DTSTART:20251102T020000
TZOFFSETFROM:-0600
TZOFFSETTO:-0700
RDATE:20261101T020000
END:STANDARD
BEGIN:DAYLIGHT
TZNAME:MDT
DTSTART:20250309T020000
TZOFFSETFROM:-0700
TZOFFSETTO:-0600
RDATE:20260308T020000
RDATE:20270314T020000
END:DAYLIGHT
END:VTIMEZONE
BEGIN:VEVENT
UID:98063c68-6a3a-4c99-8ebe-5794f15fc848
DTSTAMP:20260422T111524Z
DESCRIPTION:Pressed Flowers in Beautiful Hanging Glass Class\n\nWhat and Co
 st:\n\nFlowers are one of the most beautiful things on earth.  So why not 
 decorate your house with stunning pressed flowers in a hanging glass holde
 r.  There will be a variety of hanging glass pieces and flowers to choose 
 from. In this class you will get to make 1\; choose the flowers you want t
 o decorate with\, and design your own phenomenal piece.  I will also have 
 dictionary and book papers you can choose from as an additional background
 . This class is $39 and includes all supplies.\n\nWhen:\n\nSaturday\, Janu
 ary 17th from 12:00pm to 2:00pm\n\nWhere:\n\nThe Local Artisan Collective 
 located at 2371 Kiesel Ave\, Ogden.\n\nHow to Register and Cancelation Pol
 icy:\n\nRegister for this class online:\n\nhttps://localartisancollective.
 com/events/pressed-flower-in-hanging-glass-january-17/\n\nor go into The L
 ocal Artisan Collective at 2371 Kiesel Ave\, Ogden\n\nor call the store at
  801-399-2787 (ARTS) or Stephanie at 801-940-6972\n\nor email Stephanie at
  our_childrens_earth@yahoo.com\n\nClass registration can be canceled up to
  7 days before the class date.\n\nAges:\n\nThis class is for adults and te
 ens\n\nWho:\n\nThis class is taught by Stephanie Howerton from Our Childre
 n’s Earth. She has always had a passion for creating things. She loves mar
 bling\, hand dyeing and creating clothes\, jewelry and household items.\n
 \nShe says “My heart delights in creating something new so I tend to explo
 re a variety of arts.  I hope that you feel that same joy while using your
  new purchase.”\n\nWe have been featured in the Huffington Post\, Fresh Li
 ving KUTV 2 News\, VEIN Magazine\, Indie Ogden\, Standard Examiner\, Good 
 Things Utah\, Fox 13 News and a variety of blogs and more.\n\nStephanie al
 so teaches a wide variety of classes at The Local Artisan Collective.
DTSTART;TZID=America/Denver:20260117T120000
DTEND;TZID=America/Denver:20260117T140000
LOCATION:2371 Kiesel Ave.\, Ogden\, UT 84403 US
SUMMARY:Pressed Flower in Hanging Glass Class on January 17th from 12:00 to
  2:00 (Taught by Stephanie\, Classroom A and B\, $39)
END:VEVENT
END:VCALENDAR
