BEGIN:VCALENDAR
VERSION:2.0
PRODID:-//uwnu.org//NONSGML kigkonsult.se iCalcreator 2.30.10//
CALSCALE:GREGORIAN
METHOD:PUBLISH
UID:636274bb-7856-4b2a-8b2f-4f1715fa4e52
X-WR-CALDESC:Creative Tie-Dye Workshop: Scarves\, Bags\, and T-Shirts\nWhat
 :\nUnleash your creativity and dive into the vibrant world of tie-dye! In 
 this hands-on workshop\, you’ll learn various tie-dye techniques to transf
 orm plain fabrics into stunning\, colorful pieces. Whether you’re a beginn
 er or have some experience\, this class is designed to help you create uni
 que and wearable art. We’ll guide you through each step\, from selecting d
 yes\, folding patterns like spiral\, bullseye and scrunch dye methods. Com
 e and dye a Bag\, Scarf or a T-Shirt (if you want to dye a t-shirt let Ste
 phanie know what size shirt by January 15th).\nBring your creativity and l
 eave with a collection of personalized\, wearable art pieces. Join us and 
 express yourself through the magical art of tie-dye! Cost is $25 per item
 \nWhen:\nFriday\, January 23rd 8:00 to 9:00\nWhere:\nThe Local Artisan Col
 lective located at 2371 Kiesel Ave\, Ogden\, Utah 84403\nHow to sign up an
 d cancellation policy: \nSign up online at:  https://localartisancollectiv
 e.com/events/dye-a-scarf-bag-or-t-shirt-workshop-on-jan-23/\nOR In the sto
 re located at 2371 Kiesel Ave in Ogden.\nOR email us at our_childrens_eart
 h@yahoo.com and we can send you an invoice for payment.\nCancellation for 
 the class is accepted up until 7 days before the party starts.\nAges:\nThi
 s class is for adults and 8+\nWho:\nThis class is taught by Stephanie Howe
 rton from Our Children’s Earth. She has always had a passion for creating 
 things. She loves marbling\, hand dyeing and creating clothes\, jewelry an
 d household items.\nShe says “My heart delights in creating something new 
 so I tend to explore a variety of arts. I hope that you feel that same joy
  while using your new purchase.”\nWe have been featured in the Huffington 
 Post\, Fresh Living KUTV 2 News\, VEIN Magazine\, Indie Ogden\, Standard E
 xaminer\, Good Things Utah\, Fox 13 News and a variety of blogs and more.
 \nStephanie also teaches a wide variety of classes at The Local Artisan Co
 llective.
X-WR-RELCALID:7c7ce14439aa1868da7105bf7b63bea4
X-WR-TIMEZONE:America/Denver
BEGIN:VTIMEZONE
TZID:America/Denver
BEGIN:STANDARD
TZNAME:MST
DTSTART:20251102T020000
TZOFFSETFROM:-0600
TZOFFSETTO:-0700
RDATE:20261101T020000
END:STANDARD
BEGIN:DAYLIGHT
TZNAME:MDT
DTSTART:20250309T020000
TZOFFSETFROM:-0700
TZOFFSETTO:-0600
RDATE:20260308T020000
RDATE:20270314T020000
END:DAYLIGHT
END:VTIMEZONE
BEGIN:VEVENT
UID:d674be5b-14f2-4fff-aedc-338391dce10c
DTSTAMP:20260422T111039Z
DESCRIPTION:Creative Tie-Dye Workshop: Scarves\, Bags\, and T-Shirts\nWhat:
 \nUnleash your creativity and dive into the vibrant world of tie-dye! In t
 his hands-on workshop\, you’ll learn various tie-dye techniques to transfo
 rm plain fabrics into stunning\, colorful pieces. Whether you’re a beginne
 r or have some experience\, this class is designed to help you create uniq
 ue and wearable art. We’ll guide you through each step\, from selecting dy
 es\, folding patterns like spiral\, bullseye and scrunch dye methods. Come
  and dye a Bag\, Scarf or a T-Shirt (if you want to dye a t-shirt let Step
 hanie know what size shirt by January 15th).\nBring your creativity and le
 ave with a collection of personalized\, wearable art pieces. Join us and e
 xpress yourself through the magical art of tie-dye! Cost is $25 per item\n
 When:\nFriday\, January 23rd 8:00 to 9:00\nWhere:\nThe Local Artisan Colle
 ctive located at 2371 Kiesel Ave\, Ogden\, Utah 84403\nHow to sign up and 
 cancellation policy: \nSign up online at:  https://localartisancollective.
 com/events/dye-a-scarf-bag-or-t-shirt-workshop-on-jan-23/\nOR In the store
  located at 2371 Kiesel Ave in Ogden.\nOR email us at our_childrens_earth@
 yahoo.com and we can send you an invoice for payment.\nCancellation for th
 e class is accepted up until 7 days before the party starts.\nAges:\nThis 
 class is for adults and 8+\nWho:\nThis class is taught by Stephanie Howert
 on from Our Children’s Earth. She has always had a passion for creating th
 ings. She loves marbling\, hand dyeing and creating clothes\, jewelry and 
 household items.\nShe says “My heart delights in creating something new so
  I tend to explore a variety of arts. I hope that you feel that same joy w
 hile using your new purchase.”\nWe have been featured in the Huffington Po
 st\, Fresh Living KUTV 2 News\, VEIN Magazine\, Indie Ogden\, Standard Exa
 miner\, Good Things Utah\, Fox 13 News and a variety of blogs and more.\nS
 tephanie also teaches a wide variety of classes at The Local Artisan Colle
 ctive.
DTSTART;TZID=America/Denver:20260123T200000
DTEND;TZID=America/Denver:20260123T210000
LOCATION:2371 Kiesel Ave.\, Ogden\, UT 84403 US
SUMMARY:Dye a Scarf\, Bag or T-Shirt Workshop on January 23rd from 8:00pm t
 o 9:00pm (Taught by Stephanie\, Classroom A and B\, $25)
END:VEVENT
END:VCALENDAR
