BEGIN:VCALENDAR
VERSION:2.0
PRODID:-//uwnu.org//NONSGML kigkonsult.se iCalcreator 2.30.10//
CALSCALE:GREGORIAN
METHOD:PUBLISH
UID:0f370b4a-0f82-4f21-bb56-209afd775417
X-WR-CALDESC:The Charm Bar – Drop In & Design Your Own Necklace or Bracelet
 !\nWhat: \nGet ready for a fun\, creative jewelry-making experience where 
 YOU are the designer! At The Charm Bar\, you’ll create a custom charm neck
 lace that reflects your personality\, passions\, and style.\nHow it Works:
 \nn Drop in anytime during the 2-hour event\, or stay for the full session
 —it’s up to you!\n• Choose from a variety of silver and gold-tone chains.
 \nn Pick from thousands of charms—classic\, quirky\, meaningful\, and fun!
 \nn Learn how to attach charms yourself\, or I’ll add them for you—whichev
 er you prefer!\nCost:\n✨ $15 – Includes one chain + one charm\n✨ Additiona
 l charms: $4.99 each.  Buy 5+ charms & get $1 off each charm (you can pay 
 for an extra the night of the party)!\nPerfect for a girls’ night out\, a 
 creative date\, a mother-daughter activity\, or just some ‘me time’ to des
 ign something special! Want to come back for more? We’ll be offering speci
 al seasonal themes\, including holiday charms\, friendship necklaces\, bir
 thstone collections\, and more—so every Charm Bar is a fun experience! Or 
 book a party with us!\nWhen:\nFriday\, November 14th 5:00 to 7:00\, Drop I
 n anytime during this time period\nWhere:\nThe Local Artisan Collective lo
 cated at 2371 Kiesel Ave.\, Ogden\, Utah 84401\nHow to Register and Cancel
 ation Policy: \nSign up online:  https://localartisancollective.com/events
 /charm-bar-november-15/\nOR email us at our_childrens_earth@yahoo.com and 
 they can do a payment over the phone for you or send you an invoice to you
 r email for payment.\nCancellation for the class is accepted up until 7 da
 ys before the party starts.\nOR No RSVP needed—just drop in and get charme
 d!\nTeacher:\nThis class is taught by Stephanie Howerton from Our Children
 ’s Earth. She has always had a passion for creating things. She loves marb
 ling\, hand dyeing and creating clothes\, jewelry and household items.\nSh
 e says “My heart delights in creating something new so I tend to explore a
  variety of arts. I hope that you feel that same joy while using your new 
 purchase.”\nWe have been featured in the Huffington Post\, VEIN Magazine\,
  Indie Ogden\, Standard Examiner\, Good Things Utah\, Fox 13 News and a va
 riety of blogs and more.\nStephanie also teaches a wide variety of classes
  at The Local Artisan Collective.
X-WR-RELCALID:49ecf8c669ba473e3784f70a3fbbfc35
X-WR-TIMEZONE:America/Denver
BEGIN:VTIMEZONE
TZID:America/Denver
BEGIN:STANDARD
TZNAME:MST
DTSTART:20251102T020000
TZOFFSETFROM:-0600
TZOFFSETTO:-0700
RDATE:20261101T020000
END:STANDARD
BEGIN:DAYLIGHT
TZNAME:MDT
DTSTART:20250309T020000
TZOFFSETFROM:-0700
TZOFFSETTO:-0600
RDATE:20260308T020000
RDATE:20270314T020000
END:DAYLIGHT
END:VTIMEZONE
BEGIN:VEVENT
UID:6d38e942-40cc-449e-a228-b16909176984
DTSTAMP:20260422T111316Z
DESCRIPTION:The Charm Bar – Drop In & Design Your Own Necklace or Bracelet!
 \nWhat: \nGet ready for a fun\, creative jewelry-making experience where Y
 OU are the designer! At The Charm Bar\, you’ll create a custom charm neckl
 ace that reflects your personality\, passions\, and style.\nHow it Works:
 \nn Drop in anytime during the 2-hour event\, or stay for the full session
 —it’s up to you!\n• Choose from a variety of silver and gold-tone chains.
 \nn Pick from thousands of charms—classic\, quirky\, meaningful\, and fun!
 \nn Learn how to attach charms yourself\, or I’ll add them for you—whichev
 er you prefer!\nCost:\n✨ $15 – Includes one chain + one charm\n✨ Additiona
 l charms: $4.99 each.  Buy 5+ charms & get $1 off each charm (you can pay 
 for an extra the night of the party)!\nPerfect for a girls’ night out\, a 
 creative date\, a mother-daughter activity\, or just some ‘me time’ to des
 ign something special! Want to come back for more? We’ll be offering speci
 al seasonal themes\, including holiday charms\, friendship necklaces\, bir
 thstone collections\, and more—so every Charm Bar is a fun experience! Or 
 book a party with us!\nWhen:\nFriday\, November 14th 5:00 to 7:00\, Drop I
 n anytime during this time period\nWhere:\nThe Local Artisan Collective lo
 cated at 2371 Kiesel Ave.\, Ogden\, Utah 84401\nHow to Register and Cancel
 ation Policy: \nSign up online:  https://localartisancollective.com/events
 /charm-bar-november-15/\nOR email us at our_childrens_earth@yahoo.com and 
 they can do a payment over the phone for you or send you an invoice to you
 r email for payment.\nCancellation for the class is accepted up until 7 da
 ys before the party starts.\nOR No RSVP needed—just drop in and get charme
 d!\nTeacher:\nThis class is taught by Stephanie Howerton from Our Children
 ’s Earth. She has always had a passion for creating things. She loves marb
 ling\, hand dyeing and creating clothes\, jewelry and household items.\nSh
 e says “My heart delights in creating something new so I tend to explore a
  variety of arts. I hope that you feel that same joy while using your new 
 purchase.”\nWe have been featured in the Huffington Post\, VEIN Magazine\,
  Indie Ogden\, Standard Examiner\, Good Things Utah\, Fox 13 News and a va
 riety of blogs and more.\nStephanie also teaches a wide variety of classes
  at The Local Artisan Collective.
DTSTART;TZID=America/Denver:20260123T170000
DTEND;TZID=America/Denver:20260123T190000
LOCATION:2371 Kiesel Ave.\, Ogden\, UT 84403 US
SUMMARY:The Charm Bar – Drop In & Design Your Own Necklace! on January 23rd
  from 5:00 to 7:00 (Taught by Stephanie\, Classroom A and B\, $15)
END:VEVENT
END:VCALENDAR
