BEGIN:VCALENDAR
VERSION:2.0
PRODID:-//uwnu.org//NONSGML kigkonsult.se iCalcreator 2.30.10//
CALSCALE:GREGORIAN
METHOD:PUBLISH
UID:2b0fca5f-8a3f-4aee-b888-bc6b0ad06863
X-WR-CALDESC:Please join us for our 19th bi-annual art and craft supply swa
 p.\nWe all have the drawer or closet of unused or partially used art and c
 raft supplies for “just in case!”\nSo now you can bring those unused or un
 finished art supplies\, drop them off and then go “shopping” from what oth
 ers have brought.\nAll FREE.\nDon’t have items to bring? That’s ok. Come a
 nyway and go shopping. We always have plenty for all.\nAfter 2pm\, we will
  not accept new items. However\, anything left over will be available for 
 FREE to the community until 7pm.\nAfter that\, anything left will he donat
 ed.\nVenue:   The Local Artisan Collective\n\nVenue Phone: (801) 399-2787
 \n\nVenue Website: https://localartisancollective.com/event-calendar/\n\nA
 ddress:\n2371 Kiesel Ave.\, Ogden\, Utah\, 84404\, United States\n\nDescri
 ption:\n\nThe Local Artisan Collective in Ogden\, Utah\, is a hub for loca
 l artisans to showcase and sell their handmade goods\, including jewelry\,
  art\, and home decor. It promotes community engagement through workshops 
 and classes\, making it a key destination for supporting local creativity 
 and finding unique items.
X-WR-RELCALID:bf8f2fb0c047d3e687708f4bf6dcdd0c
X-WR-TIMEZONE:America/Denver
BEGIN:VTIMEZONE
TZID:America/Denver
BEGIN:STANDARD
TZNAME:MST
DTSTART:20251102T020000
TZOFFSETFROM:-0600
TZOFFSETTO:-0700
RDATE:20261101T020000
END:STANDARD
BEGIN:DAYLIGHT
TZNAME:MDT
DTSTART:20250309T020000
TZOFFSETFROM:-0700
TZOFFSETTO:-0600
RDATE:20260308T020000
RDATE:20270314T020000
END:DAYLIGHT
END:VTIMEZONE
BEGIN:VEVENT
UID:38d34a72-e37b-4b26-8e33-33f9baf63012
DTSTAMP:20260422T111316Z
DESCRIPTION:Please join us for our 19th bi-annual art and craft supply swap
 .\nWe all have the drawer or closet of unused or partially used art and cr
 aft supplies for “just in case!”\nSo now you can bring those unused or unf
 inished art supplies\, drop them off and then go “shopping” from what othe
 rs have brought.\nAll FREE.\nDon’t have items to bring? That’s ok. Come an
 yway and go shopping. We always have plenty for all.\nAfter 2pm\, we will 
 not accept new items. However\, anything left over will be available for F
 REE to the community until 7pm.\nAfter that\, anything left will he donate
 d.\nVenue:   The Local Artisan Collective\n\nVenue Phone: (801) 399-2787\n
 \nVenue Website: https://localartisancollective.com/event-calendar/\n\nAdd
 ress:\n2371 Kiesel Ave.\, Ogden\, Utah\, 84404\, United States\n\nDescript
 ion:\n\nThe Local Artisan Collective in Ogden\, Utah\, is a hub for local 
 artisans to showcase and sell their handmade goods\, including jewelry\, a
 rt\, and home decor. It promotes community engagement through workshops an
 d classes\, making it a key destination for supporting local creativity an
 d finding unique items.
DTSTART;TZID=America/Denver:20260124T120000
DTEND;TZID=America/Denver:20260124T140000
LOCATION:2371 Kiesel Ave.\, Ogden\, UT 84403 US
SUMMARY:FREE 19th Bi-Annual Art and Craft Supply Swap\, Sat Jan 24\, 12noon
 -2pm (hosted by Jenny in classrooms a & b)
END:VEVENT
END:VCALENDAR
