BEGIN:VCALENDAR
VERSION:2.0
PRODID:-//uwnu.org//NONSGML kigkonsult.se iCalcreator 2.30.10//
CALSCALE:GREGORIAN
METHOD:PUBLISH
UID:8a4cbc11-dacc-4db7-8657-3bd219e280b5
X-WR-CALDESC:Now enrolling students for a fabulous Spring semester at the L
 ocal Artisan Collective “Oops I Arted”.\n\nBring your kids for a fun Sprin
 g Semester. This semester-long class will inspire and motivate your studen
 t(s) to be creative in new ways as they explore art through various media.
  Students will learn how to use new tools and create projects that are uni
 que\, fun\, and engaging.\n\nIn class we focus on the process of learning 
 a new skill and encouraging students to discover their own unique way to c
 reate. Our Class Motto is “You Are the Artist” We use this phrase to remin
 d students that they make the creative decisions.\n\nEvery semester we tea
 ch new techniques and art skills so that no semester is ever the same. Thi
 s semester some of our classes will be: Clay Insects\, Paint Acrylic Dogs\
 , Watercolor Irregular Shapes and Designs\, Draw a Rose\, Design a Bag and
  much more! The semester will end with an Art Show where your students are
  the featured artist!\n\nThis year you can choose from weekly Home school 
 & Afterschool classes on Monday OR Thursday.\n\nMONDAY CLASSES (these are 
 in person classes with small groups at The Local Artisan Collective locate
 d at 2371 Kiesel Ave\, Ogden.):\n\n \n\n12:15 to 1:15 Kindergarten to 7th 
 Grade: https://localartisancollective.com/events/oops-i-arted-homeschool-s
 pring-1215/\n\n1:30 to 2:30: Kindergarten to 7th Grade: https://localartis
 ancollective.com/events/oops-i-arted-homeschool-spring-130/\n\n3:00 to 4:0
 0: Kindergarten to 7th Grade: https://localartisancollective.com/events/oo
 ps-i-arted-homeschool-spring-400/\n\n4:30 to 5:30 Kindergarten to 7th Grad
 e: https://localartisancollective.com/events/oops-i-arted-homeschool-sprin
 g-430/\n\n \n\n \n\nTHURSDAY CLASS (these are in person classes with small
  groups at The Local Artisan Collective located at 2371 Kiesel Ave\, Ogden
 .):\n\n\n\n1:00 to 2:00: Kindergarten to 7th Grade: https://localartisanco
 llective.com/events/oops-i-arted-homeschool-spring-thursday-100/\n\nCost a
 nd Dates:\n\nThe cost is $199 for the entire Fall Semester. All supplies i
 ncluded in the price. We also take payments from the following organizatio
 ns: Elevated\, Education Fits All\, Athenian\, Harmony\, My Tech High\, Ch
 ildren’s First Education and DaVinci.\n\nWe start classes the week of Janu
 ary 26th to the week of April 27th with Thursday February 12th and Monday 
 February 16th off for Presidents Day and March 30th through April 3rd off 
 for Spring Break\n\n********************************************\n\nCancel
 lations can be made up to 30 days in advance. Register online at over the 
 phone to secure your spot. You can call Stephanie at 801-940-6972 with any
  questions.\n\nScholarships available (inquire in store for application)
X-WR-RELCALID:13912b4c44dd7af0effee05a92d1fc80
X-WR-TIMEZONE:America/Denver
BEGIN:VTIMEZONE
TZID:America/Denver
BEGIN:STANDARD
TZNAME:MST
DTSTART:20251102T020000
TZOFFSETFROM:-0600
TZOFFSETTO:-0700
RDATE:20261101T020000
END:STANDARD
BEGIN:DAYLIGHT
TZNAME:MDT
DTSTART:20250309T020000
TZOFFSETFROM:-0700
TZOFFSETTO:-0600
RDATE:20260308T020000
RDATE:20270314T020000
END:DAYLIGHT
END:VTIMEZONE
BEGIN:VEVENT
UID:32b9a8f8-a622-4bc5-80fc-40f06ce8a807
DTSTAMP:20260422T105051Z
DESCRIPTION:Now enrolling students for a fabulous Spring semester at the Lo
 cal Artisan Collective “Oops I Arted”.\n\nBring your kids for a fun Spring
  Semester. This semester-long class will inspire and motivate your student
 (s) to be creative in new ways as they explore art through various media. 
 Students will learn how to use new tools and create projects that are uniq
 ue\, fun\, and engaging.\n\nIn class we focus on the process of learning a
  new skill and encouraging students to discover their own unique way to cr
 eate. Our Class Motto is “You Are the Artist” We use this phrase to remind
  students that they make the creative decisions.\n\nEvery semester we teac
 h new techniques and art skills so that no semester is ever the same. This
  semester some of our classes will be: Clay Insects\, Paint Acrylic Dogs\,
  Watercolor Irregular Shapes and Designs\, Draw a Rose\, Design a Bag and 
 much more! The semester will end with an Art Show where your students are 
 the featured artist!\n\nThis year you can choose from weekly Home school &
  Afterschool classes on Monday OR Thursday.\n\nMONDAY CLASSES (these are i
 n person classes with small groups at The Local Artisan Collective located
  at 2371 Kiesel Ave\, Ogden.):\n\n \n\n12:15 to 1:15 Kindergarten to 7th G
 rade: https://localartisancollective.com/events/oops-i-arted-homeschool-sp
 ring-1215/\n\n1:30 to 2:30: Kindergarten to 7th Grade: https://localartisa
 ncollective.com/events/oops-i-arted-homeschool-spring-130/\n\n3:00 to 4:00
 : Kindergarten to 7th Grade: https://localartisancollective.com/events/oop
 s-i-arted-homeschool-spring-400/\n\n4:30 to 5:30 Kindergarten to 7th Grade
 : https://localartisancollective.com/events/oops-i-arted-homeschool-spring
 -430/\n\n \n\n \n\nTHURSDAY CLASS (these are in person classes with small 
 groups at The Local Artisan Collective located at 2371 Kiesel Ave\, Ogden.
 ):\n\n\n\n1:00 to 2:00: Kindergarten to 7th Grade: https://localartisancol
 lective.com/events/oops-i-arted-homeschool-spring-thursday-100/\n\nCost an
 d Dates:\n\nThe cost is $199 for the entire Fall Semester. All supplies in
 cluded in the price. We also take payments from the following organization
 s: Elevated\, Education Fits All\, Athenian\, Harmony\, My Tech High\, Chi
 ldren’s First Education and DaVinci.\n\nWe start classes the week of Janua
 ry 26th to the week of April 27th with Thursday February 12th and Monday F
 ebruary 16th off for Presidents Day and March 30th through April 3rd off f
 or Spring Break\n\n********************************************\n\nCancell
 ations can be made up to 30 days in advance. Register online at over the p
 hone to secure your spot. You can call Stephanie at 801-940-6972 with any 
 questions.\n\nScholarships available (inquire in store for application)
DTSTART;TZID=America/Denver:20260126T121500
DTEND;TZID=America/Denver:20260126T131500
LOCATION:2371 Kiesel Ave.\, Ogden\, UT 84403 US
SUMMARY:Oops I Arted
END:VEVENT
END:VCALENDAR
