BEGIN:VCALENDAR
VERSION:2.0
PRODID:-//uwnu.org//NONSGML kigkonsult.se iCalcreator 2.30.10//
CALSCALE:GREGORIAN
METHOD:PUBLISH
UID:1feb8862-ce0a-4b4a-942f-fd0169eeaf1b
X-WR-CALDESC:Welcome to February Art Stroll!\nThis month we’re celebrating 
 love\, creativity\, and connection — and what better way than by making je
 welry together. Come create something meaningful\, wearable\, and uniquely
  yours.\nArt Stroll is on Friday\, February 6th\, 2025! The store will be 
 open later than usual for Art Stroll from 6:00 pm to 9:00 pm\; with then e
 ven later until 10pm for shopping.\nOur Featured Artist is Roxanne Vigos f
 rom Star and Branch.\nRoxanne started her company in Ogden in 2008. She ha
 d worked and managed a bead store for many years helping other create amaz
 ing pieces and teaching classes. She had loved beading since she was a tee
 nager! In 2016 she started exploring Natural Dye and began exploring local
  dye plants. The historical elements of both beaded jewelry and natural dy
 es around the world are a source of inspiration for my work.\nCome create 
 with Roxanne to make a pair of earrings at the Jewelry Bar.\nClasses and E
 vents happening during the Art Stroll:\n6:00 to 9:00:\nCome make a pair of
  earrings at the earring bar. All materials will be available to build a c
 ool pair of earrings for yourself or as a gift. Roxanne will show you how 
 to finish the ends with a nifty wire loop. There may even be some heart an
 d cat shaped beads! Prices range from $10 – $25 per pair depending on choi
 ce of materials. Find her in the classroom.\n6:00-9:00:\nJoin Stephanie at
  The Charm Bar – Drop In Anytime & Design Your Own Necklace or Bracelet! G
 et ready for a fun\, creative jewelry-making experience where YOU are the 
 designer! At The Charm Bar\, you’ll create a custom charm necklace that re
 flects your personality\, passions\, and style. Choose from a variety of s
 ilver and gold-tone chains. Pick from thousands of charms—classic\, quirky
 \, meaningful\, and fun PLUS cute Valentines Hearts you can add! Learn how
  to attach charms yourself\, or I’ll add them for you—whichever you prefer
 ! $15 – Includes one chain + one charm. Additional charms: $4.99 each. You
  can sign up ahead of time here: https://localartisancollective.com/…/the-
 charm-bar…/ or drop in anytime. Find her in the classroom.\n6:00-9:00:\nDr
 op In Ring Bar And Silver Spoon Ring Stop by and pick out pieces for a uni
 que custom made ring. First pick out a stone\, then the bezel (metal that 
 holds the stone)\, and then pick your silver band style. After all are cho
 sen\, 16th generation silversmith\, Rene\, will create your custom ring wh
 ile you shop. OR choose from a variety of vintage sterling silver spoon ha
 ndles and a ring will be made while you shop. Ring will generally be ready
  in less than 30 minutes. Perfect for a Valentine’s Gift. Find him in his 
 studio.\n6:00-9:00: Come watch Mike from Hursts Handblown Glass create gla
 ss hearts. It is incredible to see the process as he makes beautiful glass
  pieces. Find him in his Glass Studio.\n6:00-9:00\nSteve Stones will be he
 re working on one of his creative acrylic paintings. Come watch and see wh
 at he does with his pallet. Find him in front of the Textile Studio.\n6:00
 -9:00:\nSauced up Salsa will be at the Art Stroll to demo their Salsa and 
 Chips. They are so good and we can’t wait for you to try them! Find them i
 n the classroom.\n6:00 to 9:00:\nI invite you to shop the perfect chocolat
 e treat for Valentine’s Day!\nMy name is Tye Marie Reeder and I own an onl
 ine ethical chocolate shop\, Seek Chocolate Shop\, based out of Huntsville
 \, Utah. I started my chocolate shop because I wanted to help support caca
 o farmers around the world. Much of the world’s chocolate comes from cacao
  that is harvested by slaves\, or trafficked people and children. Even cho
 colate considered fair trade isn’t often traceable or empowering to the fa
 rmers. I search out and find companies who support the farmers and elevate
  their lives. Enjoy delicious chocolate making a difference!\n************
 ******************************\n6:30 to 8:30:\nIn addition to all the incr
 edible jewelry making\, paintings and delicious food we are thrilled to ha
 ve live music from Tomo who will be part of the Music @ the Collective eve
 nts. Find him in the classroom.\nSpecial thanks to OFOAM and Ogden City Ar
 ts for sponsoring this.\n******************************************\nFind 
 our store located at 2371 Kiesel Ave\, Ogden\, Utah 84401 in the Heart of 
 Downtown Ogden on the South End of the Junction in the Creative Nine Rails
  District and online at localartisancollective.com/shop\nWe are also open 
 Monday through Saturday from 12:00 to 7:00. We will also be open late unti
 l 10:00pm on the first Friday of the month with Art Stroll.
X-WR-RELCALID:9819b893e3a9ab42aed23b6233023bb9
X-WR-TIMEZONE:America/Denver
BEGIN:VTIMEZONE
TZID:America/Denver
BEGIN:STANDARD
TZNAME:MST
DTSTART:20251102T020000
TZOFFSETFROM:-0600
TZOFFSETTO:-0700
RDATE:20261101T020000
END:STANDARD
BEGIN:DAYLIGHT
TZNAME:MDT
DTSTART:20250309T020000
TZOFFSETFROM:-0700
TZOFFSETTO:-0600
RDATE:20260308T020000
RDATE:20270314T020000
END:DAYLIGHT
END:VTIMEZONE
BEGIN:VEVENT
UID:89d2c012-68fe-4546-8156-5cd2ba6a733f
DTSTAMP:20260422T093826Z
DESCRIPTION:Welcome to February Art Stroll!\nThis month we’re celebrating l
 ove\, creativity\, and connection — and what better way than by making jew
 elry together. Come create something meaningful\, wearable\, and uniquely 
 yours.\nArt Stroll is on Friday\, February 6th\, 2025! The store will be o
 pen later than usual for Art Stroll from 6:00 pm to 9:00 pm\; with then ev
 en later until 10pm for shopping.\nOur Featured Artist is Roxanne Vigos fr
 om Star and Branch.\nRoxanne started her company in Ogden in 2008. She had
  worked and managed a bead store for many years helping other create amazi
 ng pieces and teaching classes. She had loved beading since she was a teen
 ager! In 2016 she started exploring Natural Dye and began exploring local 
 dye plants. The historical elements of both beaded jewelry and natural dye
 s around the world are a source of inspiration for my work.\nCome create w
 ith Roxanne to make a pair of earrings at the Jewelry Bar.\nClasses and Ev
 ents happening during the Art Stroll:\n6:00 to 9:00:\nCome make a pair of 
 earrings at the earring bar. All materials will be available to build a co
 ol pair of earrings for yourself or as a gift. Roxanne will show you how t
 o finish the ends with a nifty wire loop. There may even be some heart and
  cat shaped beads! Prices range from $10 – $25 per pair depending on choic
 e of materials. Find her in the classroom.\n6:00-9:00:\nJoin Stephanie at 
 The Charm Bar – Drop In Anytime & Design Your Own Necklace or Bracelet! Ge
 t ready for a fun\, creative jewelry-making experience where YOU are the d
 esigner! At The Charm Bar\, you’ll create a custom charm necklace that ref
 lects your personality\, passions\, and style. Choose from a variety of si
 lver and gold-tone chains. Pick from thousands of charms—classic\, quirky\
 , meaningful\, and fun PLUS cute Valentines Hearts you can add! Learn how 
 to attach charms yourself\, or I’ll add them for you—whichever you prefer!
  $15 – Includes one chain + one charm. Additional charms: $4.99 each. You 
 can sign up ahead of time here: https://localartisancollective.com/…/the-c
 harm-bar…/ or drop in anytime. Find her in the classroom.\n6:00-9:00:\nDro
 p In Ring Bar And Silver Spoon Ring Stop by and pick out pieces for a uniq
 ue custom made ring. First pick out a stone\, then the bezel (metal that h
 olds the stone)\, and then pick your silver band style. After all are chos
 en\, 16th generation silversmith\, Rene\, will create your custom ring whi
 le you shop. OR choose from a variety of vintage sterling silver spoon han
 dles and a ring will be made while you shop. Ring will generally be ready 
 in less than 30 minutes. Perfect for a Valentine’s Gift. Find him in his s
 tudio.\n6:00-9:00: Come watch Mike from Hursts Handblown Glass create glas
 s hearts. It is incredible to see the process as he makes beautiful glass 
 pieces. Find him in his Glass Studio.\n6:00-9:00\nSteve Stones will be her
 e working on one of his creative acrylic paintings. Come watch and see wha
 t he does with his pallet. Find him in front of the Textile Studio.\n6:00-
 9:00:\nSauced up Salsa will be at the Art Stroll to demo their Salsa and C
 hips. They are so good and we can’t wait for you to try them! Find them in
  the classroom.\n6:00 to 9:00:\nI invite you to shop the perfect chocolate
  treat for Valentine’s Day!\nMy name is Tye Marie Reeder and I own an onli
 ne ethical chocolate shop\, Seek Chocolate Shop\, based out of Huntsville\
 , Utah. I started my chocolate shop because I wanted to help support cacao
  farmers around the world. Much of the world’s chocolate comes from cacao 
 that is harvested by slaves\, or trafficked people and children. Even choc
 olate considered fair trade isn’t often traceable or empowering to the far
 mers. I search out and find companies who support the farmers and elevate 
 their lives. Enjoy delicious chocolate making a difference!\n*************
 *****************************\n6:30 to 8:30:\nIn addition to all the incre
 dible jewelry making\, paintings and delicious food we are thrilled to hav
 e live music from Tomo who will be part of the Music @ the Collective even
 ts. Find him in the classroom.\nSpecial thanks to OFOAM and Ogden City Art
 s for sponsoring this.\n******************************************\nFind o
 ur store located at 2371 Kiesel Ave\, Ogden\, Utah 84401 in the Heart of D
 owntown Ogden on the South End of the Junction in the Creative Nine Rails 
 District and online at localartisancollective.com/shop\nWe are also open M
 onday through Saturday from 12:00 to 7:00. We will also be open late until
  10:00pm on the first Friday of the month with Art Stroll.
DTSTART;TZID=America/Denver:20260206T180000
DTEND;TZID=America/Denver:20260206T210000
LOCATION:Local Artisan Collective\, 2371 Kiesel Ave.\, Ogden\, UT 84403 US
SUMMARY:February Art Stroll
END:VEVENT
END:VCALENDAR
