BEGIN:VCALENDAR
VERSION:2.0
PRODID:-//uwnu.org//NONSGML kigkonsult.se iCalcreator 2.30.10//
CALSCALE:GREGORIAN
METHOD:PUBLISH
UID:b15494f9-0688-48f0-b751-0ac45902f1b1
X-WR-CALDESC:This drop-in style workshop invites participants of all ages a
 nd experience levels to learn the basics of hand sewing and embroidery whi
 le making something uniquely their own. Participants are welcome to bring 
 an item from home (clothing\, tote bags\, fabric\, etc.) There will also b
 e fabric and tote bags available to use. The workshop encourages creativit
 y\, self-expression\, and “reclaiming” or repurposing existing items by ad
 ding personal meaning\, identity\, or new life through stitching. This wor
 kshop is FREE\, family-friendly\, and open to all skill levels—no experien
 ce needed!
X-WR-RELCALID:96569bb9e2cbe030154f35a68645ea92
X-WR-TIMEZONE:America/Denver
BEGIN:VTIMEZONE
TZID:America/Denver
BEGIN:STANDARD
TZNAME:MST
DTSTART:20251102T020000
TZOFFSETFROM:-0600
TZOFFSETTO:-0700
RDATE:20261101T020000
END:STANDARD
BEGIN:DAYLIGHT
TZNAME:MDT
DTSTART:20250309T020000
TZOFFSETFROM:-0700
TZOFFSETTO:-0600
RDATE:20260308T020000
RDATE:20270314T020000
END:DAYLIGHT
END:VTIMEZONE
BEGIN:VEVENT
UID:9615e946-7933-46d1-88b8-aa2311621e12
DTSTAMP:20260422T094125Z
DESCRIPTION:This drop-in style workshop invites participants of all ages an
 d experience levels to learn the basics of hand sewing and embroidery whil
 e making something uniquely their own. Participants are welcome to bring a
 n item from home (clothing\, tote bags\, fabric\, etc.) There will also be
  fabric and tote bags available to use. The workshop encourages creativity
 \, self-expression\, and “reclaiming” or repurposing existing items by add
 ing personal meaning\, identity\, or new life through stitching. This work
 shop is FREE\, family-friendly\, and open to all skill levels—no experienc
 e needed!
DTSTART;TZID=America/Denver:20260206T180000
DTEND;TZID=America/Denver:20260206T210000
LOCATION:OCA Artist Factory: Studio 32 in The Monarch\,  455 25th St.\, Ogd
 en\, UT 84401 US
SUMMARY:Artist Factory Workshop: Embroidery with Alix Twiggs Wright
END:VEVENT
END:VCALENDAR
