BEGIN:VCALENDAR
VERSION:2.0
PRODID:-//uwnu.org//NONSGML kigkonsult.se iCalcreator 2.30.10//
CALSCALE:GREGORIAN
METHOD:PUBLISH
UID:527af151-b581-41d9-8613-2ff398614e98
X-WR-CALDESC:The Charm Bar – Drop In & Design Your Own Necklace or Bracelet
 !\nWhat: \nGet ready for a fun\, creative jewelry-making experience where 
 YOU are the designer! At The Charm Bar\, you’ll create a custom charm neck
 lace that reflects your personality\, passions\, and style.\nHow it Works:
 \nn Drop in anytime during the 2-hour event\, or stay for the full session
 —it’s up to you!\n• Choose from a variety of silver and gold-tone chains.
 \nn Pick from thousands of charms—classic\, quirky\, meaningful\, and fun!
 \nn Learn how to attach charms yourself\, or I’ll add them for you—whichev
 er you prefer!\nCost:\n✨ $15 – Includes one chain + one charm\n✨ Additiona
 l charms: $4.99 each.  Buy 5+ charms & get $1 off each charm (you can pay 
 for an extra the night of the party)!\nPerfect for a girls’ night out\, a 
 creative date\, a mother-daughter activity\, or just some ‘me time’ to des
 ign something special! Want to come back for more? We’ll be offering speci
 al seasonal themes\, including holiday charms\, friendship necklaces\, bir
 thstone collections\, and more—so every Charm Bar is a fun experience! Or 
 book a party with us!\nWhen:\nFriday\, February 6th Drop In Anytime Betwee
 n 6:00 to 9:00\, Drop In anytime during this time period\nWhere:\nThe Loca
 l Artisan Collective located at 2371 Kiesel Ave.\, Ogden\, Utah 84401\nHow
  to Register and Cancelation Policy: \nSign up online:  https://localartis
 ancollective.com/events/the-charm-bar-drop-in-feb-6/\nOR email us at our_c
 hildrens_earth@yahoo.com and they can do a payment over the phone for you 
 or send you an invoice to your email for payment.\nCancellation for the cl
 ass is accepted up until 7 days before the party starts.\nOR No RSVP neede
 d—just drop in and get charmed!\nTeacher:\nThis class is taught by Stephan
 ie Howerton from Our Children’s Earth. She has always had a passion for cr
 eating things. She loves marbling\, hand dyeing and creating clothes\, jew
 elry and household items.\nShe says “My heart delights in creating somethi
 ng new so I tend to explore a variety of arts. I hope that you feel that s
 ame joy while using your new purchase.”\nWe have been featured in the Huff
 ington Post\, VEIN Magazine\, Indie Ogden\, Standard Examiner\, Good Thing
 s Utah\, Fox 13 News and a variety of blogs and more.\nStephanie also teac
 hes a wide variety of classes at The Local Artisan Collective.
X-WR-RELCALID:4f751214a18e130e4471ce5533f38433
X-WR-TIMEZONE:America/Denver
BEGIN:VTIMEZONE
TZID:America/Denver
BEGIN:STANDARD
TZNAME:MST
DTSTART:20251102T020000
TZOFFSETFROM:-0600
TZOFFSETTO:-0700
RDATE:20261101T020000
END:STANDARD
BEGIN:DAYLIGHT
TZNAME:MDT
DTSTART:20250309T020000
TZOFFSETFROM:-0700
TZOFFSETTO:-0600
RDATE:20260308T020000
RDATE:20270314T020000
END:DAYLIGHT
END:VTIMEZONE
BEGIN:VEVENT
UID:d16e255a-c1b5-4d9b-98ad-edde23d3b7c6
DTSTAMP:20260422T095238Z
DESCRIPTION:The Charm Bar – Drop In & Design Your Own Necklace or Bracelet!
 \nWhat: \nGet ready for a fun\, creative jewelry-making experience where Y
 OU are the designer! At The Charm Bar\, you’ll create a custom charm neckl
 ace that reflects your personality\, passions\, and style.\nHow it Works:
 \nn Drop in anytime during the 2-hour event\, or stay for the full session
 —it’s up to you!\n• Choose from a variety of silver and gold-tone chains.
 \nn Pick from thousands of charms—classic\, quirky\, meaningful\, and fun!
 \nn Learn how to attach charms yourself\, or I’ll add them for you—whichev
 er you prefer!\nCost:\n✨ $15 – Includes one chain + one charm\n✨ Additiona
 l charms: $4.99 each.  Buy 5+ charms & get $1 off each charm (you can pay 
 for an extra the night of the party)!\nPerfect for a girls’ night out\, a 
 creative date\, a mother-daughter activity\, or just some ‘me time’ to des
 ign something special! Want to come back for more? We’ll be offering speci
 al seasonal themes\, including holiday charms\, friendship necklaces\, bir
 thstone collections\, and more—so every Charm Bar is a fun experience! Or 
 book a party with us!\nWhen:\nFriday\, February 6th Drop In Anytime Betwee
 n 6:00 to 9:00\, Drop In anytime during this time period\nWhere:\nThe Loca
 l Artisan Collective located at 2371 Kiesel Ave.\, Ogden\, Utah 84401\nHow
  to Register and Cancelation Policy: \nSign up online:  https://localartis
 ancollective.com/events/the-charm-bar-drop-in-feb-6/\nOR email us at our_c
 hildrens_earth@yahoo.com and they can do a payment over the phone for you 
 or send you an invoice to your email for payment.\nCancellation for the cl
 ass is accepted up until 7 days before the party starts.\nOR No RSVP neede
 d—just drop in and get charmed!\nTeacher:\nThis class is taught by Stephan
 ie Howerton from Our Children’s Earth. She has always had a passion for cr
 eating things. She loves marbling\, hand dyeing and creating clothes\, jew
 elry and household items.\nShe says “My heart delights in creating somethi
 ng new so I tend to explore a variety of arts. I hope that you feel that s
 ame joy while using your new purchase.”\nWe have been featured in the Huff
 ington Post\, VEIN Magazine\, Indie Ogden\, Standard Examiner\, Good Thing
 s Utah\, Fox 13 News and a variety of blogs and more.\nStephanie also teac
 hes a wide variety of classes at The Local Artisan Collective.
DTSTART;TZID=America/Denver:20260206T180000
DTEND;TZID=America/Denver:20260206T210000
LOCATION:2371 Kiesel Ave.\, Ogden\, UT 84403 US
SUMMARY:The Charm Bar – Drop In & Design Your Own Necklace or Bracelet!
END:VEVENT
END:VCALENDAR
