BEGIN:VCALENDAR
VERSION:2.0
PRODID:-//uwnu.org//NONSGML kigkonsult.se iCalcreator 2.30.10//
CALSCALE:GREGORIAN
METHOD:PUBLISH
UID:04c7fb4f-0cd1-4489-9538-652891744dd8
X-WR-CALDESC:Galentine’s Ladies Night = Girls Night + Laugh + Design Your O
 wn Felted Hat\n\nWhat:\nGrab your gals and get ready for a night of creati
 vity\, connection\, and felted fashion! At this one-of-a-kind Galentine’s 
 celebration\, you’ll design your very own hat using easy\, fun needle-felt
 ing techniques—no experience needed. Stephanie will guide you step-by-step
  as you add your personal flair to your hat with a variety of colorful woo
 l\, ribbons\, leather bands\, flowers\, and more. Think boho-chic meets ar
 tsy glam—totally YOU!  Plus you will get some yummy chocolate and goodies 
 to eat!\n\nWhen:\nSaturday\, February 7th from 6:00 to 8:00pm\n\nCost:\nJu
 st $59 includes everything you need:\n🧶All felting supplies\n🎀Accessories 
 like leather bands\, ribbons\, flowers\, and more\n\n\nWhere:\nThe Local A
 rtisan Collective\n📍2371 Kiesel Ave\, Ogden\, UT\n\nAges:\nThis event is p
 erfect for adults and teens—so bring your bestie\, sister\, daughter\, or 
 your entire girl gang!\n\nHow to Register & Cancellation Policy:\nSign up 
 online here:\n👉https://localartisancollective.com/events/galentines-night-
 of-fun-and-felting-hats-on-february-7th-from-300-to-500/\nOr reach out to 
 Stephanie:\n📧our_childrens_earth@yahoo.com\n📞801-940-6972\n(She can send y
 ou an invoice or take payment over the phone.)\n\nCancellation is accepted
  up to 14 days before the class.\n\nWho’s Teaching:\nThis class is taught 
 by the talented Stephanie Howerton of Our Children’s Earth\, a creative po
 werhouse who’s been featured on Fox 13 News\, Huffington Post\, Good Thing
 s Utah\, Indie Ogden\, and more. She’s passionate about fiber arts\, marbl
 ing\, hand-dyeing\, and all things handmade.\n\nStephanie says:\n\n“Creati
 ng something by hand is empowering—and even better with friends and laught
 er. I hope this Galentine’s night fills you with joy and leaves you with a
  fabulous hat you’ll love to wear!”
X-WR-RELCALID:6ad2d534c0b538b500713643a2e7ee9e
X-WR-TIMEZONE:America/Denver
BEGIN:VTIMEZONE
TZID:America/Denver
BEGIN:STANDARD
TZNAME:MST
DTSTART:20251102T020000
TZOFFSETFROM:-0600
TZOFFSETTO:-0700
RDATE:20261101T020000
END:STANDARD
BEGIN:DAYLIGHT
TZNAME:MDT
DTSTART:20250309T020000
TZOFFSETFROM:-0700
TZOFFSETTO:-0600
RDATE:20260308T020000
RDATE:20270314T020000
END:DAYLIGHT
END:VTIMEZONE
BEGIN:VEVENT
UID:cee9ab4f-02c9-47dc-b300-6406f5d5ad44
DTSTAMP:20260422T110931Z
DESCRIPTION:Galentine’s Ladies Night = Girls Night + Laugh + Design Your Ow
 n Felted Hat\n\nWhat:\nGrab your gals and get ready for a night of creativ
 ity\, connection\, and felted fashion! At this one-of-a-kind Galentine’s c
 elebration\, you’ll design your very own hat using easy\, fun needle-felti
 ng techniques—no experience needed. Stephanie will guide you step-by-step 
 as you add your personal flair to your hat with a variety of colorful wool
 \, ribbons\, leather bands\, flowers\, and more. Think boho-chic meets art
 sy glam—totally YOU!  Plus you will get some yummy chocolate and goodies t
 o eat!\n\nWhen:\nSaturday\, February 7th from 6:00 to 8:00pm\n\nCost:\nJus
 t $59 includes everything you need:\n🧶All felting supplies\n🎀Accessories l
 ike leather bands\, ribbons\, flowers\, and more\n\n\nWhere:\nThe Local Ar
 tisan Collective\n📍2371 Kiesel Ave\, Ogden\, UT\n\nAges:\nThis event is pe
 rfect for adults and teens—so bring your bestie\, sister\, daughter\, or y
 our entire girl gang!\n\nHow to Register & Cancellation Policy:\nSign up o
 nline here:\n👉https://localartisancollective.com/events/galentines-night-o
 f-fun-and-felting-hats-on-february-7th-from-300-to-500/\nOr reach out to S
 tephanie:\n📧our_childrens_earth@yahoo.com\n📞801-940-6972\n(She can send yo
 u an invoice or take payment over the phone.)\n\nCancellation is accepted 
 up to 14 days before the class.\n\nWho’s Teaching:\nThis class is taught b
 y the talented Stephanie Howerton of Our Children’s Earth\, a creative pow
 erhouse who’s been featured on Fox 13 News\, Huffington Post\, Good Things
  Utah\, Indie Ogden\, and more. She’s passionate about fiber arts\, marbli
 ng\, hand-dyeing\, and all things handmade.\n\nStephanie says:\n\n“Creatin
 g something by hand is empowering—and even better with friends and laughte
 r. I hope this Galentine’s night fills you with joy and leaves you with a 
 fabulous hat you’ll love to wear!”
DTSTART;TZID=America/Denver:20260207T180000
DTEND;TZID=America/Denver:20260207T200000
LOCATION:2371 Kiesel Ave.\, Ogden\, UT 84403 US
SUMMARY:Galentines Night Of Fun And Felting Hats!
END:VEVENT
END:VCALENDAR
