BEGIN:VCALENDAR
VERSION:2.0
PRODID:-//uwnu.org//NONSGML kigkonsult.se iCalcreator 2.30.10//
CALSCALE:GREGORIAN
METHOD:PUBLISH
UID:db5d902c-de04-4cc3-9e8f-ab46bbd34788
X-WR-CALDESC:Join us in Ogden for an informative session where you will lea
 rn all about 211 and how you can best use it. FREE lunch will be provided!
X-WR-RELCALID:34baa62ae61fd7f4368ff007449d52d3
X-WR-TIMEZONE:America/Denver
BEGIN:VTIMEZONE
TZID:America/Denver
BEGIN:STANDARD
TZNAME:MST
DTSTART:20251102T020000
TZOFFSETFROM:-0600
TZOFFSETTO:-0700
RDATE:20261101T020000
END:STANDARD
BEGIN:DAYLIGHT
TZNAME:MDT
DTSTART:20250309T020000
TZOFFSETFROM:-0700
TZOFFSETTO:-0600
RDATE:20260308T020000
RDATE:20270314T020000
END:DAYLIGHT
END:VTIMEZONE
BEGIN:VEVENT
UID:deaee959-166b-4d3b-917d-a402b2b579a4
DTSTAMP:20260422T093802Z
DESCRIPTION:Join us in Ogden for an informative session where you will lear
 n all about 211 and how you can best use it. FREE lunch will be provided!
DTSTART;TZID=America/Denver:20260211T123000
DTEND;TZID=America/Denver:20260211T133000
LOCATION:
SUMMARY:211 Day Information Session - Ogden
END:VEVENT
END:VCALENDAR
