BEGIN:VCALENDAR
VERSION:2.0
PRODID:-//uwnu.org//NONSGML kigkonsult.se iCalcreator 2.30.10//
CALSCALE:GREGORIAN
METHOD:PUBLISH
UID:d5d016ae-3a61-406e-8085-12a8e9d31bc4
X-WR-CALDESC:Using felt\, students will learn how to design and make their 
 own patches. They will first make their design and then learn techniques t
 o create their design out of felt. We will also learn basic sewing techniq
 ues to assemble them along with fabric glue. They will leave the workshop 
 with their own felt patches and/or pins.\nThis workshop is FREE\, family-f
 riendly\, and open to all skill levels. Open to the public—RSVP or feel fr
 ee to drop in anytime between 4–6 PM.
X-WR-RELCALID:6cdd597f91dc6c42698a9877675e9d4d
X-WR-TIMEZONE:America/Denver
BEGIN:VTIMEZONE
TZID:America/Denver
BEGIN:STANDARD
TZNAME:MST
DTSTART:20251102T020000
TZOFFSETFROM:-0600
TZOFFSETTO:-0700
RDATE:20261101T020000
END:STANDARD
BEGIN:DAYLIGHT
TZNAME:MDT
DTSTART:20250309T020000
TZOFFSETFROM:-0700
TZOFFSETTO:-0600
RDATE:20260308T020000
RDATE:20270314T020000
END:DAYLIGHT
END:VTIMEZONE
BEGIN:VEVENT
UID:2da9a24c-ae67-4282-ad6f-84d356a6b425
DTSTAMP:20260422T094854Z
DESCRIPTION:Using felt\, students will learn how to design and make their o
 wn patches. They will first make their design and then learn techniques to
  create their design out of felt. We will also learn basic sewing techniqu
 es to assemble them along with fabric glue. They will leave the workshop w
 ith their own felt patches and/or pins.\nThis workshop is FREE\, family-fr
 iendly\, and open to all skill levels. Open to the public—RSVP or feel fre
 e to drop in anytime between 4–6 PM.
DTSTART;TZID=America/Denver:20260212T160000
DTEND;TZID=America/Denver:20260212T180000
LOCATION:OCA Artist Factory: Studio 32 in The Monarch\,  455 25th St.\, Ogd
 en\, UT 84401 US
SUMMARY:Artist Factory Workshop: Felt Patches with Alix Twiggs Wright
END:VEVENT
END:VCALENDAR
