BEGIN:VCALENDAR
VERSION:2.0
PRODID:-//uwnu.org//NONSGML kigkonsult.se iCalcreator 2.30.10//
CALSCALE:GREGORIAN
METHOD:PUBLISH
UID:03ec556a-3978-48ff-9271-fb1adacb4271
X-WR-CALDESC:Join us for a hands-on clay workshop with local artist\, Aimee
  Odum! Participants will create rose-inspired flowers made to last.\nPerfe
 ct for gifting or keeping\, these small\, sculpted roses can honor someone
  you admire\, celebrate love\, or simply mark a moment of care. Participan
 ts will learn how to tint\, prepare\, and layer air-dry clay onto a stem\,
  building petals that capture the delicate beauty of a real rose.\nThis wo
 rkshop is taking place at the Ogden Union Station Winter Market\, in partn
 ership with the Ogden Downtown Alliance.
X-WR-RELCALID:b5b13068388740d0af17e845d9bd9dde
X-WR-TIMEZONE:America/Denver
BEGIN:VTIMEZONE
TZID:America/Denver
BEGIN:STANDARD
TZNAME:MST
DTSTART:20251102T020000
TZOFFSETFROM:-0600
TZOFFSETTO:-0700
RDATE:20261101T020000
END:STANDARD
BEGIN:DAYLIGHT
TZNAME:MDT
DTSTART:20250309T020000
TZOFFSETFROM:-0700
TZOFFSETTO:-0600
RDATE:20260308T020000
RDATE:20270314T020000
END:DAYLIGHT
END:VTIMEZONE
BEGIN:VEVENT
UID:83d9c63e-20fa-4361-9836-68f85c2f27e8
DTSTAMP:20260422T094828Z
DESCRIPTION:Join us for a hands-on clay workshop with local artist\, Aimee 
 Odum! Participants will create rose-inspired flowers made to last.\nPerfec
 t for gifting or keeping\, these small\, sculpted roses can honor someone 
 you admire\, celebrate love\, or simply mark a moment of care. Participant
 s will learn how to tint\, prepare\, and layer air-dry clay onto a stem\, 
 building petals that capture the delicate beauty of a real rose.\nThis wor
 kshop is taking place at the Ogden Union Station Winter Market\, in partne
 rship with the Ogden Downtown Alliance.
DTSTART;TZID=America/Denver:20260214T100000
DTEND;TZID=America/Denver:20260214T140000
LOCATION:Ogden Union Station: Winter Farmers Market\, 2501 Wall Ave\, Ogden
 \, UT 84401 US
SUMMARY:Artist Factory Workshop: Clay Roses with Aimee Odum
END:VEVENT
END:VCALENDAR
