BEGIN:VCALENDAR
VERSION:2.0
PRODID:-//uwnu.org//NONSGML kigkonsult.se iCalcreator 2.30.10//
CALSCALE:GREGORIAN
METHOD:PUBLISH
UID:bbb15bd1-bf7b-4216-b291-ca69d149eb30
X-WR-CALDESC:Marble Your Own Jewelry Set on Valentines with your Favorite D
 ate or BFF for Galetines!\n\nWhat:\nJoin in the fun learning how to create
  a beautiful jewelry set of earrings and a ring.\n\n-Relax and learn why m
 arbling is so fun!! Enjoy this class in creating a marbled pattern with pa
 int and putting it on a pair of earrings and a ring. There will be a large
  selection to choose from. The tools are easy to use and you will create a
  one-of-a-kind piece of wearable art.\nWhen:\nThis class will be Saturday\
 , February 14th from 3:00pm to 5:00pm. You can drop in anytime between 3 a
 nd 5 to create a marbling piece of art.\n\nCost:\n\n-All supplies are incl
 uded and is $15. You can pick additional earring sets for $9.99 and rings 
 or heart ornaments for $4.99.\nHow to Sign Up and Cancelation Policy:\nSig
 n up online:  https://localartisancollective.com/events/marbling-jewelry-s
 et/\n\nor call Stephanie at 801-940-6972\n\nor email us at our_childrens_e
 arth@yahoo.com and they can do a payment over the phone for you or send yo
 u an invoice to your email for payment.\n\nCancellation for the class is a
 ccepted up until 7 days before the party starts.\n\nAges:\nAny age but sma
 ll children will want to have an adult with them to help.\n\nWho:\nThis cl
 ass is taught by Stephanie Howerton from Our Children’s Earth. She has alw
 ays had a passion for creating things. She loves marbling\, hand dyeing\, 
 felting and creating clothes\, jewelry and household items.\n\nShe says “M
 y heart delights in creating something new so I tend to explore a variety 
 of arts. I hope that you feel that same joy while using your new purchase 
 or taking a class.”\n\nWe have been featured in the Huffington Post\, VEIN
  Magazine\, Indie Ogden\, Standard Examiner\, Good Things Utah\, Fox 13 Ne
 ws and a variety of national and international blogs and more.\n\nStephani
 e also teaches a wide variety of classes at The Local Artisan Collective.
 \n\nVenue:   The Local Artisan Collective\n\nVenue Phone: (801) 399-2787\n
 \nVenue Website: https://localartisancollective.com/event-calendar/\n\nAdd
 ress:\n2371 Kiesel Ave.\, Ogden\, Utah\, 84404\, United States\n\nDescript
 ion:\n\nThe Local Artisan Collective in Ogden\, Utah\, is a hub for local 
 artisans to showcase and sell their handmade goods\, including jewelry\, a
 rt\, and home decor. It promotes community engagement through workshops an
 d classes\, making it a key destination for supporting local creativity an
 d finding unique items.
X-WR-RELCALID:dcd735b4801d4e62522868f88adb2581
X-WR-TIMEZONE:America/Denver
BEGIN:VTIMEZONE
TZID:America/Denver
BEGIN:STANDARD
TZNAME:MST
DTSTART:20251102T020000
TZOFFSETFROM:-0600
TZOFFSETTO:-0700
RDATE:20261101T020000
END:STANDARD
BEGIN:DAYLIGHT
TZNAME:MDT
DTSTART:20250309T020000
TZOFFSETFROM:-0700
TZOFFSETTO:-0600
RDATE:20260308T020000
RDATE:20270314T020000
END:DAYLIGHT
END:VTIMEZONE
BEGIN:VEVENT
UID:54477212-3a54-49ba-ada9-3b397066a23f
DTSTAMP:20260422T095004Z
DESCRIPTION:Marble Your Own Jewelry Set on Valentines with your Favorite Da
 te or BFF for Galetines!\n\nWhat:\nJoin in the fun learning how to create 
 a beautiful jewelry set of earrings and a ring.\n\n-Relax and learn why ma
 rbling is so fun!! Enjoy this class in creating a marbled pattern with pai
 nt and putting it on a pair of earrings and a ring. There will be a large 
 selection to choose from. The tools are easy to use and you will create a 
 one-of-a-kind piece of wearable art.\nWhen:\nThis class will be Saturday\,
  February 14th from 3:00pm to 5:00pm. You can drop in anytime between 3 an
 d 5 to create a marbling piece of art.\n\nCost:\n\n-All supplies are inclu
 ded and is $15. You can pick additional earring sets for $9.99 and rings o
 r heart ornaments for $4.99.\nHow to Sign Up and Cancelation Policy:\nSign
  up online:  https://localartisancollective.com/events/marbling-jewelry-se
 t/\n\nor call Stephanie at 801-940-6972\n\nor email us at our_childrens_ea
 rth@yahoo.com and they can do a payment over the phone for you or send you
  an invoice to your email for payment.\n\nCancellation for the class is ac
 cepted up until 7 days before the party starts.\n\nAges:\nAny age but smal
 l children will want to have an adult with them to help.\n\nWho:\nThis cla
 ss is taught by Stephanie Howerton from Our Children’s Earth. She has alwa
 ys had a passion for creating things. She loves marbling\, hand dyeing\, f
 elting and creating clothes\, jewelry and household items.\n\nShe says “My
  heart delights in creating something new so I tend to explore a variety o
 f arts. I hope that you feel that same joy while using your new purchase o
 r taking a class.”\n\nWe have been featured in the Huffington Post\, VEIN 
 Magazine\, Indie Ogden\, Standard Examiner\, Good Things Utah\, Fox 13 New
 s and a variety of national and international blogs and more.\n\nStephanie
  also teaches a wide variety of classes at The Local Artisan Collective.\n
 \nVenue:   The Local Artisan Collective\n\nVenue Phone: (801) 399-2787\n\n
 Venue Website: https://localartisancollective.com/event-calendar/\n\nAddre
 ss:\n2371 Kiesel Ave.\, Ogden\, Utah\, 84404\, United States\n\nDescriptio
 n:\n\nThe Local Artisan Collective in Ogden\, Utah\, is a hub for local ar
 tisans to showcase and sell their handmade goods\, including jewelry\, art
 \, and home decor. It promotes community engagement through workshops and 
 classes\, making it a key destination for supporting local creativity and 
 finding unique items.
DTSTART;TZID=America/Denver:20260214T040000
DTEND;TZID=America/Denver:20260214T040001
LOCATION:2371 Kiesel Ave.\, Ogden\, UT 84403 US
SUMMARY:Marbling Jewelry (Earrings and a Ring) Class Drop In Anytime
END:VEVENT
END:VCALENDAR
