BEGIN:VCALENDAR
VERSION:2.0
PRODID:-//uwnu.org//NONSGML kigkonsult.se iCalcreator 2.30.10//
CALSCALE:GREGORIAN
METHOD:PUBLISH
UID:2374643a-2303-4046-b199-8d88f6b54adf
X-WR-CALDESC:Calling all jewelry lovers! Our most popular class\, Silver Ba
 nd/Ring Making\, is back and better than ever!  And perfect for Valentine’
 s Day!! \n\nWhat:\nLearn the basics of silver jewelry making\, including s
 haping\, and polishing. In this class\, you’ll learn how to make your own 
 unique silver ring from scratch. You’ll start by finding your ring size. W
 e will cut a piece of silver that will become your ring. Then\, you’ll use
  a variety of tools to shape\, add texture. Finally\, you’ll polish your r
 ing to a beautiful shine.  We will provide a jewelry box to treasure your 
 ring in.  And while we work\, we will provide some treats.\n\nHave fun and
  make lasting memories with friends.\n\nNo experience is necessary\, so ev
 eryone is welcome. Our experienced instructor will guide you every step of
  the way.\n\nA private class is also available. Please inquire.\n\nCost:\n
 $50 per person\n\nAges:\n16+. Younger kids can attend if accompanied by an
  adult.\n\nWhen:\nSaturday\, February 14\, 6pm\n\nWhere:\nClasses are taug
 ht at The Local Artisan Collective\, located at 2371 Kiesel Ave in down to
 wn Ogden\, just a little south of the Megaplex.\n\nHow to Register and Can
 celation Policy:\nThis class usually sells out each year  so we highly rec
 ommend signing up ASAP.  You can register for the class at our shop or onl
 ine at www.localartisancollective.com/event-calendar (below). No refunds f
 or canceling less than 7 days before the class begins\n\nCall/text 801-686
 -5351 for more information.\n\nAbout the Instructor:\nThis class will be t
 aught by Rene Venegas\, a 16th generation silversmith. His family was one 
 of the first to arrive from Spain to the Americas. His ancestor\, Felipe V
 enegas\, was the silversmith for the early cathedrals in the Dominican Rep
 ublic and stamped the first European coins in the New World.  He has been 
 teaching jewelry and silversmithing classes at Weber State for 15 years. I
 n addition\, he has been featured in The Standard Examiner\, The Signpost\
 , KUTV Inside the Story\,  FOX13 Good Morning Utah\, The Salt Project and 
 KTVX Good Things Utah.\n\n \n\nVenue:   The Local Artisan Collective\n\nVe
 nue Phone: (801) 399-2787\n\nVenue Website: https://localartisancollective
 .com/event-calendar/\n\nAddress:\n2371 Kiesel Ave.\, Ogden\, Utah\, 84404\
 , United States\n\nDescription:\n\nThe Local Artisan Collective in Ogden\,
  Utah\, is a hub for local artisans to showcase and sell their handmade go
 ods\, including jewelry\, art\, and home decor. It promotes community enga
 gement through workshops and classes\, making it a key destination for sup
 porting local creativity and finding unique items.
X-WR-RELCALID:4de58057bd09ba28d79a543ebb38bc76
X-WR-TIMEZONE:America/Denver
BEGIN:VTIMEZONE
TZID:America/Denver
BEGIN:STANDARD
TZNAME:MST
DTSTART:20251102T020000
TZOFFSETFROM:-0600
TZOFFSETTO:-0700
RDATE:20261101T020000
END:STANDARD
BEGIN:DAYLIGHT
TZNAME:MDT
DTSTART:20250309T020000
TZOFFSETFROM:-0700
TZOFFSETTO:-0600
RDATE:20260308T020000
RDATE:20270314T020000
END:DAYLIGHT
END:VTIMEZONE
BEGIN:VEVENT
UID:f5f9743e-c7e9-4043-833a-f5669987df8a
DTSTAMP:20260422T095003Z
DESCRIPTION:Calling all jewelry lovers! Our most popular class\, Silver Ban
 d/Ring Making\, is back and better than ever!  And perfect for Valentine’s
  Day!! \n\nWhat:\nLearn the basics of silver jewelry making\, including sh
 aping\, and polishing. In this class\, you’ll learn how to make your own u
 nique silver ring from scratch. You’ll start by finding your ring size. We
  will cut a piece of silver that will become your ring. Then\, you’ll use 
 a variety of tools to shape\, add texture. Finally\, you’ll polish your ri
 ng to a beautiful shine.  We will provide a jewelry box to treasure your r
 ing in.  And while we work\, we will provide some treats.\n\nHave fun and 
 make lasting memories with friends.\n\nNo experience is necessary\, so eve
 ryone is welcome. Our experienced instructor will guide you every step of 
 the way.\n\nA private class is also available. Please inquire.\n\nCost:\n$
 50 per person\n\nAges:\n16+. Younger kids can attend if accompanied by an 
 adult.\n\nWhen:\nSaturday\, February 14\, 6pm\n\nWhere:\nClasses are taugh
 t at The Local Artisan Collective\, located at 2371 Kiesel Ave in down tow
 n Ogden\, just a little south of the Megaplex.\n\nHow to Register and Canc
 elation Policy:\nThis class usually sells out each year  so we highly reco
 mmend signing up ASAP.  You can register for the class at our shop or onli
 ne at www.localartisancollective.com/event-calendar (below). No refunds fo
 r canceling less than 7 days before the class begins\n\nCall/text 801-686-
 5351 for more information.\n\nAbout the Instructor:\nThis class will be ta
 ught by Rene Venegas\, a 16th generation silversmith. His family was one o
 f the first to arrive from Spain to the Americas. His ancestor\, Felipe Ve
 negas\, was the silversmith for the early cathedrals in the Dominican Repu
 blic and stamped the first European coins in the New World.  He has been t
 eaching jewelry and silversmithing classes at Weber State for 15 years. In
  addition\, he has been featured in The Standard Examiner\, The Signpost\,
  KUTV Inside the Story\,  FOX13 Good Morning Utah\, The Salt Project and K
 TVX Good Things Utah.\n\n \n\nVenue:   The Local Artisan Collective\n\nVen
 ue Phone: (801) 399-2787\n\nVenue Website: https://localartisancollective.
 com/event-calendar/\n\nAddress:\n2371 Kiesel Ave.\, Ogden\, Utah\, 84404\,
  United States\n\nDescription:\n\nThe Local Artisan Collective in Ogden\, 
 Utah\, is a hub for local artisans to showcase and sell their handmade goo
 ds\, including jewelry\, art\, and home decor. It promotes community engag
 ement through workshops and classes\, making it a key destination for supp
 orting local creativity and finding unique items.
DTSTART;TZID=America/Denver:20260214T180000
DTEND;TZID=America/Denver:20260214T193000
LOCATION:2371 Kiesel Ave.\, Ogden\, UT 84403 US
SUMMARY:Silver and Sweets\, Valentine Day Fun\, Sat Feb 14 6pm (Taught by R
 ene in classroom A & B\, $50)
END:VEVENT
END:VCALENDAR
