BEGIN:VCALENDAR
VERSION:2.0
PRODID:-//uwnu.org//NONSGML kigkonsult.se iCalcreator 2.30.10//
CALSCALE:GREGORIAN
METHOD:PUBLISH
UID:5c87c0e4-d7b4-4db8-a477-acffe95b7514
X-WR-CALDESC:Galentine’s\, Date or BFF The Charm Bar – Drop In & Design You
 r Own Necklace or Bracelet!\nWhat: \nGet ready for a fun\, creative jewelr
 y-making experience where YOU are the designer! At The Charm Bar\, you’ll 
 create a custom charm necklace that reflects your personality\, passions\,
  and style.\nHow it Works:\n• Drop in anytime during the 2-hour event\, or
  stay for the full session—it’s up to you!\n• Choose from a variety of sil
 ver and gold-tone chains.\n• Pick from thousands of charms—classic\, quirk
 y\, meaningful\, and fun!\n• Learn how to attach charms yourself\, or I’ll
  add them for you—whichever you prefer!\nCost:\n✨ $15 – Includes one chain
  + one charm\n✨ Additional charms: $4.99 each.  Buy 5+ charms & get $1 off
  each charm (you can pay for an extra the night of the party)!\nPerfect fo
 r a girls’ night out\, a creative date\, a mother-daughter activity\, or j
 ust some ‘me time’ to design something special! Want to come back for more
 ? We’ll be offering special seasonal themes\, including holiday charms\, f
 riendship necklaces\, birthstone collections\, and more—so every Charm Bar
  is a fun experience! Or book a party with us!\nWhen:\nSaturday\, February
  14th Drop In Anytime Between 12:30 to 2:30\, Drop In anytime during this 
 time period\nWhere:\nThe Local Artisan Collective located at 2371 Kiesel A
 ve.\, Ogden\, Utah 84401\nHow to Register and Cancelation Policy: \nSign u
 p online:  https://localartisancollective.com/events/the-charm-bar-drop-in
 -design-your-own-necklace-or-bracelet-february-14/\nOR email us at our_chi
 ldrens_earth@yahoo.com and they can do a payment over the phone for you or
  send you an invoice to your email for payment.\nCancellation for the clas
 s is accepted up until 7 days before the party starts.\nOR No RSVP needed—
 just drop in and get charmed!\nTeacher:\nThis class is taught by Stephanie
  Howerton from Our Children’s Earth. She has always had a passion for crea
 ting things. She loves marbling\, hand dyeing and creating clothes\, jewel
 ry and household items.\nShe says “My heart delights in creating something
  new so I tend to explore a variety of arts. I hope that you feel that sam
 e joy while using your new purchase.”\nWe have been featured in the Huffin
 gton Post\, VEIN Magazine\, Indie Ogden\, Standard Examiner\, Good Things 
 Utah\, Fox 13 News and a variety of blogs and more.\nStephanie also teache
 s a wide variety of classes at The Local Artisan Collective.
X-WR-RELCALID:8b7826e6f188c7066bbb47a8a4187847
X-WR-TIMEZONE:America/Denver
BEGIN:VTIMEZONE
TZID:America/Denver
BEGIN:STANDARD
TZNAME:MST
DTSTART:20251102T020000
TZOFFSETFROM:-0600
TZOFFSETTO:-0700
RDATE:20261101T020000
END:STANDARD
BEGIN:DAYLIGHT
TZNAME:MDT
DTSTART:20250309T020000
TZOFFSETFROM:-0700
TZOFFSETTO:-0600
RDATE:20260308T020000
RDATE:20270314T020000
END:DAYLIGHT
END:VTIMEZONE
BEGIN:VEVENT
UID:be2862c1-0c2a-4e31-a74c-1376ad2f8889
DTSTAMP:20260422T095003Z
DESCRIPTION:Galentine’s\, Date or BFF The Charm Bar – Drop In & Design Your
  Own Necklace or Bracelet!\nWhat: \nGet ready for a fun\, creative jewelry
 -making experience where YOU are the designer! At The Charm Bar\, you’ll c
 reate a custom charm necklace that reflects your personality\, passions\, 
 and style.\nHow it Works:\n• Drop in anytime during the 2-hour event\, or 
 stay for the full session—it’s up to you!\n• Choose from a variety of silv
 er and gold-tone chains.\n• Pick from thousands of charms—classic\, quirky
 \, meaningful\, and fun!\n• Learn how to attach charms yourself\, or I’ll 
 add them for you—whichever you prefer!\nCost:\n✨ $15 – Includes one chain 
 + one charm\n✨ Additional charms: $4.99 each.  Buy 5+ charms & get $1 off 
 each charm (you can pay for an extra the night of the party)!\nPerfect for
  a girls’ night out\, a creative date\, a mother-daughter activity\, or ju
 st some ‘me time’ to design something special! Want to come back for more?
  We’ll be offering special seasonal themes\, including holiday charms\, fr
 iendship necklaces\, birthstone collections\, and more—so every Charm Bar 
 is a fun experience! Or book a party with us!\nWhen:\nSaturday\, February 
 14th Drop In Anytime Between 12:30 to 2:30\, Drop In anytime during this t
 ime period\nWhere:\nThe Local Artisan Collective located at 2371 Kiesel Av
 e.\, Ogden\, Utah 84401\nHow to Register and Cancelation Policy: \nSign up
  online:  https://localartisancollective.com/events/the-charm-bar-drop-in-
 design-your-own-necklace-or-bracelet-february-14/\nOR email us at our_chil
 drens_earth@yahoo.com and they can do a payment over the phone for you or 
 send you an invoice to your email for payment.\nCancellation for the class
  is accepted up until 7 days before the party starts.\nOR No RSVP needed—j
 ust drop in and get charmed!\nTeacher:\nThis class is taught by Stephanie 
 Howerton from Our Children’s Earth. She has always had a passion for creat
 ing things. She loves marbling\, hand dyeing and creating clothes\, jewelr
 y and household items.\nShe says “My heart delights in creating something 
 new so I tend to explore a variety of arts. I hope that you feel that same
  joy while using your new purchase.”\nWe have been featured in the Huffing
 ton Post\, VEIN Magazine\, Indie Ogden\, Standard Examiner\, Good Things U
 tah\, Fox 13 News and a variety of blogs and more.\nStephanie also teaches
  a wide variety of classes at The Local Artisan Collective.
DTSTART;TZID=America/Denver:20260214T123000
DTEND;TZID=America/Denver:20260214T153000
LOCATION:2371 Kiesel Ave.\, Ogden\, UT 84403 US
SUMMARY:The Charm Bar – Drop In & Design Your Own Necklace or Bracelet!
END:VEVENT
END:VCALENDAR
