BEGIN:VCALENDAR
VERSION:2.0
PRODID:-//uwnu.org//NONSGML kigkonsult.se iCalcreator 2.30.10//
CALSCALE:GREGORIAN
METHOD:PUBLISH
UID:b5fd89f6-aa5d-4b7d-9f14-05995e299a83
X-WR-CALDESC:Join OCA teaching artist Zayne Wilcox for a fun and relaxing I
 nk Collage workshop!\nTry out ink and collage techniques in a creative\, l
 ow-pressure space where experimenting is encouraged. Whether you’re learni
 ng something new or building on skills you already have\, this workshop is
  a great place to explore and create.
X-WR-RELCALID:1358d18299abef065c27d7b7e258d08a
X-WR-TIMEZONE:America/Denver
BEGIN:VTIMEZONE
TZID:America/Denver
BEGIN:STANDARD
TZNAME:MST
DTSTART:20251102T020000
TZOFFSETFROM:-0600
TZOFFSETTO:-0700
RDATE:20261101T020000
END:STANDARD
BEGIN:DAYLIGHT
TZNAME:MDT
DTSTART:20250309T020000
TZOFFSETFROM:-0700
TZOFFSETTO:-0600
RDATE:20260308T020000
RDATE:20270314T020000
END:DAYLIGHT
END:VTIMEZONE
BEGIN:VEVENT
UID:9e00a334-da03-4e7e-834d-6068c476b660
DTSTAMP:20260422T094828Z
DESCRIPTION:Join OCA teaching artist Zayne Wilcox for a fun and relaxing In
 k Collage workshop!\nTry out ink and collage techniques in a creative\, lo
 w-pressure space where experimenting is encouraged. Whether you’re learnin
 g something new or building on skills you already have\, this workshop is 
 a great place to explore and create.
DTSTART;TZID=America/Denver:20260215T130000
DTEND;TZID=America/Denver:20260215T150000
LOCATION:OCA Artist Factory: Studio 32 in The Monarch\,  455 25th St.\, Ogd
 en\, UT 84401 US
SUMMARY:Artist Factory Workshop: Ink Collage with Zayne Wilcox
END:VEVENT
END:VCALENDAR
