BEGIN:VCALENDAR
VERSION:2.0
PRODID:-//uwnu.org//NONSGML kigkonsult.se iCalcreator 2.30.10//
CALSCALE:GREGORIAN
METHOD:PUBLISH
UID:d8955471-84d3-4801-aa36-09dc483a0e88
X-WR-CALDESC:This workshop is perfect for curious creatives! Learn how to u
 se Procreate\, a popular digital illustration app\, to turn your ideas int
 o eye-catching designs. Crezna will walk you through the basics and show y
 ou how to use its tools with simple graphic design principles to create ar
 twork you’ll feel proud of.\nNo experience needed—all skill levels are wel
 come. Whether you’re brand new to digital art or looking to sharpen your s
 kills\, this class is a great place to start. Come ready to experiment\, a
 sk questions\, and have fun creating!
X-WR-RELCALID:8048adc96bb3581dd4ac610fb207e781
X-WR-TIMEZONE:America/Denver
BEGIN:VTIMEZONE
TZID:America/Denver
BEGIN:STANDARD
TZNAME:MST
DTSTART:20251102T020000
TZOFFSETFROM:-0600
TZOFFSETTO:-0700
RDATE:20261101T020000
END:STANDARD
BEGIN:DAYLIGHT
TZNAME:MDT
DTSTART:20250309T020000
TZOFFSETFROM:-0700
TZOFFSETTO:-0600
RDATE:20260308T020000
RDATE:20270314T020000
END:DAYLIGHT
END:VTIMEZONE
BEGIN:VEVENT
UID:d99a4f10-03bd-4655-b08f-79d69c46ad32
DTSTAMP:20260422T095254Z
DESCRIPTION:This workshop is perfect for curious creatives! Learn how to us
 e Procreate\, a popular digital illustration app\, to turn your ideas into
  eye-catching designs. Crezna will walk you through the basics and show yo
 u how to use its tools with simple graphic design principles to create art
 work you’ll feel proud of.\nNo experience needed—all skill levels are welc
 ome. Whether you’re brand new to digital art or looking to sharpen your sk
 ills\, this class is a great place to start. Come ready to experiment\, as
 k questions\, and have fun creating!
DTSTART;TZID=America/Denver:20260226T160000
DTEND;TZID=America/Denver:20260226T180000
LOCATION:OCA Artist Factory: Studio 32 in The Monarch\,  455 25th St.\, Ogd
 en\, UT 84401 US
SUMMARY:Artist Factory Workshop: Graphic Design with Crezna Crouse
END:VEVENT
END:VCALENDAR
