BEGIN:VCALENDAR
VERSION:2.0
PRODID:-//uwnu.org//NONSGML kigkonsult.se iCalcreator 2.30.10//
CALSCALE:GREGORIAN
METHOD:PUBLISH
UID:8a50589e-45f0-4817-be8e-9a3c469944a7
X-WR-CALDESC:Annual fundraiser to support the services of YCC Family Crisis
  Center.
X-WR-RELCALID:9bdb23f9c019e60c2c0729c31c4e1906
X-WR-TIMEZONE:America/Denver
BEGIN:VTIMEZONE
TZID:America/Denver
BEGIN:STANDARD
TZNAME:MST
DTSTART:20251102T020000
TZOFFSETFROM:-0600
TZOFFSETTO:-0700
RDATE:20261101T020000
END:STANDARD
BEGIN:DAYLIGHT
TZNAME:MDT
DTSTART:20250309T020000
TZOFFSETFROM:-0700
TZOFFSETTO:-0600
RDATE:20260308T020000
RDATE:20270314T020000
END:DAYLIGHT
END:VTIMEZONE
BEGIN:VEVENT
UID:642cdbc4-8303-43b2-be63-4585126ad1dd
DTSTAMP:20260422T093957Z
DESCRIPTION:Annual fundraiser to support the services of YCC Family Crisis 
 Center.
DTSTART;TZID=America/Denver:20260226T173000
DTEND;TZID=America/Denver:20260226T220000
LOCATION:Ogden Eccles Conference Center\, 2415 Washington Blvd\, OGDEN\, UT
  84401 US
SUMMARY:Heart of Ogden Gala
END:VEVENT
END:VCALENDAR
