BEGIN:VCALENDAR
VERSION:2.0
PRODID:-//uwnu.org//NONSGML kigkonsult.se iCalcreator 2.30.10//
CALSCALE:GREGORIAN
METHOD:PUBLISH
UID:1f839778-b37a-4c7b-bf9c-1f409c721130
X-WR-CALDESC:Read Across America is a nationwide reading celebration that i
 s the first week of March every year. \n\nThis year\, you can celebrate Re
 ad Across America with us by: \n\nDonating books to ensure every child has
  access to books in their home. Make a bigger impact by hosting a book dri
 ve!\n\nCome read to a local classroom where you can inspire the love of li
 teracy in children. We host this volunteer opportunity in multiple schools
  across Northern Utah\, just click the link below and find a school near y
 ou!\n\n*More school options to come.
X-WR-RELCALID:39f5a48f6cb2f1b081d542fc796b1a3c
X-WR-TIMEZONE:America/Denver
BEGIN:VTIMEZONE
TZID:America/Denver
BEGIN:STANDARD
TZNAME:MST
DTSTART:20251102T020000
TZOFFSETFROM:-0600
TZOFFSETTO:-0700
RDATE:20261101T020000
END:STANDARD
BEGIN:DAYLIGHT
TZNAME:MDT
DTSTART:20250309T020000
TZOFFSETFROM:-0700
TZOFFSETTO:-0600
RDATE:20260308T020000
RDATE:20270314T020000
END:DAYLIGHT
END:VTIMEZONE
BEGIN:VEVENT
UID:0c155cdc-b1de-4f3c-93b9-d9d6334087cd
DTSTAMP:20260422T081607Z
DESCRIPTION:Read Across America is a nationwide reading celebration that is
  the first week of March every year. \n\nThis year\, you can celebrate Rea
 d Across America with us by: \n\nDonating books to ensure every child has 
 access to books in their home. Make a bigger impact by hosting a book driv
 e!\n\nCome read to a local classroom where you can inspire the love of lit
 eracy in children. We host this volunteer opportunity in multiple schools 
 across Northern Utah\, just click the link below and find a school near yo
 u!\n\n*More school options to come.
DTSTART;TZID=America/Denver:20260302T040000
DTEND;TZID=America/Denver:20260306T040001
LOCATION:
SUMMARY:Read Across America
END:VEVENT
END:VCALENDAR
