BEGIN:VCALENDAR
VERSION:2.0
PRODID:-//uwnu.org//NONSGML kigkonsult.se iCalcreator 2.30.10//
CALSCALE:GREGORIAN
METHOD:PUBLISH
UID:7312d55e-1e2d-4967-bde0-fe5f7d292f33
X-WR-CALDESC:Pressed Flowers and Four Leaf Clovers in Beautiful Hanging Gla
 ss Class\n\nWhat and Cost:\n\nFlowers are one of the most beautiful things
  on earth. So why not decorate your house with stunning pressed flowers in
  a hanging glass holder. PLUS…. We will have four leaf clovers you can add
  at this event. There will be a variety of hanging glass pieces and flower
 s to choose from. In this class you will get to make 1\; choose the flower
 s you want to decorate with\, and design your own phenomenal piece. I will
  also have dictionary and book papers you can choose from as an additional
  background. This class is $39 and includes all supplies.\nWhen:\nWednesda
 y\, March 4th from 6:00pm to 8:00pm\nWhere:\nThe Local Artisan Collective 
 located at 2371 Kiesel Ave\, Ogden.\nHow to Register and Cancelation Polic
 y:\nRegister for this class online:  https://localartisancollective.com/ev
 ents/pressed-flower-clovers-in-hanging-glass/\nor go into The Local Artisa
 n Collective at 2371 Kiesel Ave\, Ogden\nor call the store at 801-399-2787
  (ARTS) or Stephanie at 801-940-6972\nor email Stephanie at our_childrens_
 earth@yahoo.com\nClass registration can be canceled up to 7 days before th
 e class date.\nAges:\nThis class is for adults and teens\nWho:\nThis class
  is taught by Stephanie Howerton from Our Children’s Earth. She has always
  had a passion for creating things. She loves marbling\, hand dyeing and c
 reating clothes\, jewelry and household items.\nShe says “My heart delight
 s in creating something new so I tend to explore a variety of arts. I hope
  that you feel that same joy while using your new purchase.”\nWe have been
  featured in the Huffington Post\, Fresh Living KUTV 2 News\, VEIN Magazin
 e\, Indie Ogden\, Standard Examiner\, Good Things Utah\, Fox 13 News and a
  variety of blogs and more.\nStephanie also teaches a wide variety of clas
 ses at The Local Artisan Collective.
X-WR-RELCALID:97f20d817699ea05659ba57d246e549b
X-WR-TIMEZONE:America/Denver
BEGIN:VTIMEZONE
TZID:America/Denver
BEGIN:STANDARD
TZNAME:MST
DTSTART:20251102T020000
TZOFFSETFROM:-0600
TZOFFSETTO:-0700
RDATE:20261101T020000
END:STANDARD
BEGIN:DAYLIGHT
TZNAME:MDT
DTSTART:20250309T020000
TZOFFSETFROM:-0700
TZOFFSETTO:-0600
RDATE:20260308T020000
RDATE:20270314T020000
END:DAYLIGHT
END:VTIMEZONE
BEGIN:VEVENT
UID:6a2285d0-0cec-4831-8e7f-b6b1eda2d4a7
DTSTAMP:20260422T092001Z
DESCRIPTION:Pressed Flowers and Four Leaf Clovers in Beautiful Hanging Glas
 s Class\n\nWhat and Cost:\n\nFlowers are one of the most beautiful things 
 on earth. So why not decorate your house with stunning pressed flowers in 
 a hanging glass holder. PLUS…. We will have four leaf clovers you can add 
 at this event. There will be a variety of hanging glass pieces and flowers
  to choose from. In this class you will get to make 1\; choose the flowers
  you want to decorate with\, and design your own phenomenal piece. I will 
 also have dictionary and book papers you can choose from as an additional 
 background. This class is $39 and includes all supplies.\nWhen:\nWednesday
 \, March 4th from 6:00pm to 8:00pm\nWhere:\nThe Local Artisan Collective l
 ocated at 2371 Kiesel Ave\, Ogden.\nHow to Register and Cancelation Policy
 :\nRegister for this class online:  https://localartisancollective.com/eve
 nts/pressed-flower-clovers-in-hanging-glass/\nor go into The Local Artisan
  Collective at 2371 Kiesel Ave\, Ogden\nor call the store at 801-399-2787 
 (ARTS) or Stephanie at 801-940-6972\nor email Stephanie at our_childrens_e
 arth@yahoo.com\nClass registration can be canceled up to 7 days before the
  class date.\nAges:\nThis class is for adults and teens\nWho:\nThis class 
 is taught by Stephanie Howerton from Our Children’s Earth. She has always 
 had a passion for creating things. She loves marbling\, hand dyeing and cr
 eating clothes\, jewelry and household items.\nShe says “My heart delights
  in creating something new so I tend to explore a variety of arts. I hope 
 that you feel that same joy while using your new purchase.”\nWe have been 
 featured in the Huffington Post\, Fresh Living KUTV 2 News\, VEIN Magazine
 \, Indie Ogden\, Standard Examiner\, Good Things Utah\, Fox 13 News and a 
 variety of blogs and more.\nStephanie also teaches a wide variety of class
 es at The Local Artisan Collective.
DTSTART;TZID=America/Denver:20260304T180000
DTEND;TZID=America/Denver:20260304T200000
LOCATION:Local Artisan Collective\, 2371 Kiesel Ave.\, Ogden\, UT 84403 US
SUMMARY:Pressed Flower and Four Leaf Clovers in Hanging Glass Class
END:VEVENT
END:VCALENDAR
