BEGIN:VCALENDAR
VERSION:2.0
PRODID:-//uwnu.org//NONSGML kigkonsult.se iCalcreator 2.30.10//
CALSCALE:GREGORIAN
METHOD:PUBLISH
UID:3e5e7365-879c-461d-90b1-2e7b1ea5f199
X-WR-CALDESC:Feeling lucky? You should be. It’s March Art Stroll and our sp
 ace is packed with shamrock-level creativity\, magical makers\, and art so
  good it might as well be found at the end of a rainbow. Come wander\, cre
 ate\, and support local artists—you never know what treasure you’ll find.
 \n\nArt Stroll is on Friday\, March 6th\, 2026! The store will be open lat
 er than usual for Art Stroll from 6:00 pm to 9:00 pm\; with then even late
 r until 10pm for shopping.\n\nOur Featured Artist is Jenny Venegas from Au
 nt GG’s.\nIn her first ever event as being a featured artist\, Jenny Veneg
 as\, will be showcasing the variety in her creations\, including new pillo
 w case dresses for the littles (just in time for Easter). Jenny has always
  found joy in learning and creating through what many refer to as “domesti
 c arts” — sewing\, quilting\, canning\, and embroidery\, to name a few. Al
 though Jenny has primarily worked behind the scenes at The Local Artisan C
 ollective and with her husband’s jewelry business\, Galleon’s Gold\, she i
 s gradually returning to her roots with her brand\, Aunt GG’s which is ins
 pired by her Great-Aunts Grace and Glady. Jenny strives to create comforti
 ng handcrafted goods for the kitchen\, home and patio.\n\nDuring the eveni
 ng\, she will have her creative pieces 25% off and all her spider plants w
 ill be Buy 1 Get 1 FREE. Find Jenny in the Classroom.\n\nClasses and Event
 s happening during the Art Stroll:\n\n6:00-9:00:\n\nJoin Stephanie at The 
 Charm Bar – Drop In Anytime & Design Your Own Necklace or Bracelet! Get re
 ady for a fun\, creative jewelry-making experience where YOU are the desig
 ner! At The Charm Bar\, you’ll create a custom charm necklace that reflect
 s your personality\, passions\, and style. Choose from a variety of silver
  and gold-tone chains. Pick from thousands of charms—classic\, quirky\, me
 aningful\, and fun PLUS You can even find some awesome Lucky Charms at thi
 s event!! Learn how to attach charms yourself\, or I’ll add them for you—w
 hichever you prefer! $15 – Includes one chain + one charm. Additional char
 ms: $4.99 each. You can sign up ahead of time here: https://localartisanco
 llective.com/events/the-charm-bar-drop-in-design-your-own-necklace-on-marc
 h-6/ or drop in anytime. Find her in the classroom.\n\n6:00-9:00:\n\nDrop 
 In Ring Bar And Silver Spoon Ring Stop by and pick out pieces for a unique
  custom made ring. First pick out a stone\, then the bezel (metal that hol
 ds the stone)\, and then pick your silver band style. After all are chosen
 \, 16th generation silversmith\, Rene\, will create your custom ring while
  you shop. OR choose from a variety of vintage sterling silver spoon handl
 es and a ring will be made while you shop. Ring will generally be ready in
  less than 30 minutes. Find him in his studio.\n\n6:00-9:00:\n\nCome watch
  Mike from Hursts Handblown Glass create beautiful art with Glassblowing. 
 It is incredible to see the process as he makes beautiful glass pieces. Fi
 nd him in his Glass Studio.\n\n6:00-9:00:\n\nWe are thrilled to have the s
 tudents from DaVinci with their teacher Eleanor Sather showcasing their am
 azing art pieces. Stop by to see them. Find them in the textile studio.\n
 \n******************************************\n\n6:30 to 8:30:\nIn addition
  to all the incredible jewelry making\, glassblowing and students art we a
 re thrilled to have live music from the Proper Way who will be part of the
  Music @ the Collective events. Find them in the classroom.\n\nSpecial tha
 nks to OFOAM and Ogden City Arts for sponsoring this.\n\n*****************
 *************************\n\nFind our store located at 2371 Kiesel Ave\, O
 gden\, Utah 84401 in the Heart of Downtown Ogden on the South End of the J
 unction in the Creative Nine Rails District and online at localartisancoll
 ective.com/shop\n\nWe are also open Monday through Saturday from 12:00 to 
 7:00. We will also be open late until 10:00pm on the first Friday of the m
 onth with Art Stroll.
X-WR-RELCALID:e14eda811f13f9f43b92219ea13eb7e9
X-WR-TIMEZONE:America/Denver
BEGIN:VTIMEZONE
TZID:America/Denver
BEGIN:STANDARD
TZNAME:MST
DTSTART:20251102T020000
TZOFFSETFROM:-0600
TZOFFSETTO:-0700
RDATE:20261101T020000
END:STANDARD
BEGIN:DAYLIGHT
TZNAME:MDT
DTSTART:20250309T020000
TZOFFSETFROM:-0700
TZOFFSETTO:-0600
RDATE:20260308T020000
RDATE:20270314T020000
END:DAYLIGHT
END:VTIMEZONE
BEGIN:VEVENT
UID:16905dab-a75b-498f-8d38-f2cd2d2ec4f3
DTSTAMP:20260422T081454Z
DESCRIPTION:Feeling lucky? You should be. It’s March Art Stroll and our spa
 ce is packed with shamrock-level creativity\, magical makers\, and art so 
 good it might as well be found at the end of a rainbow. Come wander\, crea
 te\, and support local artists—you never know what treasure you’ll find.\n
 \nArt Stroll is on Friday\, March 6th\, 2026! The store will be open later
  than usual for Art Stroll from 6:00 pm to 9:00 pm\; with then even later 
 until 10pm for shopping.\n\nOur Featured Artist is Jenny Venegas from Aunt
  GG’s.\nIn her first ever event as being a featured artist\, Jenny Venegas
 \, will be showcasing the variety in her creations\, including new pillow 
 case dresses for the littles (just in time for Easter). Jenny has always f
 ound joy in learning and creating through what many refer to as “domestic 
 arts” — sewing\, quilting\, canning\, and embroidery\, to name a few. Alth
 ough Jenny has primarily worked behind the scenes at The Local Artisan Col
 lective and with her husband’s jewelry business\, Galleon’s Gold\, she is 
 gradually returning to her roots with her brand\, Aunt GG’s which is inspi
 red by her Great-Aunts Grace and Glady. Jenny strives to create comforting
  handcrafted goods for the kitchen\, home and patio.\n\nDuring the evening
 \, she will have her creative pieces 25% off and all her spider plants wil
 l be Buy 1 Get 1 FREE. Find Jenny in the Classroom.\n\nClasses and Events 
 happening during the Art Stroll:\n\n6:00-9:00:\n\nJoin Stephanie at The Ch
 arm Bar – Drop In Anytime & Design Your Own Necklace or Bracelet! Get read
 y for a fun\, creative jewelry-making experience where YOU are the designe
 r! At The Charm Bar\, you’ll create a custom charm necklace that reflects 
 your personality\, passions\, and style. Choose from a variety of silver a
 nd gold-tone chains. Pick from thousands of charms—classic\, quirky\, mean
 ingful\, and fun PLUS You can even find some awesome Lucky Charms at this 
 event!! Learn how to attach charms yourself\, or I’ll add them for you—whi
 chever you prefer! $15 – Includes one chain + one charm. Additional charms
 : $4.99 each. You can sign up ahead of time here: https://localartisancoll
 ective.com/events/the-charm-bar-drop-in-design-your-own-necklace-on-march-
 6/ or drop in anytime. Find her in the classroom.\n\n6:00-9:00:\n\nDrop In
  Ring Bar And Silver Spoon Ring Stop by and pick out pieces for a unique c
 ustom made ring. First pick out a stone\, then the bezel (metal that holds
  the stone)\, and then pick your silver band style. After all are chosen\,
  16th generation silversmith\, Rene\, will create your custom ring while y
 ou shop. OR choose from a variety of vintage sterling silver spoon handles
  and a ring will be made while you shop. Ring will generally be ready in l
 ess than 30 minutes. Find him in his studio.\n\n6:00-9:00:\n\nCome watch M
 ike from Hursts Handblown Glass create beautiful art with Glassblowing. It
  is incredible to see the process as he makes beautiful glass pieces. Find
  him in his Glass Studio.\n\n6:00-9:00:\n\nWe are thrilled to have the stu
 dents from DaVinci with their teacher Eleanor Sather showcasing their amaz
 ing art pieces. Stop by to see them. Find them in the textile studio.\n\n*
 *****************************************\n\n6:30 to 8:30:\nIn addition to
  all the incredible jewelry making\, glassblowing and students art we are 
 thrilled to have live music from the Proper Way who will be part of the Mu
 sic @ the Collective events. Find them in the classroom.\n\nSpecial thanks
  to OFOAM and Ogden City Arts for sponsoring this.\n\n********************
 **********************\n\nFind our store located at 2371 Kiesel Ave\, Ogde
 n\, Utah 84401 in the Heart of Downtown Ogden on the South End of the Junc
 tion in the Creative Nine Rails District and online at localartisancollect
 ive.com/shop\n\nWe are also open Monday through Saturday from 12:00 to 7:0
 0. We will also be open late until 10:00pm on the first Friday of the mont
 h with Art Stroll.
DTSTART;TZID=America/Denver:20260306T180000
DTEND;TZID=America/Denver:20260306T210000
LOCATION:Local Artisan Collective\, 2371 Kiesel Ave.\, Ogden\, UT 84403 US
SUMMARY:March Art Stroll
END:VEVENT
END:VCALENDAR
