BEGIN:VCALENDAR
VERSION:2.0
PRODID:-//uwnu.org//NONSGML kigkonsult.se iCalcreator 2.30.10//
CALSCALE:GREGORIAN
METHOD:PUBLISH
UID:06c18458-8c71-4796-b1b7-f6fd40673b5a
X-WR-CALDESC:The Charm Bar – Drop In & Design Your Own Necklace!\nWhat: \nG
 et ready for a fun\, creative jewelry-making experience where YOU are the 
 designer! At The Charm Bar\, you’ll create a custom charm necklace that re
 flects your personality\, passions\, and style.  You can even find some aw
 esome Lucky Charms at this event!\nHow it Works:\n• Drop in anytime during
  the 3-hour event\, or stay for the full session—it’s up to you!\n• Choose
  from a variety of silver and gold-tone chains.\n• Pick from thousands of 
 charms—classic\, quirky\, meaningful\, and fun!\n• Learn how to attach cha
 rms yourself\, or I’ll add them for you—whichever you prefer!\nCost:\n✨ $1
 5 – Includes one chain + one charm\n✨ Additional charms: $4.99 each.  Buy 
 5+ charms & get $1 off each charm (you can pay for an extra the night of t
 he party)!\nPerfect for a girls’ night out\, a creative date\, a mother-da
 ughter activity\, or just some ‘me time’ to design something special! Want
  to come back for more? We’ll be offering special seasonal themes\, includ
 ing holiday charms\, friendship necklaces\, birthstone collections\, and m
 ore—so every Charm Bar is a fun experience! Or book a party with us!\nWhen
 :\nFriday\, March 6th 6:00 to 9:00\, Drop by anytime\nWhere:\nThe Local Ar
 tisan Collective located at 2371 Kiesel Ave.\, Ogden\, Utah 84401\nHow to 
 Register and Cancelation Policy: \nSign up online:  https://localartisanco
 llective.com/events/the-charm-bar-drop-in-design-your-own-necklace-on-marc
 h-6/\nCall us at 801-940-6972\nOR email us at our_childrens_earth@yahoo.co
 m and they can do a payment over the phone for you or send you an invoice 
 to your email for payment.\nCancellation for the class is accepted up unti
 l 7 days before the party starts.\nOR No RSVP needed—just drop in and get 
 charmed!\nTeacher:\nThis class is taught by Stephanie Howerton from Our Ch
 ildren’s Earth. She has always had a passion for creating things. She love
 s marbling\, hand dyeing and creating clothes\, jewelry and household item
 s.\nShe says “My heart delights in creating something new so I tend to exp
 lore a variety of arts. I hope that you feel that same joy while using you
 r new purchase.”\nWe have been featured in the Huffington Post\, VEIN Maga
 zine\, Indie Ogden\, Standard Examiner\, Good Things Utah\, Fox 13 News an
 d a variety of blogs and more.\nStephanie also teaches a wide variety of c
 lasses at The Local Artisan Collective.
X-WR-RELCALID:7ccd323371b820a89b01d3155eff21cd
X-WR-TIMEZONE:America/Denver
BEGIN:VTIMEZONE
TZID:America/Denver
BEGIN:STANDARD
TZNAME:MST
DTSTART:20251102T020000
TZOFFSETFROM:-0600
TZOFFSETTO:-0700
RDATE:20261101T020000
END:STANDARD
BEGIN:DAYLIGHT
TZNAME:MDT
DTSTART:20250309T020000
TZOFFSETFROM:-0700
TZOFFSETTO:-0600
RDATE:20260308T020000
RDATE:20270314T020000
END:DAYLIGHT
END:VTIMEZONE
BEGIN:VEVENT
UID:e8ae8c02-6067-4595-b71d-0d982cd13237
DTSTAMP:20260422T082551Z
DESCRIPTION:The Charm Bar – Drop In & Design Your Own Necklace!\nWhat: \nGe
 t ready for a fun\, creative jewelry-making experience where YOU are the d
 esigner! At The Charm Bar\, you’ll create a custom charm necklace that ref
 lects your personality\, passions\, and style.  You can even find some awe
 some Lucky Charms at this event!\nHow it Works:\n• Drop in anytime during 
 the 3-hour event\, or stay for the full session—it’s up to you!\n• Choose 
 from a variety of silver and gold-tone chains.\n• Pick from thousands of c
 harms—classic\, quirky\, meaningful\, and fun!\n• Learn how to attach char
 ms yourself\, or I’ll add them for you—whichever you prefer!\nCost:\n✨ $15
  – Includes one chain + one charm\n✨ Additional charms: $4.99 each.  Buy 5
 + charms & get $1 off each charm (you can pay for an extra the night of th
 e party)!\nPerfect for a girls’ night out\, a creative date\, a mother-dau
 ghter activity\, or just some ‘me time’ to design something special! Want 
 to come back for more? We’ll be offering special seasonal themes\, includi
 ng holiday charms\, friendship necklaces\, birthstone collections\, and mo
 re—so every Charm Bar is a fun experience! Or book a party with us!\nWhen:
 \nFriday\, March 6th 6:00 to 9:00\, Drop by anytime\nWhere:\nThe Local Art
 isan Collective located at 2371 Kiesel Ave.\, Ogden\, Utah 84401\nHow to R
 egister and Cancelation Policy: \nSign up online:  https://localartisancol
 lective.com/events/the-charm-bar-drop-in-design-your-own-necklace-on-march
 -6/\nCall us at 801-940-6972\nOR email us at our_childrens_earth@yahoo.com
  and they can do a payment over the phone for you or send you an invoice t
 o your email for payment.\nCancellation for the class is accepted up until
  7 days before the party starts.\nOR No RSVP needed—just drop in and get c
 harmed!\nTeacher:\nThis class is taught by Stephanie Howerton from Our Chi
 ldren’s Earth. She has always had a passion for creating things. She loves
  marbling\, hand dyeing and creating clothes\, jewelry and household items
 .\nShe says “My heart delights in creating something new so I tend to expl
 ore a variety of arts. I hope that you feel that same joy while using your
  new purchase.”\nWe have been featured in the Huffington Post\, VEIN Magaz
 ine\, Indie Ogden\, Standard Examiner\, Good Things Utah\, Fox 13 News and
  a variety of blogs and more.\nStephanie also teaches a wide variety of cl
 asses at The Local Artisan Collective.
DTSTART;TZID=America/Denver:20260306T180000
DTEND;TZID=America/Denver:20260306T210000
LOCATION:Local Artisan Collective\, 2371 Kiesel Ave.\, Ogden\, UT 84403 US
SUMMARY:The Charm Bar – Drop In & Design Your Own Necklace and find some Lu
 cky Charms too!
END:VEVENT
END:VCALENDAR
