BEGIN:VCALENDAR
VERSION:2.0
PRODID:-//uwnu.org//NONSGML kigkonsult.se iCalcreator 2.30.10//
CALSCALE:GREGORIAN
METHOD:PUBLISH
UID:b79e9e64-5033-4cbe-a52f-73ee030cb1e9
X-WR-CALDESC:You are invited to join in in making a sterling silver snake….
 yep! A snake ring! How cool is that? Just in time for Halloween.\n\nWhat:
 \nWe will teach you how to form\, bend\, texturize and make a custom ring 
 that fits perfectly on your finger. No experience necessary. Great date ni
 ght or Ladies’ night out!!\n\nAll materials and tools will be provided as 
 well as some snacks.\n\nPrivate classes and parties are also available.\n
 \nCost:\n$75/person\n\nAges:\n14+. Younger kids can attend if accompanied 
 by an adult.\n\nWhen:\nSaturday\, March 7 at 10am\n\nWhere:\nClass will be
  taught at The Local Artisan Collective located in downtown Ogden\, just a
  little south of the Megaplex at 2371 Kiesel Ave\, Ogden.\n\nHow To Regist
 er And Cancelation Policy:\nYou can register for the class at our shop or 
 online below at localartisancollective.com/event-calendar  . No refunds fo
 r canceling less than 7 days before the class begins\n\nCall/text 801-686-
 5351 for more information.\n\nAbout The Instructor:\nThis class will be ta
 ught by Rene Venegas\, a 16th generation silversmith. His family was one o
 f the first to arrive from Spain to the Americas. His ancestor\, Felipe Ve
 negas\, was the silversmith for the early cathedrals in the Dominican Repu
 blic and stamped the first European coins in the New World.  He has been t
 eaching jewelry and silversmithing classes at Weber State for 15 years. In
  addition\, he has been featured in The Standard Examiner\, The Signpost\,
  KUTV Inside the Story\,  FOX13 Good Morning Utah\, The Salt Project and K
 TVX Good Things Utah.
X-WR-RELCALID:b30653b21b0d38fc4219af05f2eae14b
X-WR-TIMEZONE:America/Denver
BEGIN:VTIMEZONE
TZID:America/Denver
BEGIN:STANDARD
TZNAME:MST
DTSTART:20251102T020000
TZOFFSETFROM:-0600
TZOFFSETTO:-0700
RDATE:20261101T020000
END:STANDARD
BEGIN:DAYLIGHT
TZNAME:MDT
DTSTART:20250309T020000
TZOFFSETFROM:-0700
TZOFFSETTO:-0600
RDATE:20260308T020000
RDATE:20270314T020000
END:DAYLIGHT
END:VTIMEZONE
BEGIN:VEVENT
UID:6537ba8e-a22d-4bf0-aebf-ee8da68174b3
DTSTAMP:20260422T081444Z
DESCRIPTION:You are invited to join in in making a sterling silver snake….y
 ep! A snake ring! How cool is that? Just in time for Halloween.\n\nWhat:\n
 We will teach you how to form\, bend\, texturize and make a custom ring th
 at fits perfectly on your finger. No experience necessary. Great date nigh
 t or Ladies’ night out!!\n\nAll materials and tools will be provided as we
 ll as some snacks.\n\nPrivate classes and parties are also available.\n\nC
 ost:\n$75/person\n\nAges:\n14+. Younger kids can attend if accompanied by 
 an adult.\n\nWhen:\nSaturday\, March 7 at 10am\n\nWhere:\nClass will be ta
 ught at The Local Artisan Collective located in downtown Ogden\, just a li
 ttle south of the Megaplex at 2371 Kiesel Ave\, Ogden.\n\nHow To Register 
 And Cancelation Policy:\nYou can register for the class at our shop or onl
 ine below at localartisancollective.com/event-calendar  . No refunds for c
 anceling less than 7 days before the class begins\n\nCall/text 801-686-535
 1 for more information.\n\nAbout The Instructor:\nThis class will be taugh
 t by Rene Venegas\, a 16th generation silversmith. His family was one of t
 he first to arrive from Spain to the Americas. His ancestor\, Felipe Veneg
 as\, was the silversmith for the early cathedrals in the Dominican Republi
 c and stamped the first European coins in the New World.  He has been teac
 hing jewelry and silversmithing classes at Weber State for 15 years. In ad
 dition\, he has been featured in The Standard Examiner\, The Signpost\, KU
 TV Inside the Story\,  FOX13 Good Morning Utah\, The Salt Project and KTVX
  Good Things Utah.
DTSTART;TZID=America/Denver:20260307T100000
DTEND;TZID=America/Denver:20260307T120000
LOCATION:Local Artisan Collective\, 2371 Kiesel Ave.\, Ogden\, UT 84403 US
SUMMARY:Silver Snake Ring Class
END:VEVENT
END:VCALENDAR
