BEGIN:VCALENDAR
VERSION:2.0
PRODID:-//uwnu.org//NONSGML kigkonsult.se iCalcreator 2.30.10//
CALSCALE:GREGORIAN
METHOD:PUBLISH
UID:4e8eeab8-8693-4fec-9e45-adedcb9d9f86
X-WR-CALDESC:Glass Etching a Beer Mug for St. Patrick’s Day (or make a shot
  glass\, wine glass etc)\nWhat and Cost:\nCome and create a Glass Etching 
 1 Mug\, or 1 Cup or a Shot Glass. All supplies will be provided for this f
 un class. The instructor will teach you a variety of ways to complete your
  glass etching. Then you get to explore and create!\nWhen:\nMarch 17th fro
 m 7:30pm to 9:30pm\n\nWhere:\nThe Local Artisan Collective located at 2371
  Kiesel Ave\, Ogden\n\nAges:\n13 +\n\nHow to Register and Cancelation Poli
 cy:\nSign up online  https://localartisancollective.com/events/glass-etchi
 ng-a-beer-mug-for-st-patricks-day-march-17th-from-730-to-930/\n\nCall us a
 t 801-940-6972\n\nor email us at our_childrens_earth@yahoo.com and they ca
 n do a payment over the phone for you or send you an invoice to your email
  for payment.\n\nCancellation for the class is accepted up until 7 days be
 fore the party starts.\n\nWho Is the Teacher:\nThis class is taught by Ste
 phanie Howerton from Our Children’s Earth. She has always had a passion fo
 r creating things. She loves marbling\, hand dyeing and creating clothes\,
  jewelry and household items.\n\nShe says “My heart delights in creating s
 omething new so I tend to explore a variety of arts. I hope that you feel 
 that same joy while using your new purchase.”\n\nWe have been featured in 
 the Huffington Post\, VEIN Magazine\, Indie Ogden\, Standard Examiner\, Go
 od Things Utah\, Fox 13 News and a variety of blogs and more.\n\nStephanie
  also teaches a wide variety of classes at The Local Artisan Collective.
X-WR-RELCALID:64d4bfb456eb845e823e137728d37f46
X-WR-TIMEZONE:America/Denver
BEGIN:VTIMEZONE
TZID:America/Denver
BEGIN:STANDARD
TZNAME:MST
DTSTART:20251102T020000
TZOFFSETFROM:-0600
TZOFFSETTO:-0700
RDATE:20261101T020000
END:STANDARD
BEGIN:DAYLIGHT
TZNAME:MDT
DTSTART:20260308T020000
TZOFFSETFROM:-0700
TZOFFSETTO:-0600
RDATE:20270314T020000
END:DAYLIGHT
END:VTIMEZONE
BEGIN:VEVENT
UID:55518506-bf3c-4596-a18c-33ae8036b154
DTSTAMP:20260422T082233Z
DESCRIPTION:Glass Etching a Beer Mug for St. Patrick’s Day (or make a shot 
 glass\, wine glass etc)\nWhat and Cost:\nCome and create a Glass Etching 1
  Mug\, or 1 Cup or a Shot Glass. All supplies will be provided for this fu
 n class. The instructor will teach you a variety of ways to complete your 
 glass etching. Then you get to explore and create!\nWhen:\nMarch 17th from
  7:30pm to 9:30pm\n\nWhere:\nThe Local Artisan Collective located at 2371 
 Kiesel Ave\, Ogden\n\nAges:\n13 +\n\nHow to Register and Cancelation Polic
 y:\nSign up online  https://localartisancollective.com/events/glass-etchin
 g-a-beer-mug-for-st-patricks-day-march-17th-from-730-to-930/\n\nCall us at
  801-940-6972\n\nor email us at our_childrens_earth@yahoo.com and they can
  do a payment over the phone for you or send you an invoice to your email 
 for payment.\n\nCancellation for the class is accepted up until 7 days bef
 ore the party starts.\n\nWho Is the Teacher:\nThis class is taught by Step
 hanie Howerton from Our Children’s Earth. She has always had a passion for
  creating things. She loves marbling\, hand dyeing and creating clothes\, 
 jewelry and household items.\n\nShe says “My heart delights in creating so
 mething new so I tend to explore a variety of arts. I hope that you feel t
 hat same joy while using your new purchase.”\n\nWe have been featured in t
 he Huffington Post\, VEIN Magazine\, Indie Ogden\, Standard Examiner\, Goo
 d Things Utah\, Fox 13 News and a variety of blogs and more.\n\nStephanie 
 also teaches a wide variety of classes at The Local Artisan Collective.
DTSTART;TZID=America/Denver:20260317T193000
DTEND;TZID=America/Denver:20260317T213000
LOCATION:2371 Kiesel Ave.\, Ogden\, UT 84403 US
SUMMARY:Glass Etching a Beer Mug for St. Patrick’s Day or make a Wine Glass
  or Shot Glass on March 17th from 7:30 to 9:30pm
END:VEVENT
END:VCALENDAR
