BEGIN:VCALENDAR
VERSION:2.0
PRODID:-//uwnu.org//NONSGML kigkonsult.se iCalcreator 2.30.10//
CALSCALE:GREGORIAN
METHOD:PUBLISH
UID:e7cf48ae-ff5d-442a-965d-039ef17c3270
X-WR-CALDESC:Create a personalized wood letter to add to your shelf using y
 our choice of embellishments that reflect your interests and personality. 
  We will begin with a 10” wood letter\, of your choosing\, add an abundant
  array of small charms and resin or clay and finish with a beautiful metal
 lic wax in the color of your choice\, to create this one-of-a-kind décor.
 \n\nCost:\n\n$50 includes all supplies needed\n\nHow to register:\n\nSign 
 up online https://localartisancollective.com/event-calendar/\n\nor call Ja
 ckie 801-564-3077\n\nor email @ journeyboundjournals@gmail.com\n\nshe can 
 do payment over the phone or send an invoice to your email.\n\nBe sure to 
 indicate which letter you want when registering for this class by emailing
  Jackie or selecting it from the drop down box below.
X-WR-RELCALID:ac7570cf40aca6497fd3b893b0f3764a
X-WR-TIMEZONE:America/Denver
BEGIN:VTIMEZONE
TZID:America/Denver
BEGIN:STANDARD
TZNAME:MST
DTSTART:20251102T020000
TZOFFSETFROM:-0600
TZOFFSETTO:-0700
RDATE:20261101T020000
END:STANDARD
BEGIN:DAYLIGHT
TZNAME:MDT
DTSTART:20260308T020000
TZOFFSETFROM:-0700
TZOFFSETTO:-0600
RDATE:20270314T020000
END:DAYLIGHT
END:VTIMEZONE
BEGIN:VEVENT
UID:f5faca28-8b51-4f47-8e7a-53bd9c34c89e
DTSTAMP:20260422T081337Z
DESCRIPTION:Create a personalized wood letter to add to your shelf using yo
 ur choice of embellishments that reflect your interests and personality.  
 We will begin with a 10” wood letter\, of your choosing\, add an abundant 
 array of small charms and resin or clay and finish with a beautiful metall
 ic wax in the color of your choice\, to create this one-of-a-kind décor.\n
 \nCost:\n\n$50 includes all supplies needed\n\nHow to register:\n\nSign up
  online https://localartisancollective.com/event-calendar/\n\nor call Jack
 ie 801-564-3077\n\nor email @ journeyboundjournals@gmail.com\n\nshe can do
  payment over the phone or send an invoice to your email.\n\nBe sure to in
 dicate which letter you want when registering for this class by emailing J
 ackie or selecting it from the drop down box below.
DTSTART;TZID=America/Denver:20260327T170000
DTEND;TZID=America/Denver:20260327T213000
LOCATION:The Local Artisan Collective\, 2371 Kiesel Ave.\, Ogden\, UT 84403
  US
SUMMARY:Altered 10″ Wood Letters\, taught by Jackie/Journey Bound
END:VEVENT
END:VCALENDAR
