BEGIN:VCALENDAR
VERSION:2.0
PRODID:-//uwnu.org//NONSGML kigkonsult.se iCalcreator 2.30.10//
CALSCALE:GREGORIAN
METHOD:PUBLISH
UID:c3cce05a-f0c4-4143-9045-208f4762cddb
X-WR-CALDESC:Soft & Stylish: Make Your Own Felted Scarf\nWhat:\nDiscover th
 e magic of wet felting in this hands-on class! You’ll learn the unique tec
 hnique of nuno felting to design your very own scarf using soft Merino woo
 l and flowing silk. The result? A cozy\, one-of-a-kind piece of wearable a
 rt.\nNo experience needed—our tools are easy to use\, and you’ll be guided
  step by step.\nAll supplies are included\, with a wide variety of wool co
 lors to choose from so you can make your scarf uniquely yours.\n\nCome rea
 dy to have fun\, and walk away with something beautiful you created yourse
 lf!\n\nCost:\nThe cost is $59 and includes all supplies\nWhen:\nMonday\, M
 arch 30th\, 7:00 to 9:00\nWhere:\nThe Local Artisan Collective located at 
 2371 Kiesel Ave\, Ogden\, Utah 84403\nHow to sign up and cancellation poli
 cy: \nSign up online at:   https://localartisancollective.com/events/soft-
 stylish-make-your-own-felted-scarf/\nOR In the store located at 2371 Kiese
 l Ave in Ogden.\nOR email us at our_childrens_earth@yahoo.com and we can s
 end you an invoice for payment.\nCancellation for the class is accepted up
  until 7 days before the party starts.\nAges:\nAll Ages\nWho:\nThis class 
 is taught by Stephanie Howerton from Our Children’s Earth. She has always 
 had a passion for creating things. She loves marbling\, hand dyeing and cr
 eating clothes\, jewelry and household items.  She says “My heart delights
  in creating something new so I tend to explore a variety of arts. I hope 
 that you feel that same joy while using your new purchase.”\nWe have been 
 featured in the Huffington Post\, Fresh Living KUTV 2 News\, VEIN Magazine
 \, Indie Ogden\, Standard Examiner\, Good Things Utah\, Fox 13 News and a 
 variety of blogs and more.\nStephanie also teaches a wide variety of class
 es at The Local Artisan Collective.
X-WR-RELCALID:2d9e6af0fbe7e788f28478a69f2225e9
X-WR-TIMEZONE:America/Denver
BEGIN:VTIMEZONE
TZID:America/Denver
BEGIN:STANDARD
TZNAME:MST
DTSTART:20251102T020000
TZOFFSETFROM:-0600
TZOFFSETTO:-0700
RDATE:20261101T020000
END:STANDARD
BEGIN:DAYLIGHT
TZNAME:MDT
DTSTART:20260308T020000
TZOFFSETFROM:-0700
TZOFFSETTO:-0600
RDATE:20270314T020000
END:DAYLIGHT
END:VTIMEZONE
BEGIN:VEVENT
UID:59c0f8eb-e73d-4a47-8ebb-28bcbb6106bf
DTSTAMP:20260422T081810Z
DESCRIPTION:Soft & Stylish: Make Your Own Felted Scarf\nWhat:\nDiscover the
  magic of wet felting in this hands-on class! You’ll learn the unique tech
 nique of nuno felting to design your very own scarf using soft Merino wool
  and flowing silk. The result? A cozy\, one-of-a-kind piece of wearable ar
 t.\nNo experience needed—our tools are easy to use\, and you’ll be guided 
 step by step.\nAll supplies are included\, with a wide variety of wool col
 ors to choose from so you can make your scarf uniquely yours.\n\nCome read
 y to have fun\, and walk away with something beautiful you created yoursel
 f!\n\nCost:\nThe cost is $59 and includes all supplies\nWhen:\nMonday\, Ma
 rch 30th\, 7:00 to 9:00\nWhere:\nThe Local Artisan Collective located at 2
 371 Kiesel Ave\, Ogden\, Utah 84403\nHow to sign up and cancellation polic
 y: \nSign up online at:   https://localartisancollective.com/events/soft-s
 tylish-make-your-own-felted-scarf/\nOR In the store located at 2371 Kiesel
  Ave in Ogden.\nOR email us at our_childrens_earth@yahoo.com and we can se
 nd you an invoice for payment.\nCancellation for the class is accepted up 
 until 7 days before the party starts.\nAges:\nAll Ages\nWho:\nThis class i
 s taught by Stephanie Howerton from Our Children’s Earth. She has always h
 ad a passion for creating things. She loves marbling\, hand dyeing and cre
 ating clothes\, jewelry and household items.  She says “My heart delights 
 in creating something new so I tend to explore a variety of arts. I hope t
 hat you feel that same joy while using your new purchase.”\nWe have been f
 eatured in the Huffington Post\, Fresh Living KUTV 2 News\, VEIN Magazine\
 , Indie Ogden\, Standard Examiner\, Good Things Utah\, Fox 13 News and a v
 ariety of blogs and more.\nStephanie also teaches a wide variety of classe
 s at The Local Artisan Collective.
DTSTART;TZID=America/Denver:20260330T190000
DTEND;TZID=America/Denver:20260330T210000
LOCATION:The Local Artisan Collective\, 2371 Kiesel Ave.\, Ogden\, UT 84403
  US
SUMMARY:Soft & Stylish: Make Your Own Felted Scarf
END:VEVENT
END:VCALENDAR
