BEGIN:VCALENDAR
VERSION:2.0
PRODID:-//uwnu.org//NONSGML kigkonsult.se iCalcreator 2.30.10//
CALSCALE:GREGORIAN
METHOD:PUBLISH
UID:1391e8f5-030f-4d0a-9258-151bf15b8274
X-WR-CALDESC:What: You will making your own little  flock of 6 gourd chicke
 ns. It will be a fun evening of crafting with  small Tennessee Spinner gou
 rds (2-3 inches tall) and epoxy clay.  After you have fashioned your chick
 en then you will paint and decorate your creation.  At the end of the clas
 s you will have your own flock of tiny chickens to care for.   All materia
 ls will be supplied!\n\nWhen:  April 1\, 2026-Wednesday   6\;00-9:00 PM\n
 \nWhere: The Local Artisan Collective located at 2371 Kiesel Ave. Ogden\n
 \nCost: $40.00\n\nHow to sign up: https://localartisancollective.com/event
 s/chicken-little-and-friends-april-1-2026-taught-by-jana-nan-poulsen-class
 room-40/You can come into the store or call the store to sign up (801) 399
 -2787.\n\nAge: High School and up\n\nWho: Jana (Nan)  Poulsen  I am a reti
 red teacher who enjoyes teaching art.  I grow the gourds that I use in my 
 art and will be sharing them with you.  Beware- Gourd Art is addictive!\n
 \nCancellation is accepted up to 7 days before the class
X-WR-RELCALID:9530b693d166415e51172f67f3aa0722
X-WR-TIMEZONE:America/Denver
BEGIN:VTIMEZONE
TZID:America/Denver
BEGIN:STANDARD
TZNAME:MST
DTSTART:20251102T020000
TZOFFSETFROM:-0600
TZOFFSETTO:-0700
RDATE:20261101T020000
END:STANDARD
BEGIN:DAYLIGHT
TZNAME:MDT
DTSTART:20260308T020000
TZOFFSETFROM:-0700
TZOFFSETTO:-0600
RDATE:20270314T020000
END:DAYLIGHT
END:VTIMEZONE
BEGIN:VEVENT
UID:fa350096-bf3c-4b36-86a7-333a55d81c8d
DTSTAMP:20260422T063922Z
DESCRIPTION:What: You will making your own little  flock of 6 gourd chicken
 s. It will be a fun evening of crafting with  small Tennessee Spinner gour
 ds (2-3 inches tall) and epoxy clay.  After you have fashioned your chicke
 n then you will paint and decorate your creation.  At the end of the class
  you will have your own flock of tiny chickens to care for.   All material
 s will be supplied!\n\nWhen:  April 1\, 2026-Wednesday   6\;00-9:00 PM\n\n
 Where: The Local Artisan Collective located at 2371 Kiesel Ave. Ogden\n\nC
 ost: $40.00\n\nHow to sign up: https://localartisancollective.com/events/c
 hicken-little-and-friends-april-1-2026-taught-by-jana-nan-poulsen-classroo
 m-40/You can come into the store or call the store to sign up (801) 399-27
 87.\n\nAge: High School and up\n\nWho: Jana (Nan)  Poulsen  I am a retired
  teacher who enjoyes teaching art.  I grow the gourds that I use in my art
  and will be sharing them with you.  Beware- Gourd Art is addictive!\n\nCa
 ncellation is accepted up to 7 days before the class
DTSTART;TZID=America/Denver:20260401T180000
DTEND;TZID=America/Denver:20260401T210000
LOCATION:The Local Artisan Collective\, 2371 Kiesel Ave.\, Ogden\, UT 84403
  US
SUMMARY:Chicken Little and Friends
END:VEVENT
END:VCALENDAR
